BEGIN:VCALENDAR
VERSION:2.0
PRODID:-//ASHRAE - ECPv6.15.17.1//NONSGML v1.0//EN
CALSCALE:GREGORIAN
METHOD:PUBLISH
X-ORIGINAL-URL:https://ashraemontreal.org
X-WR-CALDESC:Événements pour ASHRAE
REFRESH-INTERVAL;VALUE=DURATION:PT1H
X-Robots-Tag:noindex
X-PUBLISHED-TTL:PT1H
BEGIN:VTIMEZONE
TZID:America/Montreal
BEGIN:DAYLIGHT
TZOFFSETFROM:-0500
TZOFFSETTO:-0400
TZNAME:EDT
DTSTART:20180311T070000
END:DAYLIGHT
BEGIN:STANDARD
TZOFFSETFROM:-0400
TZOFFSETTO:-0500
TZNAME:EST
DTSTART:20181104T060000
END:STANDARD
BEGIN:DAYLIGHT
TZOFFSETFROM:-0500
TZOFFSETTO:-0400
TZNAME:EDT
DTSTART:20190310T070000
END:DAYLIGHT
BEGIN:STANDARD
TZOFFSETFROM:-0400
TZOFFSETTO:-0500
TZNAME:EST
DTSTART:20191103T060000
END:STANDARD
BEGIN:DAYLIGHT
TZOFFSETFROM:-0500
TZOFFSETTO:-0400
TZNAME:EDT
DTSTART:20200308T070000
END:DAYLIGHT
BEGIN:STANDARD
TZOFFSETFROM:-0400
TZOFFSETTO:-0500
TZNAME:EST
DTSTART:20201101T060000
END:STANDARD
BEGIN:DAYLIGHT
TZOFFSETFROM:-0500
TZOFFSETTO:-0400
TZNAME:EDT
DTSTART:20210314T070000
END:DAYLIGHT
BEGIN:STANDARD
TZOFFSETFROM:-0400
TZOFFSETTO:-0500
TZNAME:EST
DTSTART:20211107T060000
END:STANDARD
BEGIN:DAYLIGHT
TZOFFSETFROM:-0500
TZOFFSETTO:-0400
TZNAME:EDT
DTSTART:20220313T070000
END:DAYLIGHT
BEGIN:STANDARD
TZOFFSETFROM:-0400
TZOFFSETTO:-0500
TZNAME:EST
DTSTART:20221106T060000
END:STANDARD
BEGIN:DAYLIGHT
TZOFFSETFROM:-0500
TZOFFSETTO:-0400
TZNAME:EDT
DTSTART:20230312T070000
END:DAYLIGHT
BEGIN:STANDARD
TZOFFSETFROM:-0400
TZOFFSETTO:-0500
TZNAME:EST
DTSTART:20231105T060000
END:STANDARD
BEGIN:DAYLIGHT
TZOFFSETFROM:-0500
TZOFFSETTO:-0400
TZNAME:EDT
DTSTART:20240310T070000
END:DAYLIGHT
BEGIN:STANDARD
TZOFFSETFROM:-0400
TZOFFSETTO:-0500
TZNAME:EST
DTSTART:20241103T060000
END:STANDARD
BEGIN:DAYLIGHT
TZOFFSETFROM:-0500
TZOFFSETTO:-0400
TZNAME:EDT
DTSTART:20250309T070000
END:DAYLIGHT
BEGIN:STANDARD
TZOFFSETFROM:-0400
TZOFFSETTO:-0500
TZNAME:EST
DTSTART:20251102T060000
END:STANDARD
END:VTIMEZONE
BEGIN:VEVENT
DTSTART;TZID=America/Montreal:20190501T000000
DTEND;TZID=America/Montreal:20240501T000000
DTSTAMP:20260422T101612
CREATED:20240922T173754Z
LAST-MODIFIED:20240926T010030Z
UID:15748-1556668800-1714521600@ashraemontreal.org
SUMMARY:Remise des candidatures Méritas ASHRAE - réfrigération 2019
DESCRIPTION:Remise des projets pour les candidatures des deux prix suivants : \n\n« Milton W. Garland Commemorative Award for Project Excellence » et\n« Refrigeration Comfort Cooling Award for Project Excellence »\n\nDate limite : 1 mai 2019. \nEn savoir + \n\nINFO\n\n\n\n\nLes candidats doivent compléter le formulaire ci-dessous et autres documents (voir En savoir+) et faire parvenir le tout par courriel (en anglais) à : \namorts@ashrae.net et en copie à Daniel Robert (drobert@kolostat.com) ou notre responsable CTTC aux coordonnées ci-contre. \nSoit au personnel de liaison du Comité de Réfrigération (Refrigeration Committee Staff Liaison ) avant le 1 mai 2019 et en copie au RVC CTTC de la région (Daniel Robert) pour être considérées pour la compétition de cette année. \nAward Submission Form > \n\n\nContactez votre comité CTTC \nComité CTTC \n\n\n\n 
URL:https://ashraemontreal.org/evenements-en-details/remise-des-candidatures-meritas-ashrae-refrigeration-2019_117/
LOCATION:Québec
CATEGORIES:Professionnels
ATTACH;FMTTYPE=image/jpeg:https://ashraemontreal.org/wp-content/uploads/2024/09/garlandmiltonaward_imageweb.jpg
END:VEVENT
BEGIN:VEVENT
DTSTART;TZID=America/Montreal:20190619T081500
DTEND;TZID=America/Montreal:20240619T103000
DTSTAMP:20260422T101612
CREATED:20240922T173753Z
LAST-MODIFIED:20240925T020242Z
UID:15742-1560932100-1718793000@ashraemontreal.org
SUMMARY:Déjeuner-causerie – Juin 2019
DESCRIPTION:L’IMPACT FÉMININ DANS LE DOMAINE DE LA MÉCANIQUE DU BÂTIMENT\nComment l’écart entre la représentation féminine et masculine en mécanique du bâtiment affecte notre travail de tous les jours ? L’entrepreneuriat n’est-il que pour les hommes ? Parlons des avantages de l’implication des femmes compétentes dans le domaine et venez discuter du sujet avec nos trois panélistes. \nLes activités WIA vous sont présentées avec la collaboration spéciale de : \n \n\n  \n\n\n \n  \n\n\nGeneviève Lussier\, ing.\nPrésidente et associée principale\nEequinox \nGenevieve Lussier est présidente et associée principale chez Eequinox et possède plus de 18 ans d’expérience en réalisation de projets d’efficacité énergétique dans les bâtiments institutionnels\, commerciaux et industriels. Diplômée de Polytechnique en 2001\, elle s’est jointe à l’équipe de Enerpro\, puis a fondé Eequinox\, une firme spécialisée en efficacité énergétique\, en 2019 avec trois associés. Grâce à un encadrement professionnel exceptionnel\, elle a aujourd’hui des connaissances techniques approfondies dans le domaine de l’efficacité énergétique. En tant qu’associée principale\, Mme Lussier est impliquée activement dans la conception\, ainsi que la formation continue et du transfert de connaissances auprès de ses collègues chez Eequinox. \nMme Lussier est également très active comme bénévole au sein de l’organisation ASHRAE depuis 2002. Elle a commencé par occuper le poste de responsable du comité des activités étudiantes et a même été présidente du chapitre de Montréal en 2009. Elle occupe présentement le poste de vice-responsable du comité membre (RVC) de la Région II de la Société. \n  \n\n\n\n\n \n\n\nSylvie Demontigny\, ing.\nChargée de projets d’ingénierie en gestion immobilière\nMouvement Desjardins \nEn 1998\, après des études en administration et 10 ans de gestion de projet dans le domaine de la construction résidentielle\, Sylvie Demontigny a entrepris un baccalauréat en génie mécanique à l’École Polytechnique de Montréal. Elle a débuté sa carrière dans l’équipe de développement des procédés d’assemblage automatisés de Nortel Networks à une époque où les projets se multipliaient! Après la fermeture de Nortel\, elle a poursuivi son travail en développement des procédés de fabrication pendant près de deux ans. Finalement\, le domaine de la construction institutionnelle est sorti de la période des coupures budgétaires. Il y avait enfin des projets à réaliser\, ce qui lui a permis d’obtenir un poste de conceptrice en mécanique du bâtiment chez Axor Experts-Conseils au moment où l’efficacité énergétique était devenue le mot à la mode! Après 8 ans comme conceptrice principale et chargée de projet d’ingénierie en génie-conseil\, une opportunité s’est présentée au Mouvement Desjardins en 2014 et le défi l’a séduit. La grandeur du parc immobilier\, près de 15 millions de pi2 et la diversité des immeubles que Desjardins occupe sont impressionnants. Elle y occupe maintenant le poste de Conseillère principale en ingénierie de bâtiment pour le Mouvement Desjardins et agit à titre d’experte interne sur tous les grands projets immobiliers de Desjardins au Canada. \n\n\n  \n\n\n\n \n  \n\n\nSandrine Tremblay\, ing.\nSpécialiste en infrastructure énergétique\nKrome Services inc. \nAyant 16 années d’expérience dans la construction\, la mécanique du bâtiment et l’ingénierie\, Sandrine Tremblay a trouvé tout naturel de fonder KROME services en janvier 2016. \nElle a œuvré 13 ans en efficacité énergétique où elle s’est servie de son expertise afin de créer de la valeur dans les bâtiments de ses clients et réduire leur empreinte carbone. \nKROME est spécialisé dans la conception et la construction de projets électromécaniques novateurs et rentables grâce aux économies d’énergie et aux subventions. \n\n\n\n\n Formule interactive et conviviale ! \n\nCLIQUEZ ICI POUR VOUS INSCRIRE   \n\n  \nINFORMATION GÉNÉRALE\nCLIENTÈLE VISÉE: ouvert à toutes les femmes de carrière peu importe votre profession. Invitez vos collègues\, clientes et amies! \nHORAIRE DÉTAILLÉ DE L’ÉVÈNEMENT \n\n8 h 15 à  8 h 30 – Accueil\n8 h 30 à  9 h 30  – Déjeuner et table ronde\n9 h 30 à 10 h 30 – Réseautage\n\n  \nTARIFICATION (taxes en sus) \n\n\n\nMEMBRE \n\nMembre ASHRAE Montréal (chapitre) : 25 $\nMembre ÉTUDIANT ASHRAE* (temps plein) :  : 25 $ PROMO : 13 $\n\n\n\n\n\nNON-MEMBRE \n\nNon-membre : 30 $\n\nÉtudiant non-membre (temps plein) :  : 25 $ PROMO : 13 $\n\n\n\n\n* Lors de l’inscription\, choisir le billet « Membre ASHRAE Montréal » pour vous prévaloir de ce tarif. \n\n  \nLIEU : ÉCOLE DES MÉTIERS DE LA RESTAURATION ET DU TOURISME DE MONTRÉAL \n\n1822 boulevard de Maisonneuve Ouest\, Montréal (Québec) H3H 1J8 \nAttention : Veuillez nous aviser de toute allergie ou intolérance alimentaire lors de l’inscription. \nCLIQUEZ ICI POUR VOUS INSCRIRE   \n\n  \n\n\nAvantages WIA \n\n\nÉvénements exclusifs WIA \n\n\n  \nLes déjeuners-causeries et les activités sont réservés uniquement aux femmes. Le comité WIA invite ses membres féminins et toutes les professionnelles de tous les milieux à y participer.
URL:https://ashraemontreal.org/evenements-en-details/dejeuner-causerie-juin-2019_124/
LOCATION:École des métiers de la restauration et du tourisme de Montréal\, 1822 boulevard de Maisonneuve Ouest\, Montréal\, Québec\, H3H 1J8\, Canada
CATEGORIES:WIA
ATTACH;FMTTYPE=image/jpeg:https://ashraemontreal.org/wp-content/uploads/2024/04/evenements-wia.jpg
END:VEVENT
BEGIN:VEVENT
DTSTART;TZID=America/Montreal:20200511T130000
DTEND;TZID=America/Montreal:20240511T144500
DTSTAMP:20260422T101612
CREATED:20240922T173752Z
LAST-MODIFIED:20240924T224941Z
UID:15720-1589202000-1715438700@ashraemontreal.org
SUMMARY:Webinaire ASHRAE Montréal du 11 mai 2020
DESCRIPTION:Mettant en vedette\, le conférencier Joël Primeau\, le Chapitre de Montréal désire redonner à ses membres en vous offrant son premier webinaire gratuit organisé par le chapitre mais offert à tous. 1000 places disponibles ! \n\n  \nCONFÉRENCE PRINCIPALE (vers 13 H 05)\n  \nCette présentation sera présentée en français seulement.    \nSUJET : Pour bien réussir Un projet en mécanique du bâtiment\, il faut commencer par un bon  « OPR«  \nLes projets en mécanique du bâtiment déçoivent parfois les architectes\, les propriétaires\, les occupants\, les équipes d’entretien et d’exploitation. Comment peut-on améliorer nos chances de réussites en tant qu’ingénieurs mécaniques?  Cette conférence expliquera comment partir un projet du bon pied avec un document essentiel à la mise en service\, c’est-à-dire le OPR (owner’s project requirements)\,soit les exigences du propriétaire pour le projet.  Le OPR\, tel qu’il est décrit dans les guides de l’ASHRAE\, fournit les informations nécessaires pour que l’équipe de conception puisse compléter les documents d’appel d’offres en confiance. Trop souvent quand un projet n’a pas d’OPR\, celui-ci dévie des vrais objectifs du client et ne répond plus adéquatement à ses attentes.  Cette présentation confirmera le besoin de bien cerner les enjeux du projet\, et expliquera comment les enregistrer dans un OPR pour maximiser les chances de succès de l’ingénieur mécanique. \n\n  \n\n\n \n\n\nJoël PRIMEAU \, ing.\, P. Eng.\,PA LEED\, HBDP \nChef ingénieur mécanique\, J.L. Richards and Associates\, Ottawa \nJoël Primeau œuvre dans le domaine du CVAC depuis plus de 30 ans. Communicateur passionné\, il présente régulièrement des conférences animées sur la qualité de l’air\, l’efficacité énergétique et les bâtiments durables. Il a aussi développé le très populaire cours HVAC Design Essentials de l’ASHRAE qu’il a présenté à des professionnels de Los Angeles à Dubaï.  Il est présentement Ingénieur mécanique en chef chez J.L.Richards à Ottawa où il mène une équipe de près 75 techniciens et ingénieurs dans 6 bureaux différents pour des projets oeuvrant dans les secteurs du bâtiment commercial\, minier\, industriel et programme d’implantaion environnemental. \n  \n\n\n\nCLIQUEZ ICI POUR VOUS INSCRIRE AU  WEBINAIRE \nINSCRPTION AVANT LE 10 MAI POUR CONSIDÉRATIONS TECHNIQUES \n Les places sont limitées à 1000 pour tous les chapitres de la région 2 (Est du Canada) \n\n  \nINFORMATION GÉNÉRALE\nPROGRAMME \nHoraire approximatif \n\n12 h 45  à 13 h 00  –   Connexion et annonces\n13 h 00  à 13 h 05  –   Accueil et mot de bienvenue\n13 h 05  à 14 h 05  –  Conférence principale et période de questions\n14 h 05  à 14 h 10 –   Allocution de fermeture\n\nACTIVITÉ GRATUITE  –  Cependant\, nous vous encourageons\, si vous le pouvez\, à faire un don à ASHRAE Research Canada. \nCertificat : Un certificat de participation attestant 1 heure de formation continue sera envoyé par courriel aux participants suite à la confirmation de leurs participations après l’événement. \nÉvaluation : Puisqu’il s’agira d’une première pour le chapitre de Montréal\, nous apprécierons recevoir votre évaluation et vos commentaires après l’événement afin d’améliorer ce service.
URL:https://ashraemontreal.org/evenements-en-details/webinaire-ashrae-montreal-du-11-mai-2020-157/
LOCATION:Québec
CATEGORIES:Professionnels
ATTACH;FMTTYPE=image/jpeg:https://ashraemontreal.org/wp-content/uploads/2024/09/webinaire_bilingue_generique_2020.jpg
END:VEVENT
BEGIN:VEVENT
DTSTART;TZID=America/Montreal:20210618T000000
DTEND;TZID=America/Montreal:20210618T000000
DTSTAMP:20260422T101612
CREATED:20240922T173750Z
LAST-MODIFIED:20240922T231353Z
UID:15688-1623974400-1623974400@ashraemontreal.org
SUMMARY:Date limite pour la campagne de la levée de fonds 2020-2021
DESCRIPTION:15 juin est la date limite pour faire vos dons ! \nLa dernière année\, nous avons passé une période trouble et incertaine\, mais l’arrivée des vaccins et la relance économique font de notre industrie une des plus fleurissantes actuellement.  L’an dernier\, les membres du comité recherche ont choisi de ne pas vous solliciter étant donné la pandémie qui nous affligeait. Malgré ce fait\, le chapitre a tout de même investi des sommes au niveau de la recherche\, mais aussi au niveau de la relève en créant un nouveau fonds à la société (ASHRAE Foundation) afin de remettre davantage de bourses étudiantes . \n  \nFAIRE UN DON EN LIGNE à chacune de ces deux ORGANISMES (en dollars canadiens)\nVous pouvez déjà contribuer\, que ce soit à titre personnel ou corporatif\, en utilisant les liens qui suit : \n\n\nFaites un don\nASHRAE RESEARCH Canada\n  \nDon en ligne – RECHERCHE  \n\n\nFaites un don\nASHRAE FOUNDATION\n  \nDon en ligne – BOURSES ÉTUDIANTES \n\n  \n\nASHRAE Research Canada  sachant que vous pourrez  bénéficier de ces dons dans vos projets futurs. Pour en savoir plus\, consultez la page web suivante ou dans le journal Le Montréaler de mai 2021. \nASHRAE FOUNDATION un montant important de 5 % sera remis chaque année pour la relève de demain. \n\nÉmettre un don par chèque\nQuelques particularités à tenir compte : \n\nRECHERCHE\n  \nATTENTION  CHÈQUE  POUR LA RECHERCHE  –  SI VOUS ÉMETTEZ UN DON PAR CHÈQUE : Assurez-vous qu’il soit parvenu dans les mains de Francis Lacharité au plus tard le 15 juin à 16h à l’adresse ci-dessous en dollars canadiens. \n\nASHRAE Research Canada \n \nFrancis Lacharité (SERL)\n1280 Rue Graham-Bell\, \nBoucherville \, QC\nJ4B 6H5\n\nTéléphone : 514-581-7401 \n\n\nBOURSES ÉTUDIANTES\n  \nATTENTION  CHÈQUE  POUR LES BOURSES –  SI VOUS ÉMETTEZ UN DON PAR CHÈQUE : Assurez-vous qu’il soit parvenu dans les mains de Francis Lacharité au plus tard le 15 juin à 16h à l’adresse ci-dessous. \nUS $ – Émettre le chèque libellé au nom de « ASHRAE Foundation » (montant en dollars américains seulement) \nCAN $ – Émettre le chèque libellé au nom de « ASHRAE Montréal » (montant en dollars canadiens) et faites une inscription via notre site web en ligne. Le Chapitre remettra le montant à ASHRAE Foundation équivalent en dollars américains à votre nom. \n\nLevées de fonds ASHRAE 2021 \nFrancis Lacharité (SERL)\n1280 Rue Graham-Bell\, \nBoucherville \, QC\nJ4B 6H5\n\nTéléphone : 514-581-7401 \n\n  \nMerci à l’avance !
URL:https://ashraemontreal.org/evenements-en-details/date-limite-pour-la-campagne-de-la-levee-de-fonds-2020-2021/
LOCATION:Québec
CATEGORIES:Professionnels
ATTACH;FMTTYPE=image/jpeg:https://ashraemontreal.org/wp-content/uploads/2024/09/img_recherche.jpg
END:VEVENT
BEGIN:VEVENT
DTSTART;TZID=America/Montreal:20210622T070000
DTEND;TZID=America/Montreal:20210622T084500
DTSTAMP:20260422T101612
CREATED:20240922T173750Z
LAST-MODIFIED:20240922T230723Z
UID:15687-1624345200-1624351500@ashraemontreal.org
SUMMARY:Réseautage WIA en plein-air - Juin 2021
DESCRIPTION:Une dernière rencontre de la saison mais EN PERSONNE…ENFIN! \nSarah Brisson Legault est kinésiologue et Marie-Ève Thivierge est professeure de yoga holistique. Ensemble\, elles ont crée la formule Hybride qui réunit entrainement et yoga\, une classe sans compromis entre énergie et douceur\, toujours dans le plaisir et l’accueil de soi. C’est l’équilibre dans le mouvement qu’elles souhaitent pour elles-mêmes et qu’elles vous offrent avec bienveillance et authenticité. \nLe comité WIA a pensé offrir aux femmes cette activité agréable pour terminer la saison en beauté et enfin avoir la chance de réseauter en personne. Nous nous rejoignons cette fois-ci dans un parc de Montréal afin de participer à une séance de yoga hybride en plein-air. Venez faire la découverte de cette activité et les renconter en personne. Une très belle façon de débuter cette journée. \nLes activités WIA vous sont présentées avec la collaboration spéciale de : \n \n\nInvitées spéciales: \n\n\n \nMarie-Ève Thivierge et Sarah Brisson Legault \n\n\nSARAH BRISSON LEGAULT\, kinésiologue et\nMarie-ÈVE Thivierge\, professeurE de yoga holistique\nHybride Collective \nC’est avec honneur et grand plaisir qu’elles prépareront un cours sur mesure pour faire découvrir cette pratique. À bientôt ! Shanti ! \n\n\n\nFormule conviviale ! \nCLIQUEZ ICI POUR VOUS INSCRIRE   \nDATE LIMITE : 21 JUIN 2021 \n\n  \nINFORMATION GÉNÉRALE\nCLIENTÈLE VISÉE: ouvert à toutes les femmes de carrière peu importe votre profession. Pour l’instant les places sont limitées en raison des restrictions actuelles et conformément aux exigences de la Santé publique du Québec. Nous devrions pouvoir étendre à un maximum de 25 personnes d’ici cette date si tout se déroule selon le plan de déconfinement. Si nous avons de la place pour toutes\, invitez vos collègues\, clientes et amies! Cela nous fera plaisir. \nHORAIRE DÉTAILLÉ DE L’ÉVÈNEMENT \n\n7 h 00 à 7 h 30 – Accueil et réseautage*\n7 h 30 à 8 h 30 – Yoga hybride (entraînement et yoga)*\n8 h 30  à 8 h 45 – Réseautage*\n\n* le tout s’effectuera selon les règles de la Santé publique. \n  \nTARIFICATION (taxes en sus) \n\n\n\nMEMBRE \n\nMembre ASHRAE Montréal (chapitre) : 10$\nMembre ÉTUDIANT ASHRAE (temps plein) : 10$\nOu Utilisez votre forfait WIA flexible exclusif aux membres à meilleur coût ci-dessous\n\nForfaits exclusifs aux membres  (professionnels – saison 2020-2021) \nEn savoir + \n\n\n\n\n\nNON-MEMBRE \n\nNon-membre : 20 $\n\nÉtudiant non-membre  (temps plein): 8 $\n\n Devenir membre\nc’est très avantageux!  \n\n\n\n  \nLIEU : PARC Sir-Wilfrid-Laurier\n1115\, avenue Laurier Est\, Montréal (Québec) H2J 1G8 \nPoint de rassemblement (avec distanciation) : Face au bâtiment situé au 5191 rue Brébeuf\, Montréal \nAttention : Une décharge de responsabilité ainsi qu’un formulaire COVID-19 devront être signés par toutes les participantes avant l’événement. Si vous avez des questions concernant l’activité\, veuillez communiquez avec nous. \nMétéo : N’oubliez pas vos vêtements adaptés pour la température\, une bouteille d’eau et votre tapis de yoga / exercice. Le cours sera adapté pour votre confort. Si la météo n’est pas propice\, les participantes seront avisées et l’activité sera reportée au lendemain\, soit le 23 juin à la même heure. \n  \n CLIQUEZ ICI POUR VOUS INSCRIRE   \nDATE LIMITE : 21 juin 2021\n\n  \n\n\nAvantages WIA \n\n\nÉvénements exclusifs WIA \n\n\n  \nLes activités WIA sont réservés uniquement aux femmes. Le comité WIA invite ses membres féminins et toutes les professionnelles de tous les milieux à y participer.
URL:https://ashraemontreal.org/evenements-en-details/reseautage-wia-en-plein-air-214/
LOCATION:Parc Sir-Wilfrid-Laurier\, 1115\, avenue Laurier Est\, Montréal\, Québec\, H2J 1G8\, Canada
CATEGORIES:WIA
ATTACH;FMTTYPE=image/jpeg:https://ashraemontreal.org/wp-content/uploads/2024/04/evenements-wia.jpg
END:VEVENT
BEGIN:VEVENT
DTSTART;TZID=America/Montreal:20210625T000000
DTEND;TZID=America/Montreal:20210625T000000
DTSTAMP:20260422T101612
CREATED:20240922T173750Z
LAST-MODIFIED:20240930T225019Z
UID:15686-1624579200-1624579200@ashraemontreal.org
SUMMARY:Renouvellement de votre adhésion ASHRAE
DESCRIPTION:Ce message s’adresse principalement aux membres dont l’adhésion se termine le 30 juin et … \nAprès votre date d’échéance\, vous avez 3 mois pour renouveler sans perdre votre statut. En renouvelant tôt en juin\, vous évitez les augmentations de tarification\, vous vous simplifiez la tâche et vous encouragez vos bénévoles de votre chapitre. \nLes frais d’adhésions fluctuent souvent au 1 juillet\, faites-le bien avant afin d’éviter l’augmentation. \nProfitez de l’occasion pour: \n\nVérifier votre date d’échéance\nRenouveler à la Société « Society Dues »\nPayer  votre renouvellement au chapitre « Montreal Chapter Dues »\nMettre vos coordonnées\, informations scolaires et professionnelles à jour.\n\n  Renouveler maintenant via la Société \nVeuillez le faire exclusivement sur ce lien. Merci. \n Si vous l’avez déjà fait\, nous vous en remercions. \nMême en temps de COVID\, les comités travaillent très fort actuellement et ont très hâte de vous présenter la programmation de la nouvelle saison qui vous sera dévoilée cet été. Restez à l’affût ! \nSi vous avez des questions\, contactez-nous.
URL:https://ashraemontreal.org/evenements-en-details/renouvellement-de-votre-adhesion-ashrae-215/
LOCATION:Québec
CATEGORIES:Professionnels
ATTACH;FMTTYPE=image/jpeg:https://ashraemontreal.org/wp-content/uploads/2024/09/default-event-home-1.jpg
END:VEVENT
BEGIN:VEVENT
DTSTART;TZID=America/Montreal:20210628T000000
DTEND;TZID=America/Montreal:20210630T000000
DTSTAMP:20260422T101612
CREATED:20240922T173749Z
LAST-MODIFIED:20240922T195701Z
UID:15684-1624838400-1625011200@ashraemontreal.org
SUMMARY:Conférence annuelle ASHRAE 2021
DESCRIPTION:En plus\, un cours de formation sur la ventilation intérieure et le Standard 62.1 GRATUIT… \nLes incontournables rendez-vous annuels mais en format virtuel\nLa conférence d’été de l’ASHRAE approche à grands pas\, étant entièrement virtuelle\, c’est une excellente occasion de participer à très faible coût; les membres s’inscrivent pour seulement 285 $ US. \nÀ quoi s’attendre :\n\nDeux jours remplis d’apprentissage et de discussions en direct avec les meilleurs experts;\n\nNOUVEAUTÉ :\n\nLes participants peuvent assister gratuitement à un cours du ASHRAE Learning Institute d’une durée de 3 heures : Indoor Air Quality and ASHRAE Standard 62.1 le 30 juin en direct seulement.\n\n\nEt beaucoup plus encore !\n\nC’est aussi le moment idéal pour explorer et étudier vos intérêts pour les comités techniques\, les comités de base et divers autres comités. Assistez et voyez à quel point c’est captivant. \nSaviez-vous que ? \nIl y a 125 ans avait lieu le premier « Annual Meeting » d’ASHVE en juin 1896. Lisez sur l’histoire des 125 ans de l’ASHRAE. \n\n\n\nINFO\n\n\n\n\nDétails sur le site de la Société \nINSCRIVEZ-VOUS RAPIDEMENT ! \nVoyez les nouveautés et le cours du ASHRAE Learning Institute GRATUIT portant sur le Standard 62.1 \nConsulter le site et inscriptions \n\n\nPAR TÉLÉPHONE \nT. 404 836-8400 \n\n\n\n 
URL:https://ashraemontreal.org/evenements-en-details/conference-annuelle-ashrae-2021-217/
LOCATION:Québec
CATEGORIES:Professionnels
ATTACH;FMTTYPE=image/png:https://ashraemontreal.org/wp-content/uploads/2024/09/ashraeannualmeeting2021.png
END:VEVENT
END:VCALENDAR