BEGIN:VCALENDAR
VERSION:2.0
PRODID:-//ASHRAE - ECPv6.15.17.1//NONSGML v1.0//EN
CALSCALE:GREGORIAN
METHOD:PUBLISH
X-WR-CALNAME:ASHRAE
X-ORIGINAL-URL:https://ashraemontreal.org
X-WR-CALDESC:Événements pour ASHRAE
REFRESH-INTERVAL;VALUE=DURATION:PT1H
X-Robots-Tag:noindex
X-PUBLISHED-TTL:PT1H
BEGIN:VTIMEZONE
TZID:America/Montreal
BEGIN:DAYLIGHT
TZOFFSETFROM:-0500
TZOFFSETTO:-0400
TZNAME:EDT
DTSTART:20180311T070000
END:DAYLIGHT
BEGIN:STANDARD
TZOFFSETFROM:-0400
TZOFFSETTO:-0500
TZNAME:EST
DTSTART:20181104T060000
END:STANDARD
BEGIN:DAYLIGHT
TZOFFSETFROM:-0500
TZOFFSETTO:-0400
TZNAME:EDT
DTSTART:20190310T070000
END:DAYLIGHT
BEGIN:STANDARD
TZOFFSETFROM:-0400
TZOFFSETTO:-0500
TZNAME:EST
DTSTART:20191103T060000
END:STANDARD
BEGIN:DAYLIGHT
TZOFFSETFROM:-0500
TZOFFSETTO:-0400
TZNAME:EDT
DTSTART:20200308T070000
END:DAYLIGHT
BEGIN:STANDARD
TZOFFSETFROM:-0400
TZOFFSETTO:-0500
TZNAME:EST
DTSTART:20201101T060000
END:STANDARD
BEGIN:DAYLIGHT
TZOFFSETFROM:-0500
TZOFFSETTO:-0400
TZNAME:EDT
DTSTART:20210314T070000
END:DAYLIGHT
BEGIN:STANDARD
TZOFFSETFROM:-0400
TZOFFSETTO:-0500
TZNAME:EST
DTSTART:20211107T060000
END:STANDARD
BEGIN:DAYLIGHT
TZOFFSETFROM:-0500
TZOFFSETTO:-0400
TZNAME:EDT
DTSTART:20220313T070000
END:DAYLIGHT
BEGIN:STANDARD
TZOFFSETFROM:-0400
TZOFFSETTO:-0500
TZNAME:EST
DTSTART:20221106T060000
END:STANDARD
BEGIN:DAYLIGHT
TZOFFSETFROM:-0500
TZOFFSETTO:-0400
TZNAME:EDT
DTSTART:20230312T070000
END:DAYLIGHT
BEGIN:STANDARD
TZOFFSETFROM:-0400
TZOFFSETTO:-0500
TZNAME:EST
DTSTART:20231105T060000
END:STANDARD
BEGIN:DAYLIGHT
TZOFFSETFROM:-0500
TZOFFSETTO:-0400
TZNAME:EDT
DTSTART:20240310T070000
END:DAYLIGHT
BEGIN:STANDARD
TZOFFSETFROM:-0400
TZOFFSETTO:-0500
TZNAME:EST
DTSTART:20241103T060000
END:STANDARD
BEGIN:DAYLIGHT
TZOFFSETFROM:-0500
TZOFFSETTO:-0400
TZNAME:EDT
DTSTART:20250309T070000
END:DAYLIGHT
BEGIN:STANDARD
TZOFFSETFROM:-0400
TZOFFSETTO:-0500
TZNAME:EST
DTSTART:20251102T060000
END:STANDARD
END:VTIMEZONE
BEGIN:VEVENT
DTSTART;TZID=America/Montreal:20190501T000000
DTEND;TZID=America/Montreal:20240501T000000
DTSTAMP:20260423T095150
CREATED:20240922T173754Z
LAST-MODIFIED:20240926T010030Z
UID:15748-1556668800-1714521600@ashraemontreal.org
SUMMARY:Remise des candidatures Méritas ASHRAE - réfrigération 2019
DESCRIPTION:Remise des projets pour les candidatures des deux prix suivants : \n\n« Milton W. Garland Commemorative Award for Project Excellence » et\n« Refrigeration Comfort Cooling Award for Project Excellence »\n\nDate limite : 1 mai 2019. \nEn savoir + \n\nINFO\n\n\n\n\nLes candidats doivent compléter le formulaire ci-dessous et autres documents (voir En savoir+) et faire parvenir le tout par courriel (en anglais) à : \namorts@ashrae.net et en copie à Daniel Robert (drobert@kolostat.com) ou notre responsable CTTC aux coordonnées ci-contre. \nSoit au personnel de liaison du Comité de Réfrigération (Refrigeration Committee Staff Liaison ) avant le 1 mai 2019 et en copie au RVC CTTC de la région (Daniel Robert) pour être considérées pour la compétition de cette année. \nAward Submission Form > \n\n\nContactez votre comité CTTC \nComité CTTC \n\n\n\n 
URL:https://ashraemontreal.org/evenements-en-details/remise-des-candidatures-meritas-ashrae-refrigeration-2019_117/
LOCATION:Québec
CATEGORIES:Professionnels
ATTACH;FMTTYPE=image/jpeg:https://ashraemontreal.org/wp-content/uploads/2024/09/garlandmiltonaward_imageweb.jpg
END:VEVENT
BEGIN:VEVENT
DTSTART;TZID=America/Montreal:20190619T081500
DTEND;TZID=America/Montreal:20240619T103000
DTSTAMP:20260423T095150
CREATED:20240922T173753Z
LAST-MODIFIED:20240925T020242Z
UID:15742-1560932100-1718793000@ashraemontreal.org
SUMMARY:Déjeuner-causerie – Juin 2019
DESCRIPTION:L’IMPACT FÉMININ DANS LE DOMAINE DE LA MÉCANIQUE DU BÂTIMENT\nComment l’écart entre la représentation féminine et masculine en mécanique du bâtiment affecte notre travail de tous les jours ? L’entrepreneuriat n’est-il que pour les hommes ? Parlons des avantages de l’implication des femmes compétentes dans le domaine et venez discuter du sujet avec nos trois panélistes. \nLes activités WIA vous sont présentées avec la collaboration spéciale de : \n \n\n  \n\n\n \n  \n\n\nGeneviève Lussier\, ing.\nPrésidente et associée principale\nEequinox \nGenevieve Lussier est présidente et associée principale chez Eequinox et possède plus de 18 ans d’expérience en réalisation de projets d’efficacité énergétique dans les bâtiments institutionnels\, commerciaux et industriels. Diplômée de Polytechnique en 2001\, elle s’est jointe à l’équipe de Enerpro\, puis a fondé Eequinox\, une firme spécialisée en efficacité énergétique\, en 2019 avec trois associés. Grâce à un encadrement professionnel exceptionnel\, elle a aujourd’hui des connaissances techniques approfondies dans le domaine de l’efficacité énergétique. En tant qu’associée principale\, Mme Lussier est impliquée activement dans la conception\, ainsi que la formation continue et du transfert de connaissances auprès de ses collègues chez Eequinox. \nMme Lussier est également très active comme bénévole au sein de l’organisation ASHRAE depuis 2002. Elle a commencé par occuper le poste de responsable du comité des activités étudiantes et a même été présidente du chapitre de Montréal en 2009. Elle occupe présentement le poste de vice-responsable du comité membre (RVC) de la Région II de la Société. \n  \n\n\n\n\n \n\n\nSylvie Demontigny\, ing.\nChargée de projets d’ingénierie en gestion immobilière\nMouvement Desjardins \nEn 1998\, après des études en administration et 10 ans de gestion de projet dans le domaine de la construction résidentielle\, Sylvie Demontigny a entrepris un baccalauréat en génie mécanique à l’École Polytechnique de Montréal. Elle a débuté sa carrière dans l’équipe de développement des procédés d’assemblage automatisés de Nortel Networks à une époque où les projets se multipliaient! Après la fermeture de Nortel\, elle a poursuivi son travail en développement des procédés de fabrication pendant près de deux ans. Finalement\, le domaine de la construction institutionnelle est sorti de la période des coupures budgétaires. Il y avait enfin des projets à réaliser\, ce qui lui a permis d’obtenir un poste de conceptrice en mécanique du bâtiment chez Axor Experts-Conseils au moment où l’efficacité énergétique était devenue le mot à la mode! Après 8 ans comme conceptrice principale et chargée de projet d’ingénierie en génie-conseil\, une opportunité s’est présentée au Mouvement Desjardins en 2014 et le défi l’a séduit. La grandeur du parc immobilier\, près de 15 millions de pi2 et la diversité des immeubles que Desjardins occupe sont impressionnants. Elle y occupe maintenant le poste de Conseillère principale en ingénierie de bâtiment pour le Mouvement Desjardins et agit à titre d’experte interne sur tous les grands projets immobiliers de Desjardins au Canada. \n\n\n  \n\n\n\n \n  \n\n\nSandrine Tremblay\, ing.\nSpécialiste en infrastructure énergétique\nKrome Services inc. \nAyant 16 années d’expérience dans la construction\, la mécanique du bâtiment et l’ingénierie\, Sandrine Tremblay a trouvé tout naturel de fonder KROME services en janvier 2016. \nElle a œuvré 13 ans en efficacité énergétique où elle s’est servie de son expertise afin de créer de la valeur dans les bâtiments de ses clients et réduire leur empreinte carbone. \nKROME est spécialisé dans la conception et la construction de projets électromécaniques novateurs et rentables grâce aux économies d’énergie et aux subventions. \n\n\n\n\n Formule interactive et conviviale ! \n\nCLIQUEZ ICI POUR VOUS INSCRIRE   \n\n  \nINFORMATION GÉNÉRALE\nCLIENTÈLE VISÉE: ouvert à toutes les femmes de carrière peu importe votre profession. Invitez vos collègues\, clientes et amies! \nHORAIRE DÉTAILLÉ DE L’ÉVÈNEMENT \n\n8 h 15 à  8 h 30 – Accueil\n8 h 30 à  9 h 30  – Déjeuner et table ronde\n9 h 30 à 10 h 30 – Réseautage\n\n  \nTARIFICATION (taxes en sus) \n\n\n\nMEMBRE \n\nMembre ASHRAE Montréal (chapitre) : 25 $\nMembre ÉTUDIANT ASHRAE* (temps plein) :  : 25 $ PROMO : 13 $\n\n\n\n\n\nNON-MEMBRE \n\nNon-membre : 30 $\n\nÉtudiant non-membre (temps plein) :  : 25 $ PROMO : 13 $\n\n\n\n\n* Lors de l’inscription\, choisir le billet « Membre ASHRAE Montréal » pour vous prévaloir de ce tarif. \n\n  \nLIEU : ÉCOLE DES MÉTIERS DE LA RESTAURATION ET DU TOURISME DE MONTRÉAL \n\n1822 boulevard de Maisonneuve Ouest\, Montréal (Québec) H3H 1J8 \nAttention : Veuillez nous aviser de toute allergie ou intolérance alimentaire lors de l’inscription. \nCLIQUEZ ICI POUR VOUS INSCRIRE   \n\n  \n\n\nAvantages WIA \n\n\nÉvénements exclusifs WIA \n\n\n  \nLes déjeuners-causeries et les activités sont réservés uniquement aux femmes. Le comité WIA invite ses membres féminins et toutes les professionnelles de tous les milieux à y participer.
URL:https://ashraemontreal.org/evenements-en-details/dejeuner-causerie-juin-2019_124/
LOCATION:École des métiers de la restauration et du tourisme de Montréal\, 1822 boulevard de Maisonneuve Ouest\, Montréal\, Québec\, H3H 1J8\, Canada
CATEGORIES:WIA
ATTACH;FMTTYPE=image/jpeg:https://ashraemontreal.org/wp-content/uploads/2024/04/evenements-wia.jpg
END:VEVENT
BEGIN:VEVENT
DTSTART;TZID=America/Montreal:20200201T000000
DTEND;TZID=America/Montreal:20200205T000000
DTSTAMP:20260423T095150
CREATED:20240922T173753Z
LAST-MODIFIED:20240924T233212Z
UID:15730-1580515200-1580860800@ashraemontreal.org
SUMMARY:Conférence hivernale ASHRAE 2020 & AHR Expo
DESCRIPTION:Les incontournables rendez-vous annuels…\nLa plus grande réunion au monde de professionnels dans l’industrie du CVCA-R se déroulera en février à Orlando. Le congrès hivernal d’ASHRAE débute le 1 février et similairement à chaque année\, l’ouverture de l’exposition AHR suivra dans les journées subséquentes.Participez aux réunions de comités techniques\, de nombreux cours et des conférences reconnues.  Rabais pour ceux et celles qui s’inscrivent pour la première fois… \nTarification :\nConsultez la grille de tarification pour les prix spéciaux (Registration Information) \n  \nCongrès\, conférence et bien plus encore… \n  \n\nINFO\n\n\n\n\nDétails sur le site de la Société \nConsulter le site > \n\n\nPAR TÉLÉPHONE \nT. 404 836-8400 \n\n\n\n 
URL:https://ashraemontreal.org/evenements-en-details/conference-annuelle-ashrae-2020_141/
LOCATION:Québec
CATEGORIES:Professionnels
ATTACH;FMTTYPE=image/jpeg:https://ashraemontreal.org/wp-content/uploads/2024/09/orlando_logo_montreal_chapter.jpg
END:VEVENT
BEGIN:VEVENT
DTSTART;TZID=America/Montreal:20200210T171500
DTEND;TZID=America/Montreal:20200210T211500
DTSTAMP:20260423T095150
CREATED:20240922T173753Z
LAST-MODIFIED:20240925T014030Z
UID:15737-1581354900-1581369300@ashraemontreal.org
SUMMARY:Souper-conférence – Février 2020
DESCRIPTION:Une soirée portant sur les subventions énergétiques au Québec et comment initier les systèmes de régulations. En plus\, participez au nouveau concours\, Gagnez votre adhésion au chapitre de Montréal et puisque tous les participants de cette soirée pourront se prévaloir du prix spécial réservé habituellement aux membres lors de l’inscription\, profitez de cette occasion pour inviter des non-membres. Amenez vos collègues\, clients et amis et faites leurs découvrir le chapitre de Montréal. Cette soirée mettra aussi en lumière les membres YEA. \n\nCONCOURS – GAGNEZ VOTRE ADHÉSION AU CHAPITRE DE MONTRÉAL ! \nCinq (5) paires d’adhésion « membre ASHRAE Montréal » pour la saison 2020-2021 seront tirées parmi les membres qui auront invité un ou plusieurs non-membres à ce souper-conférence du 10 février 2020. Voir tous les détails et conditions du concours dans notre Actualité du 13 janvier 2020.  \n\nCONFÉRENCE TECHNIQUE (17H45)\n  \nSUJET :  Les appuis financiers pour un bâtiment écoénergétique \nPour se rallier aux objectifs du gouvernement du Québec de réduire les émissions de gaz à effets de serre de ses citoyens et de ses industries et de réduire sa dépendance énergétique\, les promoteurs\, propriétaires et gestionnaires immobiliers doivent inclure dans leur priorité la performance énergétique de leurs bâtiments. Pour faire figure de leader du marché\, les organisations doivent absolument inclure les appuis financiers parmi les modes de financement de leur activités écoénergétiques et maximiser cette contribution. La conférence portera sur l’approche à utiliser pour maximiser vos montants d’aides financières et sur les pièges à éviter. \n\n  \n\n \n\nChristian Lemieux\,  ing. CMVP \nChargé de projet\nEconoler \nChristian Lemieux\, à titre de chargé de projet en efficacité énergétique chez Econoler\, M. Lemieux contribue à l’analyse\, la planification et le suivi de projets en matière d’efficacité énergétique et de réduction des émissions de GES auprès des clientèles commerciale\, institutionnelle et industrielle. Il accompagne les gestionnaires de bâtiments désirant mettre en œuvre un système de gestion de l’énergie\, un projet d’efficacité énergétique. En tant que tierce partie\, il s’implique dans la négociation contractuelle et la vérification de performance des projets et la quantification de réduction des émissions de GES. Il assiste les entreprises dans l’évaluation de l’admissibilité de leurs projets aux différentes aides financières disponibles au Canada\, ainsi que dans la préparation et le suivi des demandes d’aides financières. \n  \n\n\n\n CONFÉRENCE PRINCIPALE (20 H 00) \nCette présentation est rendue possible grâce à :   \n  \nSUJET : Futureproofing Commercial Buildings: The Unification of Multiple Building Systems \nThe presentation focuses on how to leverage today’s technology to unify multiple systems within a commercial building in order to transition your properties from traditional cost centers into strategic assets.  The presentation also highlights the impacts that unification can have on the occupant experience within these buildings and how IP based infrastructure can be implemented today in a means to make commercial properties “future ready”. \n\n  \n\n\n  \n \n\n\nRyan Sen\,  B. Eng. \nRegional Sales Director\, Canada\nDistech Controls \nRyan Sen\, Having spent most his career within the Distech Controls organization with 15 years of experience in the industry\, Mr. Sen most recently served as Director of Sales Effectiveness\, where he was responsible for the team of Sales Support Engineers\, Specification Sales Managers and Sales Operations.  Ryan has previously held a multitude of roles within the organization\, including the management of the following teams:  Technical Support\, Product Training\, Customer Services\, and Quality Assurance Testing.  Notably\, Mr. Sen has also performed Business Development for the Distech Controls Energy Services division and briefly supported the Canadian Market in a Regional Sales Management role. \nMr. Sen is based out of Distech Controls Headquarters in the province of Quebec\, Canada and holds a Bachelor of Engineering (B.Eng.) degree\, in the discipline of Electrical Engineering from Concordia University.  Prior to joining Distech\, Ryan had been working in the Industrial Automation industry \n\n\n  \n\n  \nCLIQUEZ ICI POUR VOUS INSCRIRE \n\nEXPOSANTS LORS DE LA SOIRÉE\n\n\n\nCOMPAGNIE\nPRO KONTROL  \n  \nPRODUIT(S)/SERVICES\nConnaissances et conseils sur les nouvelles technologies de contrôle CVAC. L’unification des systèmes de contrôles au sein des immeubles commerciaux. \n\n\nCOMPAGNIE\nACCS LE GROUPE \n  \nPRODUIT(S)/SERVICES\nDepuis 30 ans\, ACCS développe l’intelligence des bâtiments en intégrant des technologies de contrôle et de gestion afin de rendre heureux les propriétaires\, les gestionnaires immobiliers et leurs occupants. \n\n\n\n\nCOMPAGNIE\nVictaulic \n  \nPRODUIT(S)/SERVICES\nPlusieurs de ses nouvelles innovations\, dont de nouveaux collets\, des régulateurs de pression\, des valves de contrôle et de balancement et des ancrages. \n\n\nCOMPAGNIE\nvotre compagnie ? \n  \nPRODUIT(S)/SERVICES\nÀ venir \n\n\n\n\n\n\nVous voulez profiter de la visibilité qu’offrent ces soupers-conférences comme tremplin publicitaire pour votre entreprise\, ou encore pour développer un réseau de contact des plus intéressants? \nContactez le comité publicité. \n\n\nEn savoir + \n\n\n\n\n  \nINFORMATION GÉNÉRALE\nPROGRAMME DE LA SOIRÉE \n\n17 h 15 à 19 h 00 – Accueil (rez-de-chaussée)\n17 h 30 à 19 h 00 – Cocktail et visite des exposants – Salon Midway (rez-de-chaussée)\n17 h 45 – Conférence technique – Salle St-Denis (2e étage)\n18 h 30 – Cocktail et visite des exposants – Salon Midway (rez-de-chaussée)\n19 h 00 – Souper et mot du président ASHRAE chapitre de Montréal\, Francis Lacharité – Salle St-Denis (2e étage)\n20 h 00 – Conférence principale – Salle St-Denis (2e étage)\n\n  \n\nMENU-REPAS \n\n\n\nSoupe du moment\nCivet de cerf rouge aux baies de genièvre et orange\, mousseline de pommes de terre\nGâteau Le Monoï\nCafé ou thé\n\n\n\nATTENTION \nVeuillez nous aviser de toute allergie ou intolérance alimentaire lors de l’inscription. \n  \n\n\n\n  \nTARIFICATION (taxes en sus) \n\n\n\nMEMBRE \n\nMembre ASHRAE Montréal (chapitre) : 79.15 $\nMembre à vie ASHRAE ayant payé leur cotisation au chapitre : 40.01 $\nÉtudiant à temps plein et membre ASHRAE (Société) : 24.35 $\n\n\nForfaits exclusifs aux membres  (professionnels – saison 2019-2020) \nEn savoir + \nForfait exclusif aux membres étudiants (saison 2019-2020) \nEn savoir +  \n\n\n\n\nNON-MEMBRE \n\nNon-membre : 117.42 $ – spécial  septembre à 79.15 $\nÉtudiant à temps plein\, non-membre ASHRAE (avec preuve) : 28.70 $ –  spécial septembre à 24.35 $\nMembre ASPE : 86.10$ -spécial  septembre à 79.15 $\n\nDevenir membre\nc’est très avantageux!  \n\n\n\n\nLIEU : CLUB ST-JAMES DE MONTRÉAL \n\n1145\, Avenue Union\, Montréal (Québec)  H3B 3C2\n(coin boul. René-Lévesque Ouest)\nT : 514 866-7474 \nCode vestimentaire : Le Club St-James exige une tenue d’affaires décontractée (jeans ou tenue de sport ne sont pas acceptés)\, la majorité des participants se présentent avec une tenue de ville (habit et cravate). \nCertificat : Un certificat de participation attestant 1\,75 heures de formation continue sera envoyé par courriel sur place aux participants présents. Assurez-vous de l’avoir avant la sortie. \n  \n\n  \nCLIQUEZ ICI POUR VOUS INSCRIRE
URL:https://ashraemontreal.org/evenements-en-details/souper-conference-fevrier-2020_129/
LOCATION:Château Saint-Ambroise\, Château Saint-Ambroise\, Montréal\, QC\, H4C 2C7\, Canada
CATEGORIES:Professionnels
ATTACH;FMTTYPE=image/jpeg:https://ashraemontreal.org/wp-content/uploads/2024/08/pour_montrealer.jpg
END:VEVENT
END:VCALENDAR