BEGIN:VCALENDAR
VERSION:2.0
PRODID:-//ASHRAE - ECPv6.15.17.1//NONSGML v1.0//EN
CALSCALE:GREGORIAN
METHOD:PUBLISH
X-ORIGINAL-URL:https://ashraemontreal.org
X-WR-CALDESC:Événements pour ASHRAE
REFRESH-INTERVAL;VALUE=DURATION:PT1H
X-Robots-Tag:noindex
X-PUBLISHED-TTL:PT1H
BEGIN:VTIMEZONE
TZID:America/Montreal
BEGIN:DAYLIGHT
TZOFFSETFROM:-0500
TZOFFSETTO:-0400
TZNAME:EDT
DTSTART:20170312T070000
END:DAYLIGHT
BEGIN:STANDARD
TZOFFSETFROM:-0400
TZOFFSETTO:-0500
TZNAME:EST
DTSTART:20171105T060000
END:STANDARD
BEGIN:DAYLIGHT
TZOFFSETFROM:-0500
TZOFFSETTO:-0400
TZNAME:EDT
DTSTART:20180311T070000
END:DAYLIGHT
BEGIN:STANDARD
TZOFFSETFROM:-0400
TZOFFSETTO:-0500
TZNAME:EST
DTSTART:20181104T060000
END:STANDARD
BEGIN:DAYLIGHT
TZOFFSETFROM:-0500
TZOFFSETTO:-0400
TZNAME:EDT
DTSTART:20190310T070000
END:DAYLIGHT
BEGIN:STANDARD
TZOFFSETFROM:-0400
TZOFFSETTO:-0500
TZNAME:EST
DTSTART:20191103T060000
END:STANDARD
END:VTIMEZONE
BEGIN:VEVENT
DTSTART;TZID=America/Montreal:20181119T171500
DTEND;TZID=America/Montreal:20181119T211500
DTSTAMP:20260424T081603
CREATED:20240922T173755Z
LAST-MODIFIED:20240930T221623Z
UID:15766-1542647700-1542662100@ashraemontreal.org
SUMMARY:Souper-conférence – Novembre 2018
DESCRIPTION:Énergir et ASHRAE Montréal vous invitent à la soirée prestige Énergir\, une occasion unique d’en apprendre davantage sur le rôle du gaz naturel renouvelable dans la transition énergétique ainsi que sur les boucles d’échange thermique inter-bâtiments. \nCONFÉRENCE TECHNIQUE (17H45)\nSUJET : Des conduits minimalistes pour les bâtiments d’habitation aux réseaux thermiques de quartier \nUne solution de chauffage/climatisation efficace pour les immeubles d’habitation pourrait-elle mener à la réalisation de réseaux thermiques de quartier ? Grâce à plusieurs cas concrets construits récemment\, M. Claude Routhier nous expliquera comment cela est possible. À partir des résultats obtenus dans de grands immeubles doté du système optimisé de chauffage et climatisation multizones par conduits minimalistes\, il abordera une solution d’énergie communautaire bien adaptée au contexte énergétique québécois : la boucle d’échange thermique inter-bâtiments. \n\n  \n\n\n \n\n\nclaude routhier\, CSO\, LEED AP BD+C \nCoordonnateur en développement durable\nPoly-Énergie \nDepuis sa participation en tant qu’associé à la fondation de Poly-Énergie inc. en 1987\, Claude Routhier a consacré sa carrière professionnelle au développement durable sous toutes ses formes. Maître d’œuvre des projets d’économie d’énergie réalisés par Poly-Énergie en mode conception / construction\, il a aussi préparé des montages financiers qui ont permis à des centaines de clients de réaliser des projets d’efficacité énergétique autofinancés. Depuis 20 ans\, ses nombreux projets d’avant-garde en efficacité énergétique lui ont permis d’acquérir une expérience de terrain sans pareil tant en conception qu’en gérance de projet sans oublier le commissioning et le suivi énergétique de la plupart de ses réalisations. L’expertise ainsi acquise a facilité la réorientation de la mission de la compagnie en 2006 vers le développement durable comme objectif principal appuyée par l’utilisation de sources d’énergie renouvelable. \n\n\n\nCONFÉRENCE PRINCIPALE (19H00) \nSUJET : LE gaz naturel renouvelable\, levier incontournable de la transition énergétique \nÀ l’instar des pays les plus avancés dans leur transition énergétique\, notamment la Suède\, la Finlande et la France\, le Québec mise entre-autre sur l’augmentation des énergies renouvelables\, dont une très prometteuse : le gaz naturel renouvelable pour atteindre ses objectifs. Les premiers succès de cette filière énergétique en développement se concrétisent avec le développement et la mise en service des premiers projets de gaz naturel renouvelable. Cette présentation abordera l’avenir de cette nouvelle filière\, son potentiel de contribution aux objectifs de lutte aux changements climatiques et au développement d’une économie circulaire. \n\n  \n\n\n \n\n\nMathieu Johnson \nDirecteur Développement du gaz naturel renouvelable\nÉnergir \nMathieu Johnson est directeur Développement du gaz naturel renouvelable chez Énergir. Il est responsable d’une équipe dont la mission est d’accélérer le développement de la filière de gaz naturel renouvelable au Québec\, notamment en accompagnant municipalités et entreprises privées dans leurs projets de biométhanisation. L’équipe travaille également en collaboration avec divers partenaires publics et privés dans le développement de nouvelles technologies reliées au gaz naturel renouvelable. \n\n\n  \n\n  \nCLIQUEZ ICI POUR VOUS INSCRIRE \n\n  \nEXPOSANTS LORS DE LA SOIRÉE\n\n\n\nCOMPAGNIE\nSERL ET RIELLO \n  \nPRODUIT(S)/SERVICES\nPrésentation des nouvelles chaudières Riello Array et Riello RTC \n\n\nCOMPAGNIE \nENGINEERED AIR \n  \nPRODUIT(S)/SERVICES\nFabrication de produits de chauffage\, ventilation\, réfrigération et récupération d’énergie \n  \n\n\n\n\nCOMPAGNIE\nDistech CVAC \n  \nPRODUIT(S)/SERVICES\nFournisseur d’équipements de chauffage à eau chaude haut de gamme Viessmann et cheminées Cheminées Sécurité International \n\n\nCOMPAGNIE\nMIURA CANADA LTÉE \n  \nPRODUIT(S)/SERVICES\nManufacturier de chaudières à vapeur et équipements de traitement d’eau (adoucisseurs\, produits chimiques\, etc.) \n\n\n\n\n\n\nVous voulez profiter de la visibilité qu’offrent ces soupers-conférences comme tremplin publicitaire pour votre entreprise\, ou encore pour développer un réseau de contact des plus intéressants? \nContactez le comité publicité. \n\n\nEn savoir + \n\n\n\n  \n\n  \nINFORMATION GÉNÉRALE\nPROGRAMME DE LA SOIRÉE \n\n17 h 15 à 19 h 00 – Accueil (rez-de-chaussée)\n17 h 30 à 19 h 00 – Cocktail et visite des exposants – Salon Midway (rez-de-chaussée)\n17 h 45 – Conférence technique – Salle St-Denis (2e étage)\n18 h 30 – Cocktail et visite des exposants – Salon Midway (rez-de-chaussée)\n19 h 00 – Souper et allocutions de Caroline Duphily\, Chef de service du groupe DATECH et Francis Lacharité\, président d’ASHRAE Montréal – Salle St-Denis (2e étage)\n20 h 00 – Conférence principale – Salle St-Denis (2e étage)\n\n  \n\nMENU – REPAS \n\n\n\nSoupe du moment\nSaumon rôti tandoori\, velouté au lait de coco et citronnelle\, curry de lentilles \nGâteau « Cœur caraïbes »\nCafé ou thé\n\n\n\nATTENTION \nVeuillez nous aviser de toute allergie ou intolérance alimentaire lors de l’inscription. \n  \n\n\n\n  \nTARIFICATION (taxes en sus) \n\n\n\nMEMBRE \n\nMembre ASHRAE Montréal (chapitre) : 78.28 $\nMembre à vie ASHRAE ayant payé leur cotisation au chapitre : 39.14 $\nÉtudiant à temps plein et membre ASHRAE (Société) : 23.49 $\n\n\nForfaits exclusifs aux membres  (professionnels – saison 2018-2019) \nEn savoir + \nForfait exclusif aux membres étudiants (saison 2018-2019) \nEn savoir +  \n\n\n\n\nNON-MEMBRE \n\nNon-membre : 113.07 $\nÉtudiant à temps plein\, non-membre ASHRAE (avec preuve) : 27.83 $\nMembre ASPE : 86.97 $\n\nDevenir membre\nc’est très avantageux!  \n\n\n\n\n  \nLIEU : CLUB ST-JAMES DE MONTRÉAL \n\n1145\, Avenue Union\, Montréal (Québec)  H3B 3C2\n(coin boul. René-Lévesque Ouest)\nT : 514 866-7474 \nCode vestimentaire : Le Club St-James exige une tenue d’affaires décontractée (jeans ou tenue de sport ne sont pas acceptés)\, la majorité des participants se présentent avec une tenue de ville (habit et cravate). \nCertificat : Un certificat de participation attestant 1\,75 heures de formation continue sera envoyé par courriel sur place aux participants présents. Assurez-vous de l’avoir avant la sortie. \n  \n\n  \nCLIQUEZ ICI POUR VOUS INSCRIRE
URL:https://ashraemontreal.org/evenements-en-details/souper-conference-novembre-2018_98/
LOCATION:Château Saint-Ambroise\, Château Saint-Ambroise\, Montréal\, QC\, H4C 2C7\, Canada
CATEGORIES:Professionnels
ATTACH;FMTTYPE=image/jpeg:https://ashraemontreal.org/wp-content/uploads/2024/09/soireeprestige2018.jpg
END:VEVENT
BEGIN:VEVENT
DTSTART;TZID=America/Montreal:20181121T090000
DTEND;TZID=America/Montreal:20181121T113000
DTSTAMP:20260424T081603
CREATED:20240922T173754Z
LAST-MODIFIED:20240928T135850Z
UID:15761-1542790800-1542799800@ashraemontreal.org
SUMMARY:Visite technique – Complexe Guy-Favreau
DESCRIPTION:MAINTENANT OUVERT À TOUS ! Le comité des activités étudiantes invite les étudiants et les jeunes professionnels (YEA) à participer à une visite des installations mécaniques du Complexe Guy-Favreau. \nLe Complexe Guy-Favreau est un édifice fédéral inauguré en 1984. C’est un bâtiment multifonctionnel comprenant entre autres plusieurs bureaux gouvernementaux\, des espaces commerciaux et un atrium. Bien évidemment\, le traitement de ces divers espaces se fait par des systèmes mécaniques complexes. L’équipe de professionnels qui gère cet édifice\, nous guidera à travers ces systèmes afin que nous puissions avoir un aperçu de ces systèmes avec une présentation du principe de fonctionnement et une visite guidée des salles mécaniques. Venez donc vous joindre au comité des activités étudiantes pour cette activité enrichissante et n’oubliez pas vos chaussures ou bottes en caps d’acier ! \n\n\nACTIVITÉ GRATUITE \n\n\nCLIQUEZ ICI POUR VOUS INSCRIRE  \n(Ouverture des inscriptions pour les étudiants membres ASHRAE jusqu’au 7 novembre  2018\, ouvert à tous par la suite) \nDATE LIMITE D’INSCRIPTION : Prolongée au 21 novembre 2018 \n\nINFORMATION GÉNÉRALE\nCLIENTÈLE VISÉE: Activité réservée aux étudiants et aux professionnels de moins de 35 ans. MAINTENANT OUVERT À TOUS ! \nÉQUIPEMENT : Port de bottes/chaussures de sécurité certifiés CSA fortement suggéré mais non obligatoire. \nHORAIRE DÉTAILLÉ DE L’ÉVÈNEMENT \n\n9 h 00 à 9 h 15 – Accueil\n9 h 15 à 9 h 45 – Présentation des systèmes\n9 h 45 à 11 h 30 – Visite des salles mécaniques\n\nINSCRIPTION OBLIGATOIRE \nPriorité aux étudiants membres de l’ASHRAE avant le 7 novembre 2018 \n  \n\nLIEU : Complexe Guy-Favreau \n200\, boulevard René-Lévesque O.\, Montréal \,Québec\, H2Z 1X4   \nTRANSPORT : Transport en commun préférable. Stationnement sur la rue ou au sous-sol de l’édifice disponible à vos frais. \nCLIQUEZ ICI POUR VOUS INSCRIRE \n\n  \n\n\nAvantages Étudiants \n\n\nÉvénements exclusifs Étudiants
URL:https://ashraemontreal.org/evenements-en-details/visite-technique-complexe-guy-favreau_103/
LOCATION:Complexe Guy-Favreau\, 200\, boulevard René-Lévesque O.\, Montréal\, Québec\, H2Z 1X4\, Canada
CATEGORIES:Étudiants
ATTACH;FMTTYPE=image/jpeg:https://ashraemontreal.org/wp-content/uploads/2024/09/cgf.jpg
END:VEVENT
BEGIN:VEVENT
DTSTART;TZID=America/Montreal:20181122T090000
DTEND;TZID=America/Montreal:20181122T190000
DTSTAMP:20260424T081603
CREATED:20240922T173754Z
LAST-MODIFIED:20240928T135510Z
UID:15760-1542877200-1542913200@ashraemontreal.org
SUMMARY:L’exposition Contech bâtiment 2018
DESCRIPTION:L’exposition est organisée par Contech bâtiment dont\, le chapitre de Montréal de l’ASHRAE est un partenaire. Vous aurez la chance d’assister à plusieurs conférences dont entre autres\, la conférence de M. Roland Charneux\, ing. Fellow de l’ASHRAE\, portant sur le nouveau siège social de Mountain Equipment Co-op : le fruit d’un réel processus de conception intégrée. \nL’Exposition bâtiment présentée chaque année à l’automne au Palais des congrès de Montréal regroupe plus de 250 exposants et accueille plus de 2000 visiteurs. Les concepteurs\, gestionnaires de bâtiments et constructeurs viennent à Contech pour y découvrir les nouveaux produits des exposants mais aussi pour assister aux conférences et démonstrations techniques proposées. Ce rendez-vous des acteurs de l’industrie du bâtiment est l’occasion de rencontrer ses pairs et rester au fait des tendances et des meilleures pratiques. \nLa visite de l’exposition et la participation aux conférences et autres activités sont gratuites. \n\n\n  \nINSCRIVEZ-VOUS À L’AVANCE\nPOUR UN ACCÈS FACILE ET RAPIDE. \nDATE LIMITE POUR UNE PRÉINSCRIPTION :\n19 NOVEMBRE 2018 \nJe m’inscris > \n\n\n  \n  \n\n\n  \n PROGRAMMATION COMPLÈTE DE L’ÉVÉNEMENT \n\n \n\n\n \nEn savoir + \n  \n\n\n  \nLe nouveau siège social de Mountain Equipment Co-op : le fruit d’un réel processus de conception intégrée \nRoland Charneux\, ing.\, M.Ing. \, PA LEED BD+C\nDirecteur au département Éconergie\nPageau Morel et associés inc.\nASHRAE Fellow & HFDP \n16h00 à 17h00\n \n  \n\n\n\n\n\n  \n\n\n\n\nLIEU\n\n\nPALAIS DES CONGRÈS\, MONTRÉAL \n1001\, Place Jean-Paul-Riopelle\, Montréal\, QC  H2Z 1H5\,\nT : 514 871-8122 \n\n\n\n\n  \n\n\nINFO\n\n\nContech Expo 2018 – Informations
URL:https://ashraemontreal.org/evenements-en-details/lexposition-contech-batiment-2018_104/
LOCATION:Palais des congrès de Montréal\, 1001\, Place Jean-Paul-Riopelle\, Montréal\, Québec\, H2Z 1H5\, Canada
CATEGORIES:Professionnels
ATTACH;FMTTYPE=image/jpeg:https://ashraemontreal.org/wp-content/uploads/2024/09/mec-ashrae-contech.jpg
END:VEVENT
BEGIN:VEVENT
DTSTART;TZID=America/Montreal:20181128T083000
DTEND;TZID=America/Montreal:20181128T103000
DTSTAMP:20260424T081603
CREATED:20240922T173754Z
LAST-MODIFIED:20240928T140227Z
UID:15762-1543393800-1543401000@ashraemontreal.org
SUMMARY:Déjeuner-causerie – Novembre 2018
DESCRIPTION:LEADERSHIP MULTILPICATEUR –  \nLa notion du leadership a déjà été exploitée sous plusieurs angles.  Mais\, une question demeure importante : sommes-nous vraiment un leader sans avoir créé nous-même un leader ? Quels atouts doit posséder un leader afin de pouvoir multiplier son leadership ? Quelles sont les sphères à développer au quotidien et comment s’y prendre ? \nObjectifs de la conférence : \n\nDéfinir ce qu’est un multiplicateur de leadership\nDévelopper une approche permettant la multiplication du leadership\nCréer un plan d’action personnalisé pour créer des leaders\n\nContenu de la conférence :  \n\nDéfinition du leadership multiplicateur\n5 disciplines du multiplicateur\n\nLes activités WIA vous sont présentées avec la collaboration spéciale de : \n \n\n  \n\n\n \n\n\nsophie Lemieux\, MBA\, Adm.A.\, C.M.C.\nPrésidente et consultante en management\nGestion Solem \nSophie Lemieux est consultante en management et présidente de Gestion Solem. Elle est membre de l’Ordre des Administrateurs Agréés du Québec\, détentrice d’un M.B.A\, d’un titre C.M.C. (conseiller en management certifié) et d’un titre RCCTM (Registered Corporate CoachTM). Elle possède une expérience de plus de 20 ans en gestion de la performance organisationnelle\, formation\, coaching\, gestion d’équipes multidisciplinaires\, gestion de projets\, formation et développement d’affaires. Sophie est chargée de cours aux HEC (leadership & pratiques de direction et Devenir une organisation apprenante). Elle est également à l’École des Dirigeants\, formatrice au centre de formation continue de l’Université de Sherbrooke\, à l’Université Concordia (Continuing Education)\, ainsi qu’au Cégep de St-Hyacinthe (Synor). \n\n\n\n\n Formule interactive et conviviale ! \n\nCLIQUEZ ICI POUR VOUS INSCRIRE   \nDate limite d’inscription prolongée au 27 novembre 2018   \n\n  \nINFORMATION GÉNÉRALE\nCLIENTÈLE VISÉE: ouvert à toutes les femmes de carrière peu importe votre profession. Invitez vos collègues\, clientes et amies! \nHORAIRE DÉTAILLÉ DE L’ÉVÈNEMENT \n\n8 h 15 à  8 h 30 – Accueil – Salle à manger #2 (rez-de-chaussée)\n8 h 30 à  9 h 30  – Déjeuner et conférence\n9 h 30 à 10 h 30 – Réseautage\n\n  \nTARIFICATION (taxes en sus) \n\n\n\nMEMBRE \n\nMembre ASHRAE Montréal (chapitre) : 25 $\nMembre ÉTUDIANT ASHRAE* (temps plein) : 25 $\n\n\n\n\n\nNON-MEMBRE \n\nNon-membre : 30 $\n\nÉtudiant non-membre (temps plein) : 25 $\n\n\n\n\n* Lors de l’inscription\, choisir le billet « Membre ASHRAE Montréal » pour vous prévaloir de ce tarif. \n\n  \nLIEU : ÉCOLE DES MÉTIERS DE LA RESTAURATION ET DU TOURISME DE MONTRÉAL \n\n1822 boulevard de Maisonneuve Ouest\, Montréal (Québec) H3H 1J8 \nAttention : Veuillez nous aviser de toute allergie ou intolérance alimentaire lors de l’inscription. \nCLIQUEZ ICI POUR VOUS INSCRIRE   \nDATE LIMITE D’INSCRIPTION prolongée au 27 NOVEMBRE 2018 \n\n  \n\n\nAvantages WIA \n\n\nÉvénements exclusifs WIA \n\n\n  \nLes déjeuners-causeries et les activités sont réservés uniquement aux femmes. Le comité WIA invite ses membres féminins et toutes les professionnelles de tous les milieux à y participer.
URL:https://ashraemontreal.org/evenements-en-details/dejeuner-causerie-novembre-2018_102/
LOCATION:École des métiers de la restauration et du tourisme de Montréal\, 1822 boulevard de Maisonneuve Ouest\, Montréal\, Québec\, H3H 1J8\, Canada
CATEGORIES:WIA
ATTACH;FMTTYPE=image/jpeg:https://ashraemontreal.org/wp-content/uploads/2024/04/evenements-wia.jpg
END:VEVENT
END:VCALENDAR