BEGIN:VCALENDAR
VERSION:2.0
PRODID:-//ASHRAE - ECPv6.15.17.1//NONSGML v1.0//EN
CALSCALE:GREGORIAN
METHOD:PUBLISH
X-ORIGINAL-URL:https://ashraemontreal.org
X-WR-CALDESC:Événements pour ASHRAE
REFRESH-INTERVAL;VALUE=DURATION:PT1H
X-Robots-Tag:noindex
X-PUBLISHED-TTL:PT1H
BEGIN:VTIMEZONE
TZID:America/Montreal
BEGIN:DAYLIGHT
TZOFFSETFROM:-0500
TZOFFSETTO:-0400
TZNAME:EDT
DTSTART:20170312T070000
END:DAYLIGHT
BEGIN:STANDARD
TZOFFSETFROM:-0400
TZOFFSETTO:-0500
TZNAME:EST
DTSTART:20171105T060000
END:STANDARD
BEGIN:DAYLIGHT
TZOFFSETFROM:-0500
TZOFFSETTO:-0400
TZNAME:EDT
DTSTART:20180311T070000
END:DAYLIGHT
BEGIN:STANDARD
TZOFFSETFROM:-0400
TZOFFSETTO:-0500
TZNAME:EST
DTSTART:20181104T060000
END:STANDARD
BEGIN:DAYLIGHT
TZOFFSETFROM:-0500
TZOFFSETTO:-0400
TZNAME:EDT
DTSTART:20190310T070000
END:DAYLIGHT
BEGIN:STANDARD
TZOFFSETFROM:-0400
TZOFFSETTO:-0500
TZNAME:EST
DTSTART:20191103T060000
END:STANDARD
END:VTIMEZONE
BEGIN:VEVENT
DTSTART;TZID=America/Montreal:20180605T000000
DTEND;TZID=America/Montreal:20180605T000000
DTSTAMP:20260424T152625
CREATED:20240922T173757Z
LAST-MODIFIED:20241001T010539Z
UID:15791-1528156800-1528156800@ashraemontreal.org
SUMMARY:Classique de golf et randonnée cyclosportive 2018
DESCRIPTION:Réservez dès MAINTENANT votre quatuor pour le golf ou votre place pour le vélo! Intéressez par une commandite? C’est le bon temps de nous contacter. \nAvec la forte demande des dernières années\, l’activité vélo revient en force pour compléter la classique de golf qui sera bonifiée de plusieurs nouveautés. \nL’activité de golf et vélo est l’occasion de regrouper l’ensemble des membres de l’industrie dans une ambiance festive pour terminer la saison du chapitre de Montréal en beauté. \n\nÉDITION 2018\nNOUVEAUTÉS – NOUS VOUS AVONS ÉCOUTÉS …\n\nGolf : nouveaux parcours (terrains reconnus ayant reçu des événéments de golf professionnels provincial et national)\n\nClub de Golf de Saint-Hyacinthe\nClub de Golf de Beloeil.\n\n\nVélo : nouveaux parcours et nouvelles distances\nSouper : cocktail et souper style buffet pour vous permettre de mieux réseauter et pour revenir plus rapidement avec vos proches\n\nChef réputé : Ian Perreault\nVins d’importation privée\n\nD’autres surprises à venir\n\nPROFITEZ DES RABAIS IMPORTANTS AVANT LE 16 AVRIL 2018! \n\nQUE DÉSIREZ-VOUS FAIRE?\n\n\n  \nParticiper à l’édition 2018 \n\n\n  \nDevenir partenaires \n\n\n  \nSouvenirs de l’édition 2017 \n\n\n\n  \nINFORMATION GÉNÉRALE\nPROGRAMME DE LA JOURNÉE\n  \n\n8h30 à 10h30 – Brunch ( golfeurs et cyclistes)\n\nConcours de coups roulés (tirage d’un prix)\nChamps de pratique à volonté incluant les balles\n\n\n11h00 – 1er Départ GOLF –  Club de Golf de Beloeil – « Shot Gun » formule de style Vegas\n11h15 – Départ VÉLO à partir du Club de Golf de Saint-Hyacinthe (62\, 81 ou 110 km)\n11h30 – 2e Départ GOLF – Club de Golf de Saint-Hyacinthe – « Shot Gun » formule de style Vegas\n17h00 – Cocktail et souper au Club de Golf de Saint-Hyacinthe (Avec cadeaux et remises de prix)\n\nN.B. Lunch au casse-croûte pour tous les golfeurs et cyclistes. \nDétails sur l’option du vélo \nCircuits des cyclistes: \n62 km https://ridewithgps.com/routes/2Étudiants308 \n81 km https://ridewithgps.com/routes/2Étudiants321 \n110 km https://ridewithgps.com/routes/2Étudiants328 \n  \nTARIFICATION (TAXES EN SUS)\n\n\n\nMEMBRE \n\n\nINSCRIPTION HÂTIVE\n(avant le 16 avril 2018) \n\n\nINSCRIPTION RÉGULIÈRE\n(à compter du 17 avril 2018) \n\n\nLe classique – 18 trous\n\n \n\n\nGOLF – QUATUOR \nGOLF – INDIVUDUEL \n\n\n840 $ \n210 $ \n\n\n950 $ \n240 $ \n\n\nVélo et souper\n\n \n\n\nVÉLO – Randonnée cyclo-sportive \nSouper seulement \n\n\n175 $ \n100 $ \n\n\n200 $ \n 100 $ \n\n\n  \n\n\n\n\nNON-MEMBRE \n\n\nINSCRIPTION HÂTIVE\n(avant le 16 avril 2018)\n \n\n\nINSCRIPTION RÉGULIÈRE\n(à compter du 17 avril 2018) \n\n\nLe classique – 18 trous\n\n \n\n\nGOLF – QUATUOR \nGOLF – INDIVIDUEL \n\n\n940 $ \n250 $ \n\n\n1050 $ \n280 $ \n\n\n\nVélo et souper\n\n \n\n\nVÉLO – Randonnée cyclo-sportive \nSouper seulement \n\n\n200 $ \n100 $ \n\n\n225 $ \n 100 $ \n\n\n  \n\nRéservez et choisissez vos participants plus tard: suite au succès des années passées\, les inscriptions se feront en ligne\, vous recevrez une confirmation immédiatement par courriel. Il sera possible de changer le nom de vos joueurs de votre quatuor ou de votre ou vos cyclistes à partir du courriel de confirmation à cet événement. Donc à conserver précieusement! \nPar contre\, pour ajouter des quatuors\, cyclistes ou soupers supplémentaires sur une facture existante\, vous devrez communiquer avec le secrétariat \nCLIQUEZ ICI POUR VOUS INSCRIRE   \n\n  \nPARTENAIRES\n  \nLe chapitre de Montréal remercie fortement ses partenaires qui font le succès de l’événement.\nVisibilité assurée. Priorité aux commanditaires du tournoi de l’an dernier jusqu’au \n15 avril seulement\, alors faites vite! \nConsulter la politique de commandites! \nVérifiez auprès de Michel Landry afin de connaître les commandites disponibles :\nCourriel : golf@ashraemontreal.org \nTéléphone : 514-884-9908 \n\nMERCI À TOUS NOS PARTENAIRES DE L’ÉDITION 2017 :\nNous attendons vos confirmations dès maintenant! \nNous afficherons au fur et à mesure les compagnies qui seront inscrites et confirmées. \n\n  \n\n  \n\nLIEU\n\n\nClub de golf de Saint-Hyacinthe \n3840 Boulevard Laurier Ouest\, Saint-Hyacinthe\, Québec\, J2S 3T9 \nClub de golf de Beloeil \n425 des Chênes\, Beloeil\, Québec\, J3G 4S8 \n\n  \n\n  \n\nVOTRE ÉQUIPE DÉVOUÉE :\n\n\nMichel Landry (Responsable)\nEnrico Di Pietro \n\n\nAnthony Sander Sainjour\nRime Mansour \n\n\nMai Anh Dao\nJean-Olivier Hébert \n\n\n\n  \n 
URL:https://ashraemontreal.org/evenements-en-details/classique-de-golf-et-randonnee-cyclosportive-2018/
LOCATION:Club de golf de Saint-Hyacinthe\, 3840 Boulevard Laurier Ouest\, Saint-Hyacinthe\, Québec\, J2S 3T9\, Canada
CATEGORIES:Professionnels
ATTACH;FMTTYPE=image/jpeg:https://ashraemontreal.org/wp-content/uploads/2024/09/evenements-golfvelo.jpg
END:VEVENT
BEGIN:VEVENT
DTSTART;TZID=America/Montreal:20180622T000000
DTEND;TZID=America/Montreal:20180629T000000
DTSTAMP:20260424T152625
CREATED:20240930T225937Z
LAST-MODIFIED:20240930T230801Z
UID:16306-1529625600-1530230400@ashraemontreal.org
SUMMARY:Renouvellement de votre adhésion ASHRAE
DESCRIPTION:Ce message s’adresse principalement aux membres dont l’adhésion se tremine le 30 juin et … \nAprès votre date d’échéance\, vous avez 3 mois pour renouveler sans perdre votre statut. En renouvelant tôt en juin\, vous évitez les augmentations de tarification\, vous vous simplifiez la tâche et vous encouragez vos bénévoles de votre chapitre. \nProfitez de l’occasion pour: \n\nVérifier votre date d’échéance\nRenouveler à la Société « Society Dues »\nPayer  votre renouvellement au chapitre « Montreal Chapter Dues »\nMettre vos coordonnées\, informations scolaires et professionnelles à jour.\n\nRenouveler maintenant via la Société (SVP\, le faire exclusivement sur ce lien) \nSi vous l’avez déjà fait\, nous vous en remercions. \nSi vous avez des questions\, contactez-moi directement. \nMarc-André Ravary ing.  Membre ASHRAE\nComité des membres (Rime Mansour et Marc-André Ravary)\n514 592-5243  membres@ashraemontreal.org
URL:https://ashraemontreal.org/evenements-en-details/renouvellement-de-votre-adhesion-ashrae_92/
LOCATION:Québec
CATEGORIES:Professionnels
ATTACH;FMTTYPE=image/jpeg:https://ashraemontreal.org/wp-content/uploads/2024/09/default-event-home.jpg
END:VEVENT
BEGIN:VEVENT
DTSTART;TZID=America/Montreal:20180623T000000
DTEND;TZID=America/Montreal:20180627T000000
DTSTAMP:20260424T152625
CREATED:20240922T173755Z
LAST-MODIFIED:20240930T223749Z
UID:15771-1529712000-1530057600@ashraemontreal.org
SUMMARY:Conférence annuelle ASHRAE 2018
DESCRIPTION:Participez aux réunions de comités techniques\, de nombreux cours et des conférences reconnues.  Rabais pour ceux et celles qui s’inscrivent pour la première fois… \nRessourçant! \nCongrès\, conférence et bien plus encore… \n  \n\nINFO\n\n\n\n\nDétails sur le site de la Société \nConsulter le site > \n\n\nPAR TÉLÉPHONE \nT. 404 836-8400 \n\n\n\n 
URL:https://ashraemontreal.org/evenements-en-details/conference-annuelle-ashrae-2018_93/
LOCATION:Houston\,Tx
CATEGORIES:Professionnels
ATTACH;FMTTYPE=image/jpeg:https://ashraemontreal.org/wp-content/uploads/2024/09/spotlight-image-2018-annual-meeting_edited1.jpg
END:VEVENT
BEGIN:VEVENT
DTSTART;TZID=America/Montreal:20180625T000000
DTEND;TZID=America/Montreal:20180625T000000
DTSTAMP:20260424T152625
CREATED:20240922T173755Z
LAST-MODIFIED:20240930T230731Z
UID:15772-1529884800-1529884800@ashraemontreal.org
SUMMARY:Date limite pour la campagne du Fonds de recherche 2017-2018
DESCRIPTION:25 juin est la toute dernière date ultime pour faire vos dons à ASHRAE Research Canada! Nous prolongeons la date afin que nous puissions nous rapprocher de notre objectif. \nDON EN LIGNE – La manière la plus simple et la plus rapide    \n\nATTENTION  CHÈQUE – IL N’EST PLUS POSSIBLE D’ÉMETTRE UN DON PAR CHÈQUE : Si vous remettez un chèque assurez-vous qu’il soit parvenu dans les mains de Samuel au plus tard le 21 juin à 16h à \nBouthillette Parizeau\nPour ASHRAE Research Canada – URGENT\na/s Samuel Lavoie\n9825\, rue Verville\nMontréal\, QC  H3L 3E1
URL:https://ashraemontreal.org/evenements-en-details/date-limite-pour-la-campagne-du-fonds-de-recherche-2017-2018_91/
LOCATION:Québec
CATEGORIES:Professionnels
ATTACH;FMTTYPE=image/jpeg:https://ashraemontreal.org/wp-content/uploads/2024/09/img_recherche.jpg
END:VEVENT
END:VCALENDAR