BEGIN:VCALENDAR
VERSION:2.0
PRODID:-//ASHRAE - ECPv6.15.17.1//NONSGML v1.0//EN
CALSCALE:GREGORIAN
METHOD:PUBLISH
X-ORIGINAL-URL:https://ashraemontreal.org
X-WR-CALDESC:Événements pour ASHRAE
REFRESH-INTERVAL;VALUE=DURATION:PT1H
X-Robots-Tag:noindex
X-PUBLISHED-TTL:PT1H
BEGIN:VTIMEZONE
TZID:America/Montreal
BEGIN:DAYLIGHT
TZOFFSETFROM:-0500
TZOFFSETTO:-0400
TZNAME:EDT
DTSTART:20160313T070000
END:DAYLIGHT
BEGIN:STANDARD
TZOFFSETFROM:-0400
TZOFFSETTO:-0500
TZNAME:EST
DTSTART:20161106T060000
END:STANDARD
BEGIN:DAYLIGHT
TZOFFSETFROM:-0500
TZOFFSETTO:-0400
TZNAME:EDT
DTSTART:20170312T070000
END:DAYLIGHT
BEGIN:STANDARD
TZOFFSETFROM:-0400
TZOFFSETTO:-0500
TZNAME:EST
DTSTART:20171105T060000
END:STANDARD
BEGIN:DAYLIGHT
TZOFFSETFROM:-0500
TZOFFSETTO:-0400
TZNAME:EDT
DTSTART:20180311T070000
END:DAYLIGHT
BEGIN:STANDARD
TZOFFSETFROM:-0400
TZOFFSETTO:-0500
TZNAME:EST
DTSTART:20181104T060000
END:STANDARD
END:VTIMEZONE
BEGIN:VEVENT
DTSTART;TZID=America/Montreal:20171213T171500
DTEND;TZID=America/Montreal:20171213T211500
DTSTAMP:20260424T232259
CREATED:20240922T173757Z
LAST-MODIFIED:20241002T002015Z
UID:15795-1513185300-1513199700@ashraemontreal.org
SUMMARY:Souper-conférence – Novembre 2017
DESCRIPTION:Gaz Métro et l’ASHRAE vous invitent à la soirée prestige Gaz Métro\, une occasion unique d’en apprendre plus sur la plus haute tour en bois d’Amérique du Nord et de réfléchir sur l’énergie dans les villes de demain.\n  \n\nConférence technique (17 h 45)\nSUJET : Un projet unique : la plus haute tour en bois massif en Amérique du Nord \nLe bois est une ressource locale présente en grande abondance au Québec\, en plus de répondre à la tendance de la réintroduction de la nature dans les villes. En continuité avec ce mouvement\, la structure du projet Origine\, tour d’habitation de treize étages à Pointe-aux-Lièvres\, est construite entièrement en bois. \nM. Yvan Blouin\, architecte\, nous présentera son approche de conception en première partie\, puis l’ingénieur du projet\, M. Denis Rioux de la firme LGT Inc.\, complètera en nous faisant découvrir les défis que représente l’intégration de technologies dans les concepts originaux d’habitation tels que le projet Origine\, qui vise la certification LEED. \n\n\n\n \n\n\nYvan Blouin\, architecte \nC’est avec plus de 30 années de pratique dans le domaine de l’architecture que la firme Yvan Blouin réussi à se distinguer par sa créativité et son innovation. La démarche architecturale suivie dans chacun de leurs projets est centrée sur les besoins de leurs clients afin de donner vie à leurs ambitions. Avec une expérience connexe dans le domaine de la construction\, la firme oriente efficacement et intelligemment toute décision architecturale. C’est dans cet esprit que M. Blouin a lancé le projet « Origine »\, qui est la plus haute structure en bois massif à avoir vu le jour en Amérique du Nord. La firme Yvan Blouin a été primée à plusieurs reprises depuis sa réalisation. \n\n\n\n\nDenis Rioux\, Vice-président -Secteur commercial\nLGT Inc. \nMonsieur Rioux est associé au sein de LGT inc. Il occupe également le poste de Vice-président – Secteur commercial dû à sa grande compétence dans ce secteur d’activité et ce\, depuis plusieurs années maintenant. Monsieur Rioux travaille au sein de firmes d’experts-conseils depuis 1994 et possède une vaste expérience dans l’ingénierie de la mécanique du bâtiment. Sa vision globale des systèmes électromécaniques et ses aptitudes de conception lui permettent de participer et de gérer toutes les phases d’une multitude de projets tant dans le domaine commercial qu’institutionnel et industriel. Au fil de sa carrière\, Monsieur Rioux a également été impliqué dans des disciplines autres que sa formation\, soit en électricité\, en instrumentation et en structure. Ces compétences supplémentaires sont donc un grand atout dans les projets d’ingénierie afin d’obtenir une vision plus globale des besoins requis et exprimés par tous les collaborateurs impliqués. Afin de toujours atteindre les objectifs des mandats confiés\, M. Rioux mise fortement sur le travail d’équipe et la collaboration de tous les intervenants dans un projet. Pour lui\, c’est la clé du succès dans un dossier. \n\n\n \n\n\n\nConférence principale (20 h 00)\nSUJET : L’énergie dans les villes de demain \nLe secteur de l’énergie est en pleine mouvance\, et la nécessité de mieux consommer l’énergie nous incite à repenser la façon dont nous l’utilisons non seulement dans nos bâtiments\, mais également dans nos villes. De nombreux acteurs se posent déjà ces questions considérant l’impact majeur de certains changements sur la consommation énergétique de nos villes. À quoi ressembleront les villes de demain ? Quelles solutions énergétiques auront leur place dans ces villes ? Notre conférencier\, M. Dave Rhéaume\, viendra vous entretenir sur ce sujet. \n\n  \n\n\n \n  \n\n\nDave Rhéaume \nDirecteur Affaires règlementaires et tarification\nGaz Métro \nÀ l’emploi de Gaz Métro depuis 2009\, monsieur Rhéaume a obtenu une maîtrise en économie  à l’Université Laval en 2005. Maintenant directeur réglementation et tarification depuis décembre 2013\, il est responsable des dossiers réglementaires pour Gaz Métro devant la Régie de l’énergie et l’Office national de l’énergie. \nEn plus de ses responsabilités actuelles de directeur réglementation et tarification\, M. Rhéaume s’est vu confier\, en février 2017\, la responsabilité des ventes et du développement des affaires de CCUM. CCUM possède et exploite un réseau s’étendant sur 3 km et dessert les besoins énergétiques de chauffage et de climatisation de 1\,8 million de mètres carrés de superficie commerciale au centre-ville de Montréal. M. Rhéaume siège également au conseil d’administration de Gazoduc Trans Québec & Maritimes et de Portland Natural Gas Transmission System. \n\n\n  \n \n\n  \nCLIQUEZ ICI POUR VOUS INSCRIRE \n\n  \nEXPOSANTS LORS DE LA SOIRÉE\n\n\n\nCompagnie\nENGINEERED AIR \n  \nProduit(s)/Services\nFabrication de produits de chauffage\, ventilation\, réfrigération et récupération d’énergie \n\n\nCompagnie\nMIURA CANADA CIE\, LTÉE – DIVISION QUÉBEC \n  \nPRODUIT(S)/SERVICES\nChaudières à vapeur et équipements de traitement d’eau (adoucisseurs\, produits chimiques\, etc.) \n\n\n\n\nCompagnie\nNTI (NY THERMAL INC.) \n  \nProduit(s)/Services\nChaudières à condensation et chaudière et chauffe-eau combiné \n\n\nCompagnie\nÉCOLE DE TECHNOLOGIE GAZIÈRE – gaz métro \n  \nProduit(s)/Services\nFormations aux professionnels de l’industrie du bâtiment \n\n\n\n\n\n\nVous voulez profiter de la visibilité qu’offrent ces soupers-conférences comme tremplin publicitaire pour votre entreprise\, ou encore pour développer un réseau de contact des plus intéressants? \nContactez le comité présentoirs. \n\n\nEn savoir + \n\n\n\n  \n\n  \nINFORMATION GÉNÉRALE\nPROGRAMME DE LA SOIRÉE \n\n17 h 15 à 19 h 00 – Accueil (rez-de-chaussée)\n17 h 30 à 19 h 00 – Cocktail et visite des exposants – Salon Midway (rez-de-chaussée)\n17 h 45 – Conférence technique – Salle St-Denis (2e étage)\n18 h 30 – Cocktail et visite des exposants – Salon Midway (rez-de-chaussée)\n19 h 00 – Souper et allocution de Caroline Duphily\, Chef de service du groupe DATECH – Salle St-Denis (2e étage)\n20 h 00 – Conférence principale – Salle St-Denis (2e étage)\n\n  \n\nMENU-REPAS \n\n\n\nSoupe du moment\nCivet de cerf \, sauce poivrade et chocolat\nGâteau Dagobert au chocolat\nCafé ou thé\n\n\n\nATTENTION \nVeuillez nous aviser de toute allergie ou intolérance alimentaire lors de l’inscription. \n  \n\n\n\n  \nTARIFICATION (taxes incluses) \n\n\n\nMEMBRE \n\nMembre ASHRAE Montréal (chapitre) : 70$\nMembre à vie ASHRAE ayant payé leur cotisation au chapitre : 40 $\nÉtudiant à temps plein et membre ASHRAE* (Société) : 22 $\n\n\n* Choisir le billet « Membre ASHRAE Montréal » lors de l’inscription \nForfaits exclusifs aux membres  (professionnels – saison 2017-2018) \nEn savoir + \nForfait exclusif aux membres étudiants (saison 2017-2018) \nEn savoir +  \n\n\n\n\nNON-MEMBRE \n\nNon-membre : 100 $\nÉtudiant à temps plein\, non-membre ASHRAE (avec preuve) : 27 $\nMembre ASPE : 80 $\n\nDevenir membre\nc’est très avantageux!  \n\n\n\n \n\n  \nLIEU : CLUB ST-JAMES DE MONTRÉAL \n\n1145\, Avenue Union\, Montréal (Québec)  H3B 3C2\n(coin boul. René-Lévesque Ouest)\nT : 514 866-7474 \nCode vestimentaire : Le Club St-James exige une tenue d’affaires décontractée (jeans ou tenue de sport ne sont pas acceptés)\, la majorité des participants se présentent avec une tenue de ville (habit et cravate). \nCertificat : Un certificat de participation attestant 1\,75 heures de formation continue sera envoyé par courriel sur place aux participants présents. Assurez-vous de l’avoir avant la sortie. \n  \n\n  \nCLIQUEZ ICI POUR VOUS INSCRIRE
URL:https://ashraemontreal.org/evenements-en-details/souper-conference-novembre-2017/
LOCATION:Château Saint-Ambroise\, Château Saint-Ambroise\, Montréal\, QC\, H4C 2C7\, Canada
CATEGORIES:Professionnels
ATTACH;FMTTYPE=image/jpeg:https://ashraemontreal.org/wp-content/uploads/2024/09/soireeprestige2018.jpg
END:VEVENT
END:VCALENDAR