BEGIN:VCALENDAR
VERSION:2.0
PRODID:-//ASHRAE - ECPv6.15.17.1//NONSGML v1.0//EN
CALSCALE:GREGORIAN
METHOD:PUBLISH
X-ORIGINAL-URL:https://ashraemontreal.org
X-WR-CALDESC:Événements pour ASHRAE
REFRESH-INTERVAL;VALUE=DURATION:PT1H
X-Robots-Tag:noindex
X-PUBLISHED-TTL:PT1H
BEGIN:VTIMEZONE
TZID:America/Montreal
BEGIN:DAYLIGHT
TZOFFSETFROM:-0500
TZOFFSETTO:-0400
TZNAME:EDT
DTSTART:20160313T070000
END:DAYLIGHT
BEGIN:STANDARD
TZOFFSETFROM:-0400
TZOFFSETTO:-0500
TZNAME:EST
DTSTART:20161106T060000
END:STANDARD
BEGIN:DAYLIGHT
TZOFFSETFROM:-0500
TZOFFSETTO:-0400
TZNAME:EDT
DTSTART:20170312T070000
END:DAYLIGHT
BEGIN:STANDARD
TZOFFSETFROM:-0400
TZOFFSETTO:-0500
TZNAME:EST
DTSTART:20171105T060000
END:STANDARD
BEGIN:DAYLIGHT
TZOFFSETFROM:-0500
TZOFFSETTO:-0400
TZNAME:EDT
DTSTART:20180311T070000
END:DAYLIGHT
BEGIN:STANDARD
TZOFFSETFROM:-0400
TZOFFSETTO:-0500
TZNAME:EST
DTSTART:20181104T060000
END:STANDARD
END:VTIMEZONE
BEGIN:VEVENT
DTSTART;TZID=America/Montreal:20170606T000000
DTEND;TZID=America/Montreal:20170606T000000
DTSTAMP:20260425T081304
CREATED:20240922T173759Z
LAST-MODIFIED:20241004T003514Z
UID:15830-1496707200-1496707200@ashraemontreal.org
SUMMARY:Classique de golf et randonnée cyclosportive
DESCRIPTION:Réservez tôt et choisissez votre parcours ou votre activité! Intéressez par une commandite? C’est le bon temps de nous contacter. \nÀ la demande générale : l’activité vélo revient en force pour compléter la classique de golf qui sera bonifiée de plusieurs nouveautés. \nL’activité de golf et vélo est l’occasion de regrouper l’ensemble des membres de l’industrie dans une ambiance festive pour terminer la saison du chapitre de Montréal en beauté. \n\nÉDITION 2017\nNOUVEAUTÉS – NOUS VOUS AVONS ÉCOUTÉS …\n\nGolf : choix de 2 parcours Le classique (18 trous) et Le pro (13 trous).\nSouper : cocktail et souper style buffet pour vous permettre de mieux réseauter et pour revenir plus rapidement avec vos proches\nD’autres surprises à venir\n\nPROFITEZ DES RABAIS IMPORTANTS AVANT LE 28 FÉVRIER 2017! \n\nQUE désirez-vous faire?\n\n\n  \nParticiper à l’édition 2017 \n\n\n  \nDevenir partenaires \n\n\n  \nSouvenirs de l’édition 2016 \n\n\n\n  \ninformation générale\nProgramme de la JOURNÉE\n  \n\n8h30 à 10h00 – Brunch ( golfeurs Le Classique et cyclistes)\n\nConcours de coups roulés (tirage d’un prix)\nChamps de pratique à volonté incluant les balles\n\n\n10h30 – 1er Départ GOLF –  Le classique  (18 trous) – « Shot Gun » formule de style Vegas\n10h45 – Départ VÉLO (60\, 75 ou 90 km)\n12h30 – 2e Départ GOLF –  Le pro  (13 trous) – « Shot Gun » formule de style Vegas\n17h00 – Cocktail et souper (avec cadeaux et remises de prix)\n\nN.B. Lunch au casse-croûte pour tous les golfeurs et cyclistes. \nDétails sur l’option du vélo \nCircuits des cyclistes: \n60 km https://ridewithgps.com/routes/2493606 ou PDF \n75 km https://ridewithgps.com/routes/2493875 ou PDF \n90 km https://ridewithgps.com/routes/2493675 ou PDF \n  \n  \ntarification (taxes EN SUS)\n\n\n\nMEMBRE \n\n\nINSCRIPTION HÂTIVE\n(avant le 28 février 2017) \n\n\nINSCRIPTION RÉGULIÈRE\n(à compter du 1er mars 2017) \n\n\nLe classique – 18 trous\n\n \n\n\nGOLF – QUATUOR \nGOLF – INDIVUDUEL \n\n\n800 $ \n210 $ \n\n\n900 $ \n245 $ \n\n\n\nLe pro – 13 trous\n\n \n\n\nGOLF – QUATUOR \n\n\n740 $ \n\n\n840 $ \n\n\nVélo et souper\n\n \n\n\nVÉLO – Randonnée cyclo-sportive \nSouper seulement \n\n\n195 $ \n90 $ \n\n\n225 $ \n 90 $ \n\n\n  \n\n\n\n\nNON-MEMBRE \n\n\nINSCRIPTION HÂTIVE\n(avant le 28 février 2017)\n \n\n\nINSCRIPTION RÉGULIÈRE\n(à compter du 1er mars 2017) \n\n\nLe classique – 18 trous\n\n \n\n\nGOLF – QUATUOR \nGOLF – INDIVIDUEL \n\n\n900 $ \n250 $ \n\n\n1000 $ \n285 $ \n\n\n\nLe pro – 13 trous\n\n \n\n\nGOLF – QUATUOR \n\n\n 775 $  \n\n\n875 $ \n\n\n\nVélo et souper\n\n \n\n\nVÉLO – Randonnée cyclo-sportive \nSouper seulement \n\n\n210 $ \n100 $ \n\n\n240 $ \n 100 $ \n\n\n  \n\nSuite au succès des années passées\, les inscriptions se feront en ligne\, vous recevrez une confirmation immédiate par courriel. Il sera possible de changer le nom de vos joueurs de votre quatuor ou faire des ajouts à votre réservation à partir du courriel de confirmation à cet événement. \n INSCRIVEZ-VOUS MAINTENANT! \n  \n\n  \nPARTENAIRES\n  \nLe chapitre de Montréal remercie fortement ses partenaires qui font le succès de l’événement.\nVisibilité assurée. Priorité aux commanditaires du tournoi de l’an dernier jusqu’au  \n15 avril seulement\, alors faites vite! \nConsulter la politique de commandites! \nVérifiez auprès de Mathieu Rondeau afin de connaître les commandites disponibles :\nCourriel : golf@ashraemontreal.org \nTéléphone : 514-356-8777 poste 3871. \n\nMerci à tous nos pARTENAIRES DE L’ÉDITION 2017 :\nNous attendons vos confirmations dès maintenant! \nNous afficherons au fur et à mesure les compagnies qui seront inscrites et confirmées. \n\n  \n\n  \n\nLIEU\n\n\nClub de golf Lachute \n355\, Avenue Béthany\, Lachute (Québec)  J8H 3X5 \nT : 514 990-0300 \n\n  \n\n  \n\nVOTRE ÉQUIPE DÉVOUÉE :\n\n\nMai Anh Dao\nDaniel Robert \n\n\nRime Mansour\nMichel Landry \n\n\nMathieu Rondeau\nAnthony Sander Sainjour \n\n\n\n  \n\n\nPOUR PLUS DE DÉTAILS : \n\n\nContacter l’équipe golf et vélo \n\n\n\n\n  \n\n  \nsouvenirs – Tournoi de golf et randonnées cyclo-sportives 2016\nJuin 2016 : une 57e classique bien réussie!\nMerci aux nombreux partenaires de l’événement et aux participants qui ont fait de cette journée un événement mémorable et permis de remettre aux membres de nombreux prix de présence! \nAvec plus de 260 participants et une température des plus clémente\, cette classique fut certainement un incontournable de la saison. Les amateurs de vélos furent comblés par les superbes parcours développés spécialement pour vous par notre expert\, Daniel Robert! \n\n\n\n  \nMERCI À TOUS NOS PARTENAIRES ET COMMANDITAIRES DE L’ÉDITION 2016 :\nBouthillette Parizeau / Bousquet Technologies / Entreprise Carrier Canada / Cheminée Lining / Distech Controls Inc. / Enertrak / Engineered Air / Entreprises de réfrigération L.S./ Enviroair Industries / Tuyauterie Expert / Les ateliers Fabtech / Gaz Métro / Groupe Investors / ITC Technologies Montréal – Daikin / Jess / Provent HCE / Johnson Controls / Le Groupe Master / Qualité air totale – Q.A.T. / Preston Phipps inc. / Pro Kontrol / Refplus / Rosemex / SCI Montréal / T.A. Morrison – TAMCO / Trane Canada/ Thermolec / Victaulic / VDDO / Voyage golf Gendron \n\n  \n Quelques photos souvenirs. \n\n\n \nMEILLEUR QUATUOR\, PARCOURS #1 \nSamuel Lavoie et Mathieu Rondeau entourant les gagnants : Alexandre Ouellet\, Pierre Guillemette\, Samuel Gaudette\n( et Alexandre Brière absent sur la photo) \n  \n\n\n \nMEILLEUR QUATUOR\, PARCOURS #2 \nAudrey Dupuis\, Francis Lacharité\, Julien Allard et\nJean-François Bergevin \n\n\n\n\n \n\n\n \n\n\n 
URL:https://ashraemontreal.org/evenements-en-details/classique-de-golf-et-randonnee-cyclosportive/
LOCATION:Club de golf Lachute\, 355\, Avenue Béthany\, Lachute\, Québec\, J8H 3X5\, Canada
CATEGORIES:Professionnels
ATTACH;FMTTYPE=image/jpeg:https://ashraemontreal.org/wp-content/uploads/2024/09/evenements-golfvelo.jpg
END:VEVENT
BEGIN:VEVENT
DTSTART;TZID=America/Montreal:20170620T000000
DTEND;TZID=America/Montreal:20170620T000000
DTSTAMP:20260425T081304
CREATED:20240922T173757Z
LAST-MODIFIED:20241002T001117Z
UID:15794-1497916800-1497916800@ashraemontreal.org
SUMMARY:Date limite pour la campagne du Fonds de recherche 2016-2017
DESCRIPTION:27 juin à 16h est la nouvelle date limite pour faire vos dons à ASHRAE Research Canada! Nous prolongeons la date afin que nous puissions nous rapprocher de notre objectif. \nVisitez notre page  Fonds de recherche. \n  \nFaites un don en ligne maintenant! \n  \n  \n 
URL:https://ashraemontreal.org/evenements-en-details/date-limite-pour-campagne-recherche-2016-2017/
LOCATION:Québec
CATEGORIES:Professionnels
ATTACH;FMTTYPE=image/jpeg:https://ashraemontreal.org/wp-content/uploads/2024/09/img_recherche.jpg
END:VEVENT
BEGIN:VEVENT
DTSTART;TZID=America/Montreal:20170624T000000
DTEND;TZID=America/Montreal:20170628T000000
DTSTAMP:20260425T081304
CREATED:20240922T173758Z
LAST-MODIFIED:20241003T011912Z
UID:15817-1498262400-1498608000@ashraemontreal.org
SUMMARY:Conférence annuelle ASHRAE 2017
DESCRIPTION:Prix réduits avant le 12 juin 2017… \nRessourçant! \nCongrès\, conférence et bien plus encore… \n  \n\nINFO\n\n\n\n\nDétails sur le site de la Société \nConsulter le site > \n\n\nPar téléphone \nT. 404 836-8400 \n\n\n\n  \n 
URL:https://ashraemontreal.org/evenements-en-details/conference-annuelle-ashrae-2017/
LOCATION:Long Beach\, United States
CATEGORIES:Professionnels
ATTACH;FMTTYPE=image/jpeg:https://ashraemontreal.org/wp-content/uploads/2024/09/congres_annuel-a.jpg
END:VEVENT
BEGIN:VEVENT
DTSTART;TZID=America/Montreal:20170628T000000
DTEND;TZID=America/Montreal:20170628T000000
DTSTAMP:20260425T081304
CREATED:20240930T230425Z
LAST-MODIFIED:20240930T230757Z
UID:16311-1498608000-1498608000@ashraemontreal.org
SUMMARY:Renouvellement de votre adhésion ASHRAE
DESCRIPTION:Ce message s’adresse principalement aux membres dont l’adhésion se tremine le 30 juin et … \nAprès votre date d’échéance\, vous avez 3 mois pour renouveler sans perdre votre statut. En renouvelant tôt en juin\, vous évitez les augmentations de tarification\, vous vous simplifiez la tâche et vous encouragez vos bénévoles de votre chapitre. \nProfitez de l’occasion pour: \n\nVérifier votre date d’échéance\nRenouveler à la Société « Society Dues »\nPayer  votre renouvellement au chapitre « Montreal Chapter Dues »\nMettre vos coordonnées\, informations scolaires et professionnelles à jour.\n\nRenouveler maintenant via la Société (SVP\, le faire exclusivement sur ce lien) \nSi vous l’avez déjà fait\, nous vous en remercions. \nSi vous avez des questions\, contactez-moi directement. \n  \nMarc-André Ravary ing.  Membre ASHRAE \nComité des membres (Rime Mansour\, Elham Elbitar) \n514 592-5243 ‘membres@ashraemontreal.org
URL:https://ashraemontreal.org/evenements-en-details/renouvellement-de-votre-adhesion_67/
LOCATION:Québec
CATEGORIES:Professionnels
ATTACH;FMTTYPE=image/jpeg:https://ashraemontreal.org/wp-content/uploads/2024/09/default-event-home.jpg
END:VEVENT
END:VCALENDAR