BEGIN:VCALENDAR
VERSION:2.0
PRODID:-//ASHRAE - ECPv6.15.17.1//NONSGML v1.0//EN
CALSCALE:GREGORIAN
METHOD:PUBLISH
X-WR-CALNAME:ASHRAE
X-ORIGINAL-URL:https://ashraemontreal.org
X-WR-CALDESC:Événements pour ASHRAE
REFRESH-INTERVAL;VALUE=DURATION:PT1H
X-Robots-Tag:noindex
X-PUBLISHED-TTL:PT1H
BEGIN:VTIMEZONE
TZID:America/Montreal
BEGIN:DAYLIGHT
TZOFFSETFROM:-0500
TZOFFSETTO:-0400
TZNAME:EDT
DTSTART:20160313T070000
END:DAYLIGHT
BEGIN:STANDARD
TZOFFSETFROM:-0400
TZOFFSETTO:-0500
TZNAME:EST
DTSTART:20161106T060000
END:STANDARD
BEGIN:DAYLIGHT
TZOFFSETFROM:-0500
TZOFFSETTO:-0400
TZNAME:EDT
DTSTART:20170312T070000
END:DAYLIGHT
BEGIN:STANDARD
TZOFFSETFROM:-0400
TZOFFSETTO:-0500
TZNAME:EST
DTSTART:20171105T060000
END:STANDARD
BEGIN:DAYLIGHT
TZOFFSETFROM:-0500
TZOFFSETTO:-0400
TZNAME:EDT
DTSTART:20180311T070000
END:DAYLIGHT
BEGIN:STANDARD
TZOFFSETFROM:-0400
TZOFFSETTO:-0500
TZNAME:EST
DTSTART:20181104T060000
END:STANDARD
END:VTIMEZONE
BEGIN:VEVENT
DTSTART;TZID=America/Montreal:20170407T000000
DTEND;TZID=America/Montreal:20170407T000000
DTSTAMP:20260425T113123
CREATED:20240922T173758Z
LAST-MODIFIED:20241003T112850Z
UID:15819-1491523200-1491523200@ashraemontreal.org
SUMMARY:Candidatures pour les Méritas technologiques ASHRAE
DESCRIPTION:Les méritas technologiques sont ouverts à tous les projets et récompensent les membres professionnels de la mécanique du bâtiment. \n\n\nObjectifs du concours\n\nReconnaître les membres de l’ASHRAE pour leurs conceptions technologiques innovatrices dont la performance est documentée par des données d’opération réelle;\nFaire connaître ces concepts innovateurs auprès des autres membres de l’ASHRAE;\nSouligner les hauts-faits technologiques de l’ASHRAE auprès des autres associations et sociétés professionnelles de par le monde\, ainsi qu’auprès des propriétaires d’immeubles.\n\n\n\nNotoriété\nChaque méritas souligne le savoir-faire hors-pair du membre\, et cette notoriété est partagée par la firme employant le membre et\, évidemment\, le propriétaire du bâtiment.  Ces méritas accordent une grande notoriété à ses récipiendaires : notamment\, l’opportunité de publier\, au cours de l’année suivante\, un article sur le projet dans le ASHRAE Journal ou encore la revue High Performance Buildings. \n\n\n  \nNouvelles candidatures\n–\nVous avez un projet à nous soumettre? \n\n\nLes six (6) catégories dans lesquelles les projets de bâtiment (nouveau\, existant et rétro-commissioning) peuvent être disposés sont les suivantes : \n\n\n\n\nÉdifice commercial\nÉdifice institutionnel :\n\nÉtablissement d’enseignement\nAutre établissement\n\n\nÉtablissement de santé\nBâtiment ou procédé industriel\nLieu de rassemblement\nÉdifice résidentiel\n\n\n\n\n  \nPour pouvoir soumettre un projet\, ce dernier doit avoir été en opération depuis au moins un (1) an lors du dépôt de la candidature au Chapitre. Nous vous suggérons fortement d’utiliser le Long Form pour préparer votre candidature (qui va être requis lors de la soumission à la région et à la société)\, mais il est aussi possible d’utiliser le Short Form. \nLa date limite de remise des projets-candidatures a été PROLONGÉE à vendredi le 7 avril 2017. \nTentez votre chance! \nContactez votre représentant CTTC \n  \n\n  \nGagnants années antérieures\n  \nSection en développement. \n 
URL:https://ashraemontreal.org/evenements-en-details/lancement-des-candidatures-pour-les-meritas-technologiques-ashrae/
LOCATION:Québec
CATEGORIES:Professionnels
ATTACH;FMTTYPE=image/jpeg:https://ashraemontreal.org/wp-content/uploads/2024/08/meritas_technologiques_photo.jpg
END:VEVENT
BEGIN:VEVENT
DTSTART;TZID=America/Montreal:20170410T171500
DTEND;TZID=America/Montreal:20170410T211500
DTSTAMP:20260425T113123
CREATED:20240922T173758Z
LAST-MODIFIED:20241002T010300Z
UID:15806-1491844500-1491858900@ashraemontreal.org
SUMMARY:Souper-conférence – Avril 2017
DESCRIPTION:Conférence technique (17 h 45)\nSUJET : La Maison symphonique de Montréal : une conception acoustique de calibre mondial \nLa maison symphonique est un projet unique en son genre au sein de l’environnement métropolitain de Montréal. Le projet abrite plusieurs salles de pratique/répétition et des locaux techniques\, mais son atout principal est l’auditorium permettant d’accueillir 120 musiciens et 2 100 spectateurs. Des critères acoustiques sévères furent exigés afin satisfaire les plus hauts standards s’appliquant aux salles de concert\, notamment en ce qui concerne le bruit et les vibrations issus des équipements électromécaniques. Pour sa présentation\, M. St-George fera d’abord le survol du projet\, puis il présentera les principaux éléments de la mécanique du bâtiment. Il détaillera ensuite les objectifs visés pour le contrôle du bruit et des vibrations\, ainsi que les moyens développés et mis en oeuvre pour les atteindre. Finalement\, certains défis rencontrés durant la conception et/ou la construction seront discutés. \nPrésentation en format PDF disponible aux membres. \n\n  \n\n\n \n  \n\n\nYves St-Georges\, ing.\, PMP \nChargé de projet\, Mécanique/Électrique\nSNC-Lavalin \nM. Yves St-Georges\, ingénieur en mécanique\, PMP\, possède plus de trente (30) ans d’expérience\, dont vingt (20) ans\, en tant que directeur de projet dans les secteurs récréatif\, institutionnel et industriel. Chargé de projet expérimenté\, il est également responsable des disciplines de ventilation et de régulation automatique du bâtiment pour divers mandats. \nPar ailleurs\, M. St-Georges a participé à des projets de grande envergure\, faisant appel à des technologies spécialisées\, d’avant-garde par rapport aux standards internationaux et comportant de grands défis architecturaux et techniques. Pour la réalisation de ces projets\, il a collaboré\, entre autres\, avec des spécialistes du Cirque du Soleil et des acousticiens de renommée mondiale. M. St-Georges a terminé récemment la mise en marche des systèmes électromécaniques de la Maison Symphonique de Montréal\, projet ayant mérité deux prix canadiens en 2011. Il possède le titre PMP (Project Management Professional) du « Project Management Institute » et il est également membre du « Building Commissioning Association ». \n\n\n  \n\n  \n\n\nJean-François Latour\, B.Sc.\, ASA \nChargé de projet\, Acoustique et vibration\nSNC-Lavalin \nM. Latour est un consultant en acoustique\, notamment dans le domaine de l’insonorisation\, de l’acoustique architecturale\, du contrôle du bruit/vibrations et des études de climat sonore/vibrations. Ayant commencé sa carrière en 2003 en tant que technologue\, M. Latour possède une vaste expérience sur le terrain (inspections\, mesures\, etc.) et a su parfaire ses connaissances techniques en complétant à temps partiel une formation universitaire en physique et science informatique. Il possède aussi une excellente expertise en enregistrement studio et en sonorisation\, domaine avec lequel il est resté en contact depuis les 16 dernières années; cette expérience représente un fort avantage pour les projets en acoustique des salles (enseignement\, culte\, arts et spectacles\, etc.). Grâce à son esprit d’initiative et son entregent\, il contribue activement à la communauté des acousticiens tant au Canada qu’à l’international. \n\n\n \n  \n\n\n  \n\n  \nConférence principale (19 h 00)\nSUJET : L’importance de l’humidification envers la santé \nDr Taylor va présenter l’évolution à l’intérieur des édifices. Elle va nous entretenir sur : \n\nLes taux d’humidité\nLa transmission\nL’importance du taux minimum\nLe contrôle des infections\nLes défenses du corps humain.\n\nPrésentation en format PDF disponible aux membres. \n\n  \n\n\n \n  \n\n\nStephanie Taylor\, MD \nPDG\nTaylor Healthcare Commissioning\, inc. \nDr Stephanie Taylor est la présidente-directrice générale de Taylor Healthcare Commissioning. Après avoir travaillé comme médecin pendant de nombreuses années\, Dr Taylor a obtenu une maîtrise en architecture ainsi que la certification de contrôle des infections. Son engagement à vie pour le soin des patients l’a amenée à se concentrer sur l’amélioration de l’environnement physique de la santé et sur les processus de travail cliniques\, ceci dans le d’aider les patients à guérir rapidement et conséquemment de réduire les frais d’hôpitaux. Dr Taylor est diplômée de l’école de Médecine de Harvard (MD)\, et de l’Université de Norwich (Maîtrise en Architecture). Elle compte de nombreuses publications de recherche dans les revues Nature\, Science\, etc.. \n\n\n\n  \n\n  \nCLIQUEZ ICI POUR VOUS INSCRIRE \n\n  \nEXPOSANTS LORS DE LA SOIRÉE\n\n\n\nCOMPAGNIE\nJaga \n  \nPRODUIT(S)/SERVICES\nClima\, Quatro\, Micro\, Strada\, Knockonwood DBE\, Briza \nwww.jaga-canada.com \n\n\nCOMPAGNIE\nTransfab Energie Inc. \n  \nPRODUIT(S)/SERVICES\nChaudières électriques\, Chaudières tube à feu\, Réservoirs ASME\, Skid packaged Boiler \nwww.transfab.com \n\n\n\n\nCOMPAGNIE\nLe groupe Master \n  \nPRODUIT(S)/SERVICES\nChaudière & chauffe-eau – Aerco\, Récupérateur – RenewAire\, Furnace avec chauffage à l’eau domestique – GF200 NTI \nwww.master.ca \n\n\nCOMPAGNIE\nGrundfos Inc \n  \nPRODUIT(S)/SERVICES\nCirculateur intelligent Magna3 et Système surpresseur Hydro MPC \nwww.grundfos.ca \n\n\n\n\n  \ninformation générale\nProgramme de la soirée \n\n17 h 15 à 19 h 00 – Accueil (rez-de-chaussée)\n17 h 30 à 19 h 00 – Cocktail et visite des exposants – Salon Midway (rez-de-chaussée)\n17 h 45 – Conférence technique – Salle St-Denis (2e étage)\n18 h 30 – Cocktail et visite des exposants – Salon Midway (rez-de-chaussée)\n19 h 00 – Souper et mot du président ASHRAE chapitre de Montréal\, Samuel Lavoie – Salle St-Denis (2e étage)\n20 h 00 – Conférence principale – Salle St-Denis (2e étage)\n\n  \n\nMENU-REPAS \n\n\n\nSoupe du moment\nMagaret de canard sauce aux fruits rouges\, gratin dauphinois au gruyère\nEntremet aux poires et chocolat\nCafé ou thé \n\n\n\nATTENTION \nVeuillez nous aviser de toute allergie ou intolérance alimentaire lors de l’inscription. \n  \n\n\n\n  \n\n  \nTarification (taxes incluses) \n\n\n\nMEMBRE \n\nMembre ASHRAE Montréal (chapitre) : 62$\nMembre à vie ASHRAE ayant payé leur cotisation au chapitre : 40 $\nÉtudiant à temps plein et membre ASHRAE (Société) : 20 $\n\n\nForfaits exclusifs aux membres  (professionnels – saison 2016-2017 ) \nEn savoir + \nForfait exclusif aux membres étudiants (saison 2016-2017) \nEn savoir +  \n\n\n\n\nNON-MEMBRe ou membre IBPSA \n\nNon-membre : 87 $\nÉtudiant à temps plein\, non-membre ASHRAE (avec preuve) : 25 $\n\nMembre ASPE : 77 $\n\nDevenir membre\nc’est très avantageux!  \n\n\n\n\n  \nLIEU : CLUB ST-JAMES DE MONTRÉAL \n\n1145\, Avenue Union\, Montréal (Québec)  H3B 3C2\n(coin boul. René-Lévesque Ouest)\nT : 514 866-7474 \nStationnements près du Club Saint-James \nCode vestimentaire : Le Club St-James exige une tenue d’affaires décontractée (jeans ou tenue de sport ne sont pas acceptés)\, la majorité des participants se présentent avec une tenue de ville (habit et cravate). \nCertificat : Un certificat de participation attestant 1\,75 heures de formation continue sera envoyé par courriel sur place aux participants présents. Assurez-vous de l’avoir avant la sortie. \n\n  \nCLIQUEZ ICI POUR VOUS INSCRIRE
URL:https://ashraemontreal.org/evenements-en-details/souper-conference-avril-2017/
LOCATION:Château Saint-Ambroise\, Château Saint-Ambroise\, Montréal\, QC\, H4C 2C7\, Canada
CATEGORIES:Professionnels
ATTACH;FMTTYPE=image/jpeg:https://ashraemontreal.org/wp-content/uploads/2024/08/pour_montrealer.jpg
END:VEVENT
BEGIN:VEVENT
DTSTART;TZID=America/Montreal:20170419T150000
DTEND;TZID=America/Montreal:20170419T163000
DTSTAMP:20260425T113123
CREATED:20240922T173757Z
LAST-MODIFIED:20241002T004320Z
UID:15800-1492614000-1492619400@ashraemontreal.org
SUMMARY:Visite technique de l'usine RefPlus
DESCRIPTION:Venez visiter l’usine pour voir les méthodes de fabrication et la machinerie ! \nLe comité de réfrigération du Chapitre vous invite à visiter l’usine d’assemblage de la compagnie Refplus où des unités y sont produites. \nManufacturier d’équipements de réfrigération depuis plus de 20 ans\, RefPlus s’est taillé une place de choix dans l’industrie. Ils produisent des serpentins de toutes sortes\, des unités de condensation ainsi qu’une panoplie d’équipements connexes. \nCLIQUEZ ICI POUR VOUS INSCRIRE  \n\nINFORMATION GÉNÉRALE\nCLIENTÈLE VISÉE : Ouvert à tous \nHORAIRE DÉTAILLÉ DE L’ÉVÈNEMENT \n\n14 h 45 à 15 h 00 – Accueil\n15 h 00 à 16 h 30 – Visite technique de l’usine\n\n  \nTARIFICATION (taxes en sus) \n\n\n\nMEMBRE \n\nMembre ASHRAE Montréal (chapitre) : Gratuit\nMembre étudiant ASHRAE Montréal (chapitre) : Gratuit \n\n\n\n\n\nNON-MEMBRE \n\nNon-membre : 20 $\nÉtudiant non-membre : Gratuit\n\n\n\n\nDATE LIMITE D’INSCRIPTION : 17 avril 2017 \nnombre de limite de participants : 30 (maximum de 10 étudiants) \nÉQUIPEMENT OBLIGATOIRE : Lunettes de sécurité. Seulement un certain nombre de lunettes pourront être prêtées. \n  \n\nLIEU : 2777 grande allée\, saint-hubert\, québec\, j4t 2r4 \n2777\, Grande Allée\, Saint-Hubert\, Québec\, J4T 2R4 \nTRANSPORT : Stationnement gratuit à proximité\, ligne 54 RTL \nCLIQUEZ ICI POUR VOUS INSCRIRE
URL:https://ashraemontreal.org/evenements-en-details/visite-technique-de-l-usine-refplus/
LOCATION:Usine Refplus\, 2777\, Grande Allée\, Saint-Hubert\, Québec\, J4T 2R4\, Canada
CATEGORIES:Professionnels
ATTACH;FMTTYPE=image/jpeg:https://ashraemontreal.org/wp-content/uploads/2024/09/refplus_usine-1.jpg
END:VEVENT
BEGIN:VEVENT
DTSTART;TZID=America/Montreal:20170420T123000
DTEND;TZID=America/Montreal:20170420T160000
DTSTAMP:20260425T113123
CREATED:20240922T173759Z
LAST-MODIFIED:20241003T113901Z
UID:15821-1492691400-1492704000@ashraemontreal.org
SUMMARY:Webémission ASHRAE
DESCRIPTION:  \nVous avez raté la webémission annuelle ASHRAE du 20 avril?\n\nVous avez jusqu’au 5 mai pour la visionner gratuitement et obtenir 3 heures de formation professionnelle. Découvrez comment! \n\n \nUne présentation de l’ASHRAE et du comité du transfert technologique du chapitre (CTTC). \nCette webémission de 3 heures sera présentée par des experts de l’industrie qui définiront l’importance et la raison pour laquelle nous devrions nous efforcer d’améliorer les opérations des bâtiments grâce à des contrôles et des analyses bonifiées. Nous décrirons les éléments fondamentaux des systèmes de contrôles et des analyses nécessaires pour le bon fonctionnement des bâtiments. De plus\, nous identifierons les étapes requises pour mettre à profit l’analyse dans l’exploitation des bâtiments et leur mise en service. Cette émission détaillera comment appliquer les meilleures pratiques liées aux contrôles et comment améliorer les performances des bâtiments. En conclusion\, on démontrera comment l’analyse des données peut réduire les coûts d’opération et améliorer les performances réelles des bâtiments. \nDownload the English version in PDF \n\nATTENTION – Toutes les conférences seront présentées en anglais seulement. \nDéroulement : 12h30 à 16h00 \n12h30-13h00 – Lunch et réseautage \n13h00 – Première partie \n\nAllocution d’ouverture par Timothy Wentz\, président de l’ASHRAE\, P.E.\, Fellow ASHRAE\, HBDP\nIntroduction par Jennifer Gladestone\, modératrice\nPrésentation de Srinivas Katipamula : “Using Analytics to Drive Building Performance: Overview”\nTable de discussion\nPrésentation de Jim Meacham : “ Driving Success in Analytics Starts with Controls”\nPériode de questions & réponses\n\n14h20 – Pause \n14h30 – Deuxième partie – Introduction – Jennifer Gladstone\, modératrice \n\nPrésentation de Mark Gallagher : “Analytics\, The Possible and The Pragmatic”\nTable de discussion\nÉtude de cas\nPériode de questions & réponses\nSommaire des présentations\n\n15h55 – Allocution de fermeture – Jennifer Gladstone\, modératrice \nOuvert à tous et gratuit!  Ne manquez pas cette chance! \n\n  \n\nINSCRIPTION GRATUITE MAIS OBLIGATOIRE \n\n Inscription au Collège Ahuntsic (incluant un lunch gratuit)\, Salle A-1360 (attention changement de salle) \n 9155\, St-Hubert\, Montréal  (maximum de 30 participants) \nINSCRIPTION AU COLLÈGE AHUNTSIC – Cliquez ici \nDate limite d’inscription : 20 avril 2017 \nCertificats : Ces conférences (3 heures) sont admissibles pour vos ordres professionnels dans la mesure où elles sont pertinentes à vos fonctions professionnelles. Le chapitre émettra les attestations de présence sur place seulement. \nPour ceux qui ne peuvent se déplacer : \nVous pourrez la visualiser à votre poste de travail sur votre ordinateur ou en petit groupe en vous inscrivant au  www.ashrae.org/membership–conferences/webcasts. \nInformation sur les conférences:    www.ashrae.org
URL:https://ashraemontreal.org/evenements-en-details/webemission-ashrae/
LOCATION:collège ahunstic ou votre PC\, 9155\, St-Hubert\, Montréal\, Québec\, Canada
CATEGORIES:Professionnels
END:VEVENT
BEGIN:VEVENT
DTSTART;TZID=America/Montreal:20170426T000000
DTEND;TZID=America/Montreal:20170427T000000
DTSTAMP:20260425T113123
CREATED:20240922T173758Z
LAST-MODIFIED:20241002T004852Z
UID:15802-1493164800-1493251200@ashraemontreal.org
SUMMARY:Salon MCEE 2017
DESCRIPTION:ASHRAE Chapitre de Montréal est fier de supporter encore une fois MCEE en participant activement à ce salon. \nLe plus grand salon de la mécanique du bâtiment\, de l’électricité et de l’éclairage au Canada \nLe salon est organisé par quatre partenaires reconnus de l’industrie : ICPC\, CMMTQ. CMEQ et CETAF. Il reçoit plus de 6000 visiteurs et 400 exposants. La visite de l’exposition\, la participation aux conférences\, concours et autres activités sont gratuites pour les préinscriptions avant le 25 avril\, 2017. \nLieu : Place Bonaventure\, Montréal \nHeure : \nMercredi 26 avril 2017 – 10h à 19h\nJeudi 27 avril 2017 – 10 h à 16 h \nInfo : www.mcee.ca \n\n\n\n\nÉPARGNEZ 20 $\n\n\n\nInscrivez-vous avant le 25 avril 2017.\nAprès cette date\, l’inscription au coût de 20 $\npar personne se fera sur place seulement.\n\n\n\nINSCRIVEZ-VOUS MAINTENANT!  \n  
URL:https://ashraemontreal.org/evenements-en-details/salon-mcee-2017/
LOCATION:Place Bonaventure\, 800\, rue De La Gauchetière Ouest\, Québec\, H5A 1K6\, Canada
CATEGORIES:Professionnels
ATTACH;FMTTYPE=image/jpeg:https://ashraemontreal.org/wp-content/uploads/2024/09/mcee_ashrae_web.jpg
END:VEVENT
BEGIN:VEVENT
DTSTART;TZID=America/Montreal:20170428T000000
DTEND;TZID=America/Montreal:20170428T000000
DTSTAMP:20260425T113123
CREATED:20240922T173759Z
LAST-MODIFIED:20241004T001103Z
UID:15823-1493337600-1493337600@ashraemontreal.org
SUMMARY:Bourses ASHRAE Montréal
DESCRIPTION:Le chapitre de Montréal poursuit sa mission de soutien de la relève dans le domaine de la mécanique du bâtiment en accordant\, par le biais de sa fondation\, deux bourses de 600$ aux étudiants méritants. \nDownload the English version in PDF \nÀ QUI S’ADDRESSENT LES BOURSES?\nUne de ces bourses s’adresse aux étudiants de 1er cycle universitaire (Concordia\, ÉTS\, McGill\, Polytechnique) et la seconde est destinée aux étudiants en technique de mécanique du bâtiment des cégeps (Ahuntsic\, Vanier\, St-Hyacinthe et Trois-Rivières). \nCRITÈRES D’ADMISSIBILITÉ\n\nBesoins financiers\nImplication du candidat dans le domaine de la mécanique du bâtiment\nQualité de la lettre de présentation\nRésultats académiques\nPoursuite des études\, c’est-à-dire ne pas être finissant pour les étudiants universitaires ou poursuivre des études universitaires (pour les étudiants de CÉGEP)\n\nDOCUMENTS REQUIS\n\nLettre de présentation signée par vous ainsi que par votre professeur responsable ASHRAE de votre institution (Student Advisor)\nVotre relevé de notes le plus récent (incluant automne 2016)\nCurriculum Vitae\n\nSOUMETTRE VOTRE CANDIDATURE \nDate limite : remise des candidatures au chapitre   – 28 avril 2017 \nRemise des bourses collégiale et universitaire – Club St-James lors du souper-conférence du 8 mai 2017 \nS’INSCRIRE AU SOUPER-CONFÉRENCE DU 8 MAI  2017 APRÈS LE 1 MAI   \nVersion PDF téléchargeable en français  \n  \n 
URL:https://ashraemontreal.org/evenements-en-details/bourses-ashrae-montreal/
LOCATION:Québec
CATEGORIES:Étudiants
ATTACH;FMTTYPE=image/jpeg:https://ashraemontreal.org/wp-content/uploads/2024/08/bourses_ashrae.jpg
END:VEVENT
END:VCALENDAR