BEGIN:VCALENDAR
VERSION:2.0
PRODID:-//ASHRAE - ECPv6.15.17.1//NONSGML v1.0//EN
CALSCALE:GREGORIAN
METHOD:PUBLISH
X-WR-CALNAME:ASHRAE
X-ORIGINAL-URL:https://ashraemontreal.org
X-WR-CALDESC:Événements pour ASHRAE
REFRESH-INTERVAL;VALUE=DURATION:PT1H
X-Robots-Tag:noindex
X-PUBLISHED-TTL:PT1H
BEGIN:VTIMEZONE
TZID:America/Montreal
BEGIN:DAYLIGHT
TZOFFSETFROM:-0500
TZOFFSETTO:-0400
TZNAME:EDT
DTSTART:20160313T070000
END:DAYLIGHT
BEGIN:STANDARD
TZOFFSETFROM:-0400
TZOFFSETTO:-0500
TZNAME:EST
DTSTART:20161106T060000
END:STANDARD
BEGIN:DAYLIGHT
TZOFFSETFROM:-0500
TZOFFSETTO:-0400
TZNAME:EDT
DTSTART:20170312T070000
END:DAYLIGHT
BEGIN:STANDARD
TZOFFSETFROM:-0400
TZOFFSETTO:-0500
TZNAME:EST
DTSTART:20171105T060000
END:STANDARD
BEGIN:DAYLIGHT
TZOFFSETFROM:-0500
TZOFFSETTO:-0400
TZNAME:EDT
DTSTART:20180311T070000
END:DAYLIGHT
BEGIN:STANDARD
TZOFFSETFROM:-0400
TZOFFSETTO:-0500
TZNAME:EST
DTSTART:20181104T060000
END:STANDARD
END:VTIMEZONE
BEGIN:VEVENT
DTSTART;TZID=America/Montreal:20170313T131500
DTEND;TZID=America/Montreal:20170313T171500
DTSTAMP:20260425T125452
CREATED:20240922T173758Z
LAST-MODIFIED:20241002T010815Z
UID:15807-1489410900-1489425300@ashraemontreal.org
SUMMARY:Séminaire ASHRAE Chapitre de Montréal
DESCRIPTION:ASHRAE Montréal vous convie à son rendez-vous annuel portant sur le développement durable dans le bâtiment. \nFace à un marché énergétique en pleine transformation et à des défis techniques de construction de plus en plus complexes\, nous vous invitons à rencontrer de grands acteurs de l’industrie qui partageront avec vous des approches et solutions innovantes portant entre autres sur les nouvelles tendances et le nouveau bâtiment. Vous pourrez également découvrir l’approche prônée par l’ASHRAE pour qualifier la performance énergétique des bâtiments commerciaux. \nCes conférences montées sur mesure pour répondre à vos interrogations seront suivies d’un cocktail réseautage qui vous permettra d’échanger avec vos pairs! \nSubséquemment à cette demi-journée et au cocktail\, nous aurons l’honneur de recevoir Karel Mayrand de la Fondation David Suzuki\, qui nous partagera sa conférence intitulée « Un climat de changement : comment gagner la bataille du climat » lors de notre souper-conférence mensuel. \nINSCRIVEZ-VOUS MAINTENANT et profitez de l’occasion pour vous inscrire également au souper-conférence qui suivra cet événement. \nInformation du programme ci-bas téléchargeable en format PDF. \n\n13h15 à 14h05 (1ère conférence) et 14h10 à 15h00 (2e conférence) \n\nVolet nouvelle construction – Salons 4-5-6\nBibliothèque de la ville de Mont-Royal\n\n\n \n\n\nMartin Roy\, ing.\, président\, Martin Roy et associés \n\nDesign bioclimatique innovateur\nAjout de 13 300 pieds carrés à un bâtiment existant de 21 000 pieds carrés\n53 % plus efficace que les recommandations de l’ASHRAE 90.1 2007\nSystème hybride de ventilation : mécanique et naturelle\nLa conférence axera sur les normes ASHRAE utilisées\n\n\n\nPrésentation en format PDF disponible aux membres. \n\n  \nLe nouveau siège social de DICOM à Dorval\n\n\n \n\n\nSimon Kattoura\, ing.\, M. ing.\, MBA\, directeur des services écoénergétiques\, Kolostat \n\nProjet écologique : LEED-Or\, Lauréat du méritas technologique de l’ASHRAE en 2015\nProcessus de design intégré\nChauffage par boucle d’eau chaude connectée à une boucle de géothermie\nChauffage radiant au périmètre\nMaximisation de la récupération de chaleur\nToit vert\, mur végétal et luminosité naturelle dans la majorité des espaces\n\n\n\nPrésentation en format PDF disponible aux membres. \n  \n\n\nVolet nouvelles tendances – Salle St-Denis\nLe biométhane\, bientôt dans un réseau près de chez vous !\n\n\n \n\n\nDonald Beverly\, ing.\, conseiller sénior\, développement & énergies renouvelables et  \nMatthieu François\, ing.\, conseiller efficacité énergétique\, Gaz Métro \n\nQu’est-ce que le biométhane?\nLa filière de production du biométhane\nComment peut-il être acquis?\nExemples de projets concrets\n\n\n\n  \nPrésentation en format PDF disponible aux membres. \n\n  \nAccélération de l’intégration de pratiques durables dans la construction\, des chiffres qui parlent d’eux-mêmes\n\n\n \n\n\nLouis-Philip Bolduc\, ing.\, PA LEED BD+C\, gérant de projets\, Pomerleau \n\nPouvons-nous avoir une meilleure intégration des solutions et des technologies durables?\nPrésentation d’outils adaptés et données concrètes pour les professionnels\nDes expériences d’intégration réussies\n\n\n\nPrésentation en format PDF disponible aux membres. \n  \n\n  \n\n  \n\n15h00 à 15h30 – pause-café \nDans la salle St-Denis \n\n  \n\n15h30 à 16h20 (1ère conférence) et 16h25 à 17h15 (2e conférence) \n\nVolet nouvelle construction – Salons 4-5-6\nL’édifice Wilder – la danse en avant-scène\, la mécanique sous-scène\n\n\n \n\n\nDominic Latour\, ing.\, PA LEED\, associé\, Bouthillette Parizeau \n\nRénovation d’un édifice patrimonial de 1918\nSurface accrue de 33 % pour un total de 21 100 mètres carrés\nVentilation par induction dans l’entre plancher\n20 systèmes de recirculation à une température de 10°C\nPerformance énergétique de 40 % supérieure à l’ASHRAE 90.1-2007\n\n\n\n  \nPrésentation en format PDF disponible aux membres. \n\n  \nLe siège social de la Caisse Desjardins de Lévis\n\n\n \n\n\nDenis Fortin\, ing.\, directeur principal mécanique bâtiment\, CIMA \n\nUn bâtiment conçu pour le bien-être des occupants selon les principes du développement durable\nProjet de 23 M$\, de 8 100 mètres carrés sur 4 étages\nFenestration à vitrage triple haute de 4\,5 m\nImportance d’orienter les mesures environnementales en fonction du confort des occupants\nMédaille du Gouverneur général en architecture\n\n\n\n  \nPrésentation en format PDF disponible aux membres. \n  \n\n\nVolet récupération d’énergie – Salle St-Denis\nApplication d’extraction et de dégagement de chaleur sur les rejets d’égouts dans un projet multi-résidentiel\n\n\n \n\n\nRick Lawlor\, P. Eng.\, LEED AP\, International Wastewater Systems Inc. \n\nApplication d’extraction de chaleur des rejets aux égouts sanitaires pour l’atteinte de la certification LEED Platine\nComparaison de cette application par rapport aux énergies vertes conventionnelles (géothermie\, solaire)\nDiminution de 75\,2% de la consommation de gaz naturel\nComparaison des performances entre 2 générations d’équipements de récupération d’énergie des eaux sanitaires\n\nCette conférence sera présentée en anglais \n\n\n  \nPrésentation en format PDF disponible aux membres. \n\n  \nRécupération d’énergie des gaz de combustion par thermopompage\n\n\n \n\n\nJean-Philippe Hardy\, ing.\, M.Sc.A.\, CMVP\, CEM\, directeur de l’ingénierie\, Énergère \n\nPotentiel de récupération d’énergie des gaz de combustion par climatisation/thermopompage\nApplications et enjeux techniques du thermopompage de l’énergie des gaz de combustion\nRésultats concrets d’une installation avec récupération traditionnelle et récupération par thermopompage\n\n\n\n  \nPrésentation en format PDF disponible aux membres. \n  \n\n  \n\n  \nINFORMATION GÉNÉRALE\nPROGRAMME DE LA Journée \n\n12 h 45 à 13 h 15 – Accueil (2e étage)\n13 h 15 à 14 h 05 – Premières conférences (2 salles simultanées)\n14 h 10 à 15 h 00 – Deuxièmes conférences (2 salles simultanées)\n15 h 00 à 15 h 30 – Pause-café\n15 h 30 à 16 h 20 – Troisièmes conférences (2 salles simultanées)\n16 h 25 à 17 h 15 – Quatrièmes conférences (2 salles simultanées)\n17 h 15 à 19 h 00 – Mot de clôture et cocktail Gaz Métro\n19 h 00 à 21 h 00 – Souper-conférence du mois de mars – ÉVÈNEMENT SÉPARÉ AVEC UNE INSCRIPTION ET COÛT DISTINCTS.\n\n  \n\n  \nTARIFICATION (taxes incluses) \nLe coût inclut les conférences de l’après-midi\, la pause-café\, et une consommation gratuite lors du cocktail. \n\n\n\nMEMBRE \n\nMembre ASHRAE Montréal (chapitre) : 90 $\nÉtudiant à temps plein et membre ASHRAE (Société) : 20 $\n\n\n\n\n\n\nNON-MEMBRE \n\nNon-membre : 120 $\nÉtudiant à temps plein\, non-membre ASHRAE (avec preuve) : 20 $\n\nDevenir membre\nc’est très avantageux!  \n\n\n\n\n  \nLIEU : CLUB ST-JAMES DE MONTRÉAL \n\n1145\, Avenue Union\, Montréal (Québec)  H3B 3C2\n(coin boul. René-Lévesque Ouest)\nT : 514 866-7474 \nCode vestimentaire : Le Club St-James exige une tenue d’affaires décontractée (jeans ou tenue de sport ne sont pas acceptés)\, la majorité des participants se présentent avec une tenue de ville (habit et cravate). \nCertificat : Un certificat de participation attestant 3\,5 heures de formation continue sera envoyé par courriel sur place aux participants présents. Assurez-vous de l’avoir avant la sortie. \n\n  \nINSCRIVEZ-VOUS MAINTENANT et profitez de l’occasion pour vous inscrire également au souper-conférence qui suivra cet événement.
URL:https://ashraemontreal.org/evenements-en-details/seminaire-ashrae-chapitre-de-montreal/
LOCATION:Château Saint-Ambroise\, Château Saint-Ambroise\, Montréal\, QC\, H4C 2C7\, Canada
CATEGORIES:Professionnels
ATTACH;FMTTYPE=image/jpeg:https://ashraemontreal.org/wp-content/uploads/2024/08/seminaire_2017.jpg
END:VEVENT
BEGIN:VEVENT
DTSTART;TZID=America/Montreal:20170313T171500
DTEND;TZID=America/Montreal:20170313T211500
DTSTAMP:20260425T125452
CREATED:20240922T173758Z
LAST-MODIFIED:20241003T005919Z
UID:15811-1489425300-1489439700@ashraemontreal.org
SUMMARY:Souper-conférence – Mars 2017
DESCRIPTION:Présentation spéciale !\nLa période du cocktail chevauchera celle de l’événement précédent\, soit le séminaire ASHRAE Montréal sur le développement durable\, afin de permettre à tous de profiter pleinement. \nProfitez de l’occasion en vous inscrivant à ces deux événements! \nINSCRIVEZ-VOUS MAINTENANT \nCette soirée spéciale sur le développement durable vous est présentée grâce à nos partenaires suivants: \n\n\n\n \n\n\n \n\n\n\n\n \n\n\n \n\n\n \n\n  \n\nConférence principale (19h00)\nSUJET : Un climat de changement : comment gagner la bataille du climat  \nL’ancien vice-président américain et prix Nobel de la Paix\, Al Gore\, s’est donné pour mission de sensibiliser les citoyens de l’ensemble de la planète à la crise climatique. Son film Une vérité qui dérange a profondément marqué l’opinion publique il y a dix ans. Cette conférence\, qui a déjà rejoint plus de deux millions de personnes à travers le monde\, utilise le matériel développé par l’équipe du Projet de la Réalité climatique d’Al Gore pour présenter les dernières avancées de la science du climat et les solutions à la crise climatique. Alors que les changements climatiques s’accélèrent et que l’urgence d’agir s’impose\, la conférence nous apporte de bonnes nouvelles concernant les changements financiers\, technologiques\, économiques et politiques qui sont déjà en marche pour gagner la bataille du climat. \n\n  \n\n\n \n\n\nKAREL MAYRAND \nDirecteur général pour le Québec et l’Atlantique pour la Fondation David Suzuki\nPrésident\, Réalité climatique Canada \nConférencier émérite \nKarel Mayrand est directeur général pour le Québec et l’Atlantique de la Fondation David Suzuki et président de Réalité climatique Canada\, organisme fondé par Al Gore. Blogueur régulier au Huffington Post\, il siège également au conseil d’administration du Centre québécois du droit de l’environnement et de la Fondation Les Cowboys Fringants. Avant de se joindre à la Fondation en 2008\, Karel a conseillé plusieurs agences internationales\, de même que Pierre Marc Johnson\, ancien premier ministre du Québec\, pendant plus d’une décennie sur les enjeux de la mondialisation et de l’environnement. Il a été co-fondateur du Centre international Unisféra en 2002\, où il a créé en 2005 le programme de compensation des gaz à effet de serre Planetair. Karel est auteur du livre intitulé Une voix pour la Terre publié aux éditions du Boréal en 2012. Il est co-auteur du Manifeste pour un Élan Global (2015) et de Governing Global Desertification (2006) aux éditions Ashgate Aldershot (Londres). Il est boursier Action Canada 2005 et a été finaliste du concours Arista en 2008 à titre d’entrepreneur socialement responsable de l’année au Québec. \n\n\n  \n\n  \nEXPOSANTS LORS DE LA SOIRÉE\n\n\n\nCOMPAGNIE\nHYDRO-QUÉBEC DISTRIBUTION \n  \nPRODUIT(S)/SERVICES\nProgrammes Bâtiments et Gestion de la demande de puissance \nhttp://www.hydroquebec.com/affaires/efficacite-energetique/ \n\n\nCOMPAGNIE\nCONTECH BÂTIMENT \n  \nPRODUIT(S)/SERVICES\nExpos Contech bâtiment et formations techniques pour ingénieurs et manufacturiers CVCA-R \nhttp://contech.qc.ca/exposition-batiment-montreal \n\n\n\n\nCOMPAGNIE\nAIREAU QUALITÉ CONTRÔLE \n  \nPRODUIT(S)/SERVICES\nLes produits de dépoussiérage et captation fait au Québec ACQ \nwww.aireau.com et www.aqcdust.com \n\n\nCOMPAGNIE\nSTELPRO \n  \nPRODUIT(S)/SERVICES\nSerpentin électrique\, Ecoboot et MUA \nwww.stelpro.com \n  \n\n\n\n\n\n\nVous voulez profiter de la visibilité qu’offrent ces soupers-conférences comme tremplin publicitaire pour votre entreprise\, ou encore pour développer un réseau de contact des plus intéressants? \nContactez le comité présentoirs. \n\n\nEn savoir + \n\n\n\n  \n\n  \nINFORMATION GÉNÉRALE\nPROGRAMME DE LA SOIRÉE \n  \n\n17 h 15 à 19 h 00 – Accueil (rez-de-chaussée)\n17 h 30 à 19 h 00 – Cocktail et visite des exposants – Salon Midway (rez-de-chaussée)\n19 h 00 – Souper et mot du président ASHRAE chapitre de Montréal\, Samuel Lavoie – Salle St-Denis (2e étage)\n20 h 00 – Conférence principale – Salle St-Denis (2e étage)\n\n  \n\nMENU-REPAS \n\n\n\nSoupe du moment\nOmble de l’Arctique « Ocean Wise »\, mousseline de topinambour bio du Québec\, sauce crémée aux herbes\nDélice québécois – tartelette au sucre maison\nCafé ou thé\n\n\n\nATTENTION \nVeuillez nous aviser de toute allergie ou intolérance alimentaire lors de l’inscription.\n \n  \n\n\n\n  \nTARIFICATION (taxes incluses) \n\n\n\nMEMBRE \n\nMembre ASHRAE Montréal (chapitre) : 62$\nMembre à vie ASHRAE ayant payé leur cotisation au chapitre : 40 $\nÉtudiant à temps plein et membre ASHRAE (Société) : 20 $\n\n\nForfaits exclusifs aux membres  (professionnels – saison 2016-2017 ) \nEn savoir + \nForfait exclusif aux membres étudiants (saison 2016-2017) \nEn savoir +  \n\n\n\n\nNON-MEMBRE \n\nNon-membre : 87 $\nÉtudiant à temps plein\, non-membre ASHRAE (avec preuve) : 25 $\nMembre ASPE : 77 $\n\nDevenir membre\nc’est très avantageux!  \n\n\n\n\n  \nLIEU : CLUB ST-JAMES DE MONTRÉAL \n\n1145\, Avenue Union\, Montréal (Québec)  H3B 3C2\n(coin boul. René-Lévesque Ouest)\nT : 514 866-7474 \nCode vestimentaire : Le Club St-James exige une tenue d’affaires décontractée (jeans ou tenue de sport ne sont pas acceptés)\, la majorité des participants se présentent avec une tenue de ville (habit et cravate). \nCertificat : Un certificat de participation attestant 1 heure de formation continue sera envoyé par courriel sur place aux participants présents. Inscrivez-vous également au séminaire pour obtenir au total 4.5 heures. Assurez-vous de l’avoir avant la sortie. \n\n INSCRIVEZ-VOUS MAINTENANT \nInfo sur le  séminaire ASHRAE Montréal sur le développement durable qui précédera le souper-conférence. \nProfitez de l’occasion en vous inscrivant à ces deux événements!
URL:https://ashraemontreal.org/evenements-en-details/souper-conference-mars-2017/
LOCATION:Château Saint-Ambroise\, Château Saint-Ambroise\, Montréal\, QC\, H4C 2C7\, Canada
CATEGORIES:Professionnels
ATTACH;FMTTYPE=image/jpeg:https://ashraemontreal.org/wp-content/uploads/2024/08/pour_montrealer.jpg
END:VEVENT
BEGIN:VEVENT
DTSTART;TZID=America/Montreal:20170323T083000
DTEND;TZID=America/Montreal:20170323T103000
DTSTAMP:20260425T125452
CREATED:20240922T173758Z
LAST-MODIFIED:20241003T005410Z
UID:15810-1490257800-1490265000@ashraemontreal.org
SUMMARY:Déjeuner-causerie WIA - Mars
DESCRIPTION:Le stress : Ou comment chasser les mammouths sans y laisser sa peau – \nVenez comprendre le stress\, ses impacts et comment le réduire ! \nObjectifs de la rencontre : \n\nCette conférence vise à démystifier la définition populaire du stress et à résumer les découvertes scientifiques des 30 dernières années dans le domaine de la psycho-neuroendocrinologie qui étudie les mécanismes et les effets du stress sur la santé physique et mentale.\nUne description détaillée des effets aigus et chroniques du stress sur la santé physique et mentale sera présentée\, dans le but de mieux reconnaitre les symptômes associés au stress.\nDes moyens de contrôler la réponse de stress en utilisant la restructuration cognitive et le système parasympathique seront présentés dans le but de mieux intégrer les différentes méthodes\, validées scientifiquement\, qui ont démontré leur capacité de diminuer la réponse de stress et\, par extension\, ses effets potentiellement négatifs sur la santé physique et mentale.\n\nPlan de contenu : \n\nDécouvrir les mythes associés au stress\nLa réponse physique au stress et effets sur le cerveau\nLa recette du stress\nComment devient-on stressé(e)\nEffets du stress chronique sur le corps et le cerveau\nPourquoi sommes-nous si stressés de nos jours?\nMéthodes pour contrôler la réponse de stress\n\nLes activités WIA vous sont présentées avec la collaboration spéciale de : \n \n\nInvitée spéciale: \n\n\n \n  \n\n\nCATHERINE RAYMOND\nÉtudiante au doctorat en Neurosciences\, Université de Montréal\nCentre d’études sur le stress humain\nCentre de recherche de l’Institut universitaire en santé mentale de Montréal \n  \nCatherine Raymond possède un baccalauréat en psychologie de l’Université de Montréal et effectue présentement son doctorat en Neurosciences\, toujours à l’Université de Montréal sous la direction de Dre Sonia Lupien\, neuroscientifique en psycho-neuroendocrinologie du stress. Ses intérêts de recherche portent principalement sur l’impact de l’exposition à un environnement adverse durant l’enfance sur le système physiologique de stress ainsi que sur les fonctions cognitives à l’âge adulte. \n\n\n\nFormule interactive et conviviale ! \nCLIQUEZ ICI POUR VOUS INSCRIRE   \n\n  \nINFORMATION GÉNÉRALE\nCLIENTÈLE VISÉE: ouvert à toutes les femmes de carrière peu importe votre profession. Invitez vos collègues\, clientes et amies! \nHORAIRE DÉTAILLÉ DE L’ÉVÈNEMENT \n\n8 h 15 à 8 h 30 – Accueil  \n8 h 30 à 10 h 00 – Déjeuner et conférence\n10 h 00 à 10 h 30 – Réseautage\n\n  \nTARIFICATION (taxes en sus) \n\n\n\nMEMBRE \n\nMembre ASHRAE Montréal (chapitre) : 25 $\n\n\n\n\n\nNON-MEMBRE \n\nNon-membre : 30 $\n\n\n\n\n\n\n  \nLIEU : ÉCOLE DES MÉTIERS DE LA RESTAURATION ET DU TOURISME DE MONTRÉAL \n\n1822 boulevard de Maisonneuve Ouest\, Montréal (Québec) H3H 1J8 \nAttention : Veuillez nous aviser de toute allergie ou intolérance alimentaire lors de l’inscription. \n CLIQUEZ ICI POUR VOUS INSCRIRE \n\n  \n\n\nAvantages WIA \n\n\nÉvénements exclusifs WIA \n\n\n  \nLes déjeuners-causeries et les activités sont réservés uniquement aux femmes. Le comité WIA invite ses membres féminins et toutes les professionnelles de tous les milieux à y participer.
URL:https://ashraemontreal.org/evenements-en-details/dejeuner-causerie-mars/
LOCATION:École des métiers de la restauration et du tourisme de Montréal\, 1822 boulevard de Maisonneuve Ouest\, Montréal\, Québec\, H3H 1J8\, Canada
CATEGORIES:WIA
ATTACH;FMTTYPE=image/jpeg:https://ashraemontreal.org/wp-content/uploads/2024/04/evenements-wia.jpg
END:VEVENT
BEGIN:VEVENT
DTSTART;TZID=America/Montreal:20170328T150000
DTEND;TZID=America/Montreal:20170328T170000
DTSTAMP:20260425T125452
CREATED:20240922T173758Z
LAST-MODIFIED:20241002T004634Z
UID:15801-1490713200-1490720400@ashraemontreal.org
SUMMARY:Visite technique pour étudiants - 900 Maisonneuve
DESCRIPTION:Le comité des activités étudiantes invite les étudiants à participer à une visite des installations mécaniques du bâtiment 900 Maisonneuve (Maison Manuvie)\, présentement en construction. \nBâtiment à la fine pointe de la technologie\, environnement intérieur de qualité supérieure et vues entièrement dégagées sur la ville. \nVenez découvrir les systèmes mécaniques d’un bâtiment de 486 000 pi.ca\, 27 étages\, qui vise la certification LEED Or. \n\n\nACTIVITÉ GRATUITE \n\n\nCLIQUEZ ICI POUR VOUS INSCRIRE  \nPOUR ÉTUDIANTS SEULEMENT – PRIORITÉ AUX ÉTUDIANTS MEMBRES ASHRAE AVANT LE 20 MARS.  \n\nINFORMATION GÉNÉRALE\nCLIENTÈLE VISÉE: Activité réservée aux étudiants \nHORAIRE DÉTAILLÉ DE L’ÉVÈNEMENT \n\n15 h 00 à 15 h 30 – Présentation technique \n15 h 30 à 17 h 00 – Visite guidée du bâtiment et installations mécaniques\n\nINSCRIPTION OBLIGATOIRE (20 places disponibles seulement\, inscrivez-vous rapidement!) \nDATE LIMITE D’INSCRIPTION : 24 mars 2017 \nÉQUIPEMENT OBLIGATOIRE :Souliers de sécurité (à bout dur) et casque de sécurité obligatoires! Un certain nombre de casques pourront être prêtés\, mais pas de souliers! \n  \n\nLIEU : 900 MAISONNEUVE O.\, MONTRÉAL (STATION MÉTRO PEEL) \n900\, Maisonneuve ouest\, Montréal\, Québec H3A 0A5 \nCLIQUEZ ICI POUR VOUS INSCRIRE
URL:https://ashraemontreal.org/evenements-en-details/visite-technique-pour-etudiants-900-maisonneuve_58/
LOCATION:Maison Manuvie\, 900\, Maisonneuve ouest\, Montréal\, Québec\, H3A 0A5\, Canada
CATEGORIES:Étudiants
ATTACH;FMTTYPE=image/jpeg:https://ashraemontreal.org/wp-content/uploads/2024/09/image_visite_technique900maisonneuve.jpg
END:VEVENT
BEGIN:VEVENT
DTSTART;TZID=America/Montreal:20170331T180000
DTEND;TZID=America/Montreal:20170331T230000
DTSTAMP:20260425T125452
CREATED:20240922T173758Z
LAST-MODIFIED:20241002T010007Z
UID:15805-1490983200-1491001200@ashraemontreal.org
SUMMARY:Soirée sociale annuelle des membres ASHRAE - Le dîner canardier
DESCRIPTION:Cette année le chapitre de Montréal de l’ASHRAE vous invite à déguster le fameux canard à la presse du chef Philippe Sarrailh\,  maître canardier. Vous assisterez à une démonstration de la presse de canard ainsi qu’une présentation sur la méthode rouennaise\, son histoire\, l’Ordre des canadiers et ses règles. \nUne exclusivité à Montréal\nLe Club Saint-James s’est associé à l’Ordre des canardiers pour remettre en avant une recette traditionnelle : le caneton à la presse. Ce plat prestigieux n’est servi que dans trois établissements au Québec et dans seulement vingt-trois restaurants à travers le monde\, dont dans la prestigieuse Tour d’Argent à Paris. À Montréal\, le Club Saint-James est le seul endroit où l’on peut le déguster. \nLe Club Saint-James\n  \n\n\n \n\nchef Philippe SarraiLH\nChef et maître canardier \nClub Saint-james \n  \n  \n  \n\n\nSitué en plein centre-ville\, à l’angle de la rue Union et du boulevard René-Lévesque\, le Club Saint-James est depuis plus de 150 ans le point de rencontre stratégique que l’élite des gens d’affaires se doit de fréquenter. Véritable centre d’affaires privé offrant une multitude de services à ses 630 membres\, il met tout en œuvre pour leur fournir un environnement propice au développement de leurs affaires et de leurs relations confraternelles. \n \n\n\n\nINFORMATION GÉNÉRALE\nHORAIRE DÉTAILLÉ DE L’ÉVÈNEMENT\n\n18 h 00 à 19 h 00 – Cocktail\n19 h 00 à 23 h 00 – Animation et souper\n\n\n  \nUn menu très alléchant – Cliquez ici pour connaître le menu et les fins détails \nAttention : Veuillez nous aviser de toute allergie ou intolérance alimentaire lors de l’inscription. \n\n  \nTARIFICATION (taxes en sus) \n\n\n\nMEMBRE \n\nMembre ASHRAE Montréal (chapitre) : 120 $ /personne\n\nInclut un repas en 4 services accompagné d’une consommation au cocktail\, d’une demie bouteille de vin\, l’animation et le pourboire \n\n\n\n\nNON-MEMBRE \n\nNon disponible\, désolé vous devez être membre pour y participer\n\n\n\n\n\nDate limite d’inscription : 27 mars 2017 – aucune prolongation possible \nDésolé – les inscriptions sont maintenant fermées! \n\n  \nLIEU : CLUB ST-JAMES DE MONTRÉAL \n\n1145\, Avenue Union\, Montréal (Québec)  H3B 3C2\n(coin boul. René-Lévesque Ouest)\nT : 514 866-7474 \nCode vestimentaire : Le Club St-James exige une tenue d’affaires décontractée (jeans ou tenue de sport ne sont pas acceptés)\, la majorité des participants se présentent avec une tenue de ville (habit et cravate). \n  \n\nNe ratez pas cette occasion unique! \nDésolé – les inscriptions sont maintenant fermées! \nAu plaisir de vous recevoir\, \nVotre hôte : Bruno Valois\nLe comité des événements spéciaux
URL:https://ashraemontreal.org/evenements-en-details/activite-sociale-annuelle-des-membres-ashrae/
LOCATION:Château Saint-Ambroise\, Château Saint-Ambroise\, Montréal\, QC\, H4C 2C7\, Canada
CATEGORIES:Professionnels
ATTACH;FMTTYPE=image/jpeg:https://ashraemontreal.org/wp-content/uploads/2024/09/soireesociale2017.jpg
END:VEVENT
END:VCALENDAR