BEGIN:VCALENDAR
VERSION:2.0
PRODID:-//ASHRAE - ECPv6.15.17.1//NONSGML v1.0//EN
CALSCALE:GREGORIAN
METHOD:PUBLISH
X-WR-CALNAME:ASHRAE
X-ORIGINAL-URL:https://ashraemontreal.org
X-WR-CALDESC:Événements pour ASHRAE
REFRESH-INTERVAL;VALUE=DURATION:PT1H
X-Robots-Tag:noindex
X-PUBLISHED-TTL:PT1H
BEGIN:VTIMEZONE
TZID:America/Montreal
BEGIN:DAYLIGHT
TZOFFSETFROM:-0500
TZOFFSETTO:-0400
TZNAME:EDT
DTSTART:20150308T070000
END:DAYLIGHT
BEGIN:STANDARD
TZOFFSETFROM:-0400
TZOFFSETTO:-0500
TZNAME:EST
DTSTART:20151101T060000
END:STANDARD
BEGIN:DAYLIGHT
TZOFFSETFROM:-0500
TZOFFSETTO:-0400
TZNAME:EDT
DTSTART:20160313T070000
END:DAYLIGHT
BEGIN:STANDARD
TZOFFSETFROM:-0400
TZOFFSETTO:-0500
TZNAME:EST
DTSTART:20161106T060000
END:STANDARD
BEGIN:DAYLIGHT
TZOFFSETFROM:-0500
TZOFFSETTO:-0400
TZNAME:EDT
DTSTART:20170312T070000
END:DAYLIGHT
BEGIN:STANDARD
TZOFFSETFROM:-0400
TZOFFSETTO:-0500
TZNAME:EST
DTSTART:20171105T060000
END:STANDARD
END:VTIMEZONE
BEGIN:VEVENT
DTSTART;TZID=America/Montreal:20161103T000000
DTEND;TZID=America/Montreal:20161104T000000
DTSTAMP:20260425T183748
CREATED:20240922T173759Z
LAST-MODIFIED:20241004T001817Z
UID:15826-1478131200-1478217600@ashraemontreal.org
SUMMARY:L'Exposition CONTECH Bâtiment 2016 À Montréal
DESCRIPTION:Salon organisé par Contech dont le chapitre de Montréal de l’ASHRAE est un partenaire. \nL’Exposition bâtiment présentée chaque année à l’automne au Palais des congrès de Montréal regroupe 300 exposants et accueille 2 000 visiteurs. Les concepteurs\, gestionnaires de bâtiments et constructeurs viennent à Contech pour y découvrir les nouveaux produits des exposants mais aussi pour assister aux conférences et démonstrations techniques proposées. Ce rendez-vous des acteurs de l’industrie du bâtiment est l’occasion de rencontrer ses pairs et rester au fait des tendances et des meilleures pratiques. \nLa visite de l’exposition et la participation aux conférences et autres activités sont gratuites.  \n  \n\n\nInscrivez-vous à l’avance\npour un accès facile et rapide. \nDate limite mardi 1 novembre à 14h \nJe m’inscris > \n\n\n\n \n\n\n\n\n\n\nLIEU\n\n\nPALAIS DES CONGRÈS\, MONTRÉAL \n1001\, Place Jean-Paul-Riopelle\, Montréal\, QC  H2Z 1H5\,\nT : 514 871-8122 \n\n\n\n\n  \n\n\nInfo\n\n\nCONTECH.QC.CA \n\n\n\n  \n\n\nHeures\n\n\n\n\n\nJeudi 3 novembre\n– \n10h à 17h \n\n\n\n\nVendredi 4 novembre\n– \n9 h à 13 h
URL:https://ashraemontreal.org/evenements-en-details/l-exposition-contech-batiment-2016-a-montreal/
LOCATION:Québec
CATEGORIES:Professionnels
ATTACH;FMTTYPE=image/jpeg:https://ashraemontreal.org/wp-content/uploads/2024/09/evenement-contectexpo2016.jpg
END:VEVENT
BEGIN:VEVENT
DTSTART;TZID=America/Montreal:20161104T000000
DTEND;TZID=America/Montreal:20161106T000000
DTSTAMP:20260425T183748
CREATED:20240922T173759Z
LAST-MODIFIED:20241004T001622Z
UID:15825-1478217600-1478390400@ashraemontreal.org
SUMMARY:Formation YEA – Automne 2016
DESCRIPTION:Le comité des  «Jeunes membres ASHRAE » vous invite à participer à l’un des « YEA Ladership Weekend » organisé par la Société ASHRAE inc. Ce programme a été créé pour renforcer les compétences de leadership chez les jeunes membres ASHRAE. La formation bi-annuel exclusive aux membres YEA a lieu à l’automne et au printemps. \nFormation d’automne\n  \n\n\nDate\n4-6 novembre 2016 \n\n\nLieu\nCharlotte\, NC \n\n\nCoût\n400$ US \nInclut la formation\, l’hébergement et la majorité des repas. \n\n\n  \nLe nombre de participants est très limité et la formation est très enrichissante. \n\n\n\nInfo\n\n\nDétails sur le site de la Société \nConsulter le site > \n\n\n  \n\n  \n  \nGagnez une place gratuite à la formation d’automne ! \nLe comité YEA du chapitre vous offre la possibilité de gagner une place gratuite. Courez la chance en participant au concours local. \n  \n\n\n\nDate limite du concours local \n15 septembre 2016 \n\n\n\nS’inscrire au concours et en connaître les détails. \nTélécharger le formulaire \n\n\n  \n\n  \n\n\nInfo\n\n\nyea@ashraemontreal.org \n\n\n  \n\n  \n\n\nAvantages YEA \n\n\nÉvénements exclusifs YEA \n\n\n 
URL:https://ashraemontreal.org/evenements-en-details/formation-yea-automne-2016/
LOCATION:Charlotte\, United States
CATEGORIES:YEA
ATTACH;FMTTYPE=image/jpeg:https://ashraemontreal.org/wp-content/uploads/2024/04/evenements-yea.jpg
END:VEVENT
BEGIN:VEVENT
DTSTART;TZID=America/Montreal:20161108T173000
DTEND;TZID=America/Montreal:20161108T190000
DTSTAMP:20260425T183748
CREATED:20240922T173758Z
LAST-MODIFIED:20241002T005625Z
UID:15804-1478626200-1478631600@ashraemontreal.org
SUMMARY:Speed Networking McGill
DESCRIPTION:La branche étudiante de l’ASHRAE – McGill University organise un événement de réseautage entre les étudiants et les gens de l’industrie du CVCA-R. L’événement se déroulera le 8 novembre prochain dès 17h30 et se terminera à 19h. \nLe Centre de carrière en ingénierie de l’Université McGill collabore à cet événement. \nL’activité de type « Speed Networking » se déroulera comme suit : chaque représentant de compagnies aura sa propre table assignée\, il y aura par la suite des groupes de 4 étudiants qui vont alterner de table en table à toutes les 10 minutes. La durée du «Speed Networking» sera d’environ 50 minutes. Un petit goûter et des rafraîchissements seront servis. \nLes étudiants de la branche ASHRAE – McGill University ont pour mission de promouvoir l’industrie du CVCA-R sur leur campus et ils estiment que cette activité est un bon moyen d’y parvenir! \nLes compagnies qui désirent y participer doivent réserver via la branche étudiante. Activité gratuite. \nActivité réservée aux étudiants en ingénierie de l’Université McGill. \nRéservation et détails : etudiants@ashraemontreal.org \nLe comité des activités étudiantes\, ASHRAE Chapitre de Montréal
URL:https://ashraemontreal.org/evenements-en-details/speed-networking-mcgill/
LOCATION:Frank Dawson Adams Bldg\, Campus McGill\, 3450 Rue University\, Montréal\, Québec\, H3A 2A7\, Canada
CATEGORIES:Étudiants
ATTACH;FMTTYPE=image/jpeg:https://ashraemontreal.org/wp-content/uploads/2024/09/evenements-journeecarrieres.jpg
END:VEVENT
BEGIN:VEVENT
DTSTART;TZID=America/Montreal:20161110T083000
DTEND;TZID=America/Montreal:20161110T103000
DTSTAMP:20260425T183748
CREATED:20240922T173759Z
LAST-MODIFIED:20241004T002523Z
UID:15828-1478766600-1478773800@ashraemontreal.org
SUMMARY:Déjeuner-causerie WIA - Novembre
DESCRIPTION:Je suis Fantastique ! \nCet atelier vous permettra de développer des réflexes et des techniques simples\, efficaces et stimulantes afin d’exceller au travail et de gérer votre carrière de façon proactive\, tout en continuant de vous développer au niveau personnel. \nNous discuterons de tout ce que vous n’avez jamais osé demander à votre gestionnaire ou à vos collègues … ou presque ! \nLes activités WIA vous sont présentées avec la collaboration spéciale de : \n \n\nNous aborderons notamment\, l’importance : \n\n\n\nD’avoir une attitude gagnante au travail et dans votre vie\nDe vos outils de promotion personnelle – d’un CV dynamique qui vous ressemble\nDe la gestion de votre image\nD’un positionnement stratégique en début de mandat – tant au niveau technique que politique\n\n\n\n\nDe développer des réflexes pour augmenter votre visibilité au sein de votre entreprise\nDe choisir stratégiquement vos activités de réseautage\nDe développer des réflexes pour accroître votre productivité et contribuer à la plus-value de l’entreprise\n\n\n\n\nNous partagerons aussi quelques trucs et astuces pour vous permettre de vous démarquer au sein de votre environnement de travail et d’être à l’affut des nouvelles opportunités qui pourraient s’offrir à vous. \nFormule interactive et conviviale ! \nCLIQUEZ ICI POUR VOUS INSCRIRE  \n(ouverture des inscriptions prévue lors de la semaine du 24 octobre) \n  \n\n\n \n  \n\n\nLisane Dostie\, Avocate\, Méd. Accr.\, ASC\, Adm.A. \nLisane est présidente fondatrice d’ISALégal\, un Cabinet spécialisé en gouvernance d’entreprise et en développement professionnel.  Conférencière appréciée\, elle est notamment formatrice au Collège des administrateurs de Sociétés de l’Université Laval (CAS) et conférencière à l’École de Commerce de Nancy/Metz (ICN); elle a été professeure invitée à l’École Supérieure de Commerce de Bordeaux (KEDGE) où elle a enseigné la stratégie de carrière et le développement professionnel au programme de Master.  Lisane a aussi une solide expérience comme dirigeante au sein de sociétés publiques (TSX)\, où elle a agi à titre de directrice des affaires juridiques\, d’avocate générale et de secrétaire corporatif (TVA\, CFCF et Labopharm).  Lisane est administratrice de sociétés depuis plus de 20 ans\, elle siège actuellement au CA de l’Ordre des administrateurs agréés du Québec. \n\n\n  \n\n  \ninformation générale\nClientèle visée: ouvert à toutes les femmes de carrière peu importe votre profession. Invitez vos collègues\, clientes et amies! \nHoraire détaillé de l’évènement \n\n8 h 15 à 8 h 30 – Accueil  \n8 h 30 à 10 h 00 – Déjeuner et conférence\n10 h 00 à 10 h 30 – Discussion et réseautage\n\n  \nTarification (taxes en sus) \n\n\n\nMEMBRE \n\nMembre ASHRAE Montréal (chapitre) : 25 $\n\n\n\n\n\nNON-MEMBRE \n\nNon-membre : 30 $\n\n\n\n\n\n\n  \nLIEU : École des métiers de la restauration et du tourisme de Montréal \n\n1822 boulevard de Maisonneuve Ouest\, Montréal (Québec) H3H 1J8 \nAttention : Veuillez nous aviser de toute allergie ou intolérance alimentaire lors de l’inscription. \n CLIQUEZ ICI POUR VOUS INSCRIRE \n\n  \n\n\nAvantages WIA \n\n\nÉvénements exclusifs WIA \n\n\n 
URL:https://ashraemontreal.org/evenements-en-details/dejeuner-causerie-novembre/
LOCATION:Québec
CATEGORIES:WIA
ATTACH;FMTTYPE=image/jpeg:https://ashraemontreal.org/wp-content/uploads/2024/04/evenements-wia.jpg
END:VEVENT
BEGIN:VEVENT
DTSTART;TZID=America/Montreal:20161114T171500
DTEND;TZID=America/Montreal:20161114T211500
DTSTAMP:20260425T183748
CREATED:20240922T173759Z
LAST-MODIFIED:20241004T002233Z
UID:15827-1479143700-1479158100@ashraemontreal.org
SUMMARY:Souper-conférence – Novembre 2016
DESCRIPTION:Gaz Métro et l’ASHRAE vous invitent à la soirée prestige Gaz Métro\, un classique qui affiche complet presque toutes les années. Inscrivez-vous Maintenant!\n  \n\nConférence technique (17 h 45)\nSUJET : L’avenir est aux solutions de centralisation des usages (eau chaude domestique\, chauffage\, climatisation) \nIl est maintenant courant de retrouver des installations dans lesquelles les fonctions de chauffage et de climatisation qui utilisent l’air et l’eau soient intégrées. Certaines nouvelles technologies utilisent même les réseaux d’eau chaude et froide domestiques pour combler les besoins en chauffage et climatisation du bâtiment. La conférence présentera les concepts technologiques en jeu et proposera le témoignage d’un entrepreneur ayant mis en place un système innovateur. \n\n  \n\n\n \n  \n\n\nDominic Frenette\, TP\, PA LEED ID+C \nDirecteur\nMarché commercial et résidentiel\nBouthillette Parizeau \nDominique Frenette est associé et directeur du marché commercial et résidentiel au sein de la firme de génie-conseil Bouthillette Parizeau pour laquelle il travaille depuis 1984. Il cumule une expérience impressionnante en la réalisation de projets de type résidentiel\, hôtelier et environnement de bureaux. Professionnel certifié LEED©\, il se fait un devoir de concevoir et d’intégrer à ses projets des systèmes de mécanique et d’électricité novateurs et écoénergétiques. \nTout au long de sa carrière\, il a été impliqué sur les plus grands projets qui ont marqué le développement du Centre-Ville de Montréal\, parmi lesquels\, plus récemment\, les Tours des Canadiens\, l’Hôtel Marriott Courtyard et Renaissance\, l’Hôtel Westin\, Altitude Montréal et plusieurs autres. \n\n\n  \n\n  \nConférence principale (20 h 00)\nSUJET : Le futur de l’énergie et les opportunités pour le QuébEC \nNotre conférencière\, Stéphanie Trudeau\, Vice-présidente Stratégie\, communication et développement durable chez Gaz Métro\, nous présentera sa vision de l’évolution du secteur énergétique québécois. Des grandes priorités du Québec aux prochaines innovations pour y répondre\, Stéphanie Trudeau dressera un portrait du monde de l’énergie sous la loupe de Gaz Métro. Dans le contexte actuel\, avec la sortie de la nouvelle politique énergétique du Québec 2030\, les acteurs de l’industrie ont tous un rôle à jouer dans sa déclinaison et dans  l’atteinte de ses objectifs. \n  \n\n  \n\n\n \n  \n\n\nStéphanie Trudeau \nVice-présidente\nStratégie\, communication et développement durable\nGaz Métro \nMadame Trudeau est vice-présidente\, Stratégie\, communication et développement durable\, chez Gaz Métro. Nommée vice-présidente en octobre 2012\, on lui a alors confié la responsabilité du développement durable et des affaires publiques et gouvernementales. Depuis le printemps 2013\, ses fonctions incluent également la responsabilité de la direction Marketing et Innovation et de la direction des Services à la clientèle. Communicatrice et stratège chevronnée\, elle est aussi à l’aise dans les dossiers de nature stratégique et politique qu’en situations de gestion de crise ou de communication du risque. Jusqu’à septembre 2012\, elle était vice-présidente et associée chez Tact Intelligence-conseil. Précédemment\, elle a été vice-présidente aux affaires publiques au sein de l’équipe québécoise des Brasseries Labatt\, directrice des affaires publiques à la Société des alcools du Québec (SAQ)\, directrice des relations avec la communauté du projet Rabaska et conseillère principale aux affaires publiques et porte-parole de Gaz Métro. Stéphanie est présidente du conseil d’administration de l’Office Québec Monde pour la jeunesse et membre des conseils d’administration du Conseil patronal de l’environnement du Québec (CPEQ)\, de la Fédération des chambres de commerce du Québec (FCCQ)\, de la Fondation québécoise en environnement (FQE)\, et de Ruelle de l’avenir. Elle est également présidente du comité énergie de la FCCQ et membre du Conseil des parrains de la Jeune Chambre de commerce de Montréal (JCCM). \n\n\n  \n\n  \nINSCRIVEZ-VOUS MAINTENANT \n  \n\n  \nEXPOSANTS LORS DE LA SOIRÉE\n\n\n\nCOMPAGNIE\nEnertrak  \n  \nPRODUIT(S)/SERVICES\nTechnologie des thermopompes Hybrides – Bulldog \nwww.enertrak.com \n\n\nCOMPAGNIE\nProlon \n  \nPRODUIT(S)/SERVICES\nProLon système CVAC \nwww.prolon.net \n\n\n\n\nCOMPAGNIE\nServices Énergétiques R.L. inc. \n  \nPRODUIT(S)/SERVICES\nChaudière à la vapeur ou à l’eau chaude \nwww.serl.qc.ca \n\n\nCOMPAGNIE\nENGINEERED AIR \n  \nPRODUIT(S)/SERVICES\nFlexibilité de fabrication de produits de chauffage\, ventilation\, climatisation\, réfrigération et récupération d’énergie depuis 50 ans au Canada et aux États-Unis \nwww.engineeredair.com \n\n\n\n\n\n\nVous voulez profiter de la visibilité qu’offrent ces soupers-conférences comme tremplin publicitaire pour votre entreprise\, ou encore pour développer un réseau de contact des plus intéressants? \nContactez le comité présentoirs. \n\n\nEn savoir + \n\n\n\n  \n\n  \nINFORMATION GÉNÉRALE\nPROGRAMME DE LA SOIRÉE \n\n17 h 15 à 19 h 00 – Accueil (rez-de-chaussée)\n17 h 30 à 19 h 00 – Cocktail et visite des exposants – Salon Midway (rez-de-chaussée)\n17 h 45 – Conférence technique – Salle St-Denis (2e étage)\n18 h 30 – Cocktail et visite des exposants – Salon Midway (rez-de-chaussée)\n19 h 00 – Souper et allocution de Caroline Duphily\, Chef de service du groupe DATECH – Salle St-Denis (2e étage)\n20 h 00 – Conférence principale – Salle St-Denis (2e étage)\n\n  \n\nMENU-REPAS \n\n\n\nSoupe du moment\nHaut de côte de boeuf braisé 8 heures au vin rouge\, aligot de pomme de terre au chèvre et carottes nantaises fondantes\nTulipe au tiramisu\nCafé\, thé \n\n\n\nATTENTION \nVeuillez nous aviser de toute allergie ou intolérance alimentaire lors de l’inscription. \n  \n\n\n\n  \nTARIFICATION (taxes incluses) \n\n\n\nMEMBRE \n\nMembre ASHRAE Montréal (chapitre) : 62$\nMembre à vie ASHRAE ayant payé leur cotisation au chapitre : 40 $\nÉtudiant à temps plein et membre ASHRAE* (Société) : 20 $\n* Choisir le billet « Membre ASHRAE Montréal » lors de l’inscription\n\n\nForfaits exclusifs aux membres  (professionnels – saison 2016-2017 ) \nEn savoir + \nForfait exclusif aux membres étudiants (saison 2016-2017) \nEn savoir +  \n\n\n\n\nNON-MEMBRE \n\nNon-membre : 87 $\nÉtudiant à temps plein\, non-membre ASHRAE (avec preuve) : 25 $\nMembre ASPE : 77 $\n\nDevenir membre\nc’est très avantageux!  \n\n\n\n\n  \nLIEU : CLUB ST-JAMES DE MONTRÉAL \n\n1145\, Avenue Union\, Montréal (Québec)  H3B 3C2\n(coin boul. René-Lévesque Ouest)\nT : 514 866-7474 \nCode vestimentaire : Le Club St-James exige une tenue d’affaires décontractée (jeans ou tenue de sport ne sont pas acceptés)\, la majorité des participants se présentent avec une tenue de ville (habit et cravate). \nCertificat : Un certificat de participation attestant 1\,75 heures de formation continue sera envoyé par courriel sur place aux participants présents. Assurez-vous de l’avoir avant la sortie. \n\n  \nINSCRIVEZ-VOUS MAINTENANT \n  \n 
URL:https://ashraemontreal.org/evenements-en-details/souper-conference-novembre-2016/
LOCATION:Château Saint-Ambroise\, Château Saint-Ambroise\, Montréal\, QC\, H4C 2C7\, Canada
CATEGORIES:Professionnels
ATTACH;FMTTYPE=image/jpeg:https://ashraemontreal.org/wp-content/uploads/2024/09/image_evenement-gazmetro2.jpg
END:VEVENT
BEGIN:VEVENT
DTSTART;TZID=America/Montreal:20161118T140000
DTEND;TZID=America/Montreal:20161118T160000
DTSTAMP:20260425T183748
CREATED:20240922T173759Z
LAST-MODIFIED:20241003T113350Z
UID:15820-1479477600-1479484800@ashraemontreal.org
SUMMARY:Visite technique pour étudiants - Collège John-Abbott
DESCRIPTION:Le comité des activités étudiantes invite les étudiants à participer à une visite des installations mécaniques du Pavillon des sciences et technologie de la santé du collège John Abbott (Pavillon Anne-Marie Edward). \n\nProjet ayant remporté plusieurs prix : \n\n\n\nASHRAE Technology Award 2016 (international) | « First Place »\, Category II – Nouveau bâtiment institutionnel\nÉnergia de l’AQME 2014 | Bâtiment neuf\, tous secteurs\nTrophée Contech 2014 | Pratiques novatrices\n\n\n\n\nVenez découvrir les systèmes mécaniques d’un bâtiment intégrant des principes de développement durable et critères LEED or! \n\n\nActivité gratuite \n\n\nCLIQUEZ ICI POUR VOUS INSCRIRE  \n(Inscription en cours pour les étudiants membres – Pour tous les étudiants à compter du 11 novembre) \n\nINFORMATION GÉNÉRALE\nCLIENTÈLE VISÉE: Activité réservée aux étudiants \nHORAIRE DÉTAILLÉ DE L’ÉVÈNEMENT \n\n14 h 00 à 14 h 45 – Présentation technique \n14 h 45 à 16 h 00 – Visite guidée du bâtiment et installations mécaniques\n\nINSCRIPTION OBLIGATOIRE (20 places disponibles seulement\, inscrivez-vous rapidement!) \nPriorité d’inscription aux membres ASHRAE étudiants avant le 11 novembre \nDATE LIMITE D’INSCRIPTION : 16 novembre 2016 \n  \n\nLIEU : COLLÈGE JOHN-ABBOTT\, PAVILLON ANNE-MARIE EDWARD \nRencontre à l’entrée principale du Pavillon \n21275\, Rue Lakeshore\, Sainte-Anne-de-Bellevue\, Québec H9X 3L9  \nCLIQUEZ ICI POUR VOUS INSCRIRE \n\n  \n\n\nAvantages Étudiants \n\n\nÉvénements exclusifs Étudiants
URL:https://ashraemontreal.org/evenements-en-details/visite-technique-pour-etudiants-college-john-abbott/
LOCATION:Pavillon des sciences et des technologies de la santé\, 21275\, Rue Lakeshore\, Sainte-Anne-de-Bellevue\, Québec\, H9X 3L9\, Canada
CATEGORIES:Étudiants
ATTACH;FMTTYPE=image/png:https://ashraemontreal.org/wp-content/uploads/2024/09/john_abbot.png
END:VEVENT
BEGIN:VEVENT
DTSTART;TZID=America/Montreal:20161124T000000
DTEND;TZID=America/Montreal:20161124T000000
DTSTAMP:20260425T183748
CREATED:20240922T173759Z
LAST-MODIFIED:20241003T235115Z
UID:15822-1479945600-1479945600@ashraemontreal.org
SUMMARY:Réseautage YEA - 24 novembre
DESCRIPTION:SOIRÉE RÉSEAUTAGE YEA – OUVERTE À TOUS ! \nLe comité YEA organise une soirée réseautage pour ses membres à partir de 18h30 au Old Orchard Pub. Une belle occasion de réseauter avec les jeunes professionnels du domaine et regarder le match des canadiens en bonne compagnie! \nLe resto-bar Old Orchard Pub est situé au 5563 avenue Monkland\, Montréal\, QC\, H4A 1E1  \n  \n\n\n \n\n\nVS \n\n\n \n\n\n  \n Aucune réservation nécessaire. Consommations à vos frais. \n\n  \n\n\nAvantages YEA \n\n\nÉvénements exclusifs YEA \n\n\n 
URL:https://ashraemontreal.org/evenements-en-details/reseautage-yea-24-novembre/
LOCATION:Old Orchard Pub\, 5563 avenue Monkland\, Montréal\, Québec\, H4A 1E1\, Canada
CATEGORIES:YEA
ATTACH;FMTTYPE=image/jpeg:https://ashraemontreal.org/wp-content/uploads/2024/04/evenements-yea.jpg
END:VEVENT
BEGIN:VEVENT
DTSTART;TZID=America/Montreal:20161124T000000
DTEND;TZID=America/Montreal:20161124T000000
DTSTAMP:20260425T183748
CREATED:20240922T173759Z
LAST-MODIFIED:20241004T001333Z
UID:15824-1479945600-1479945600@ashraemontreal.org
SUMMARY:Visite technique du CUSM - YEA
DESCRIPTION:Le comité YEA invite ses membres (jeunes membres ASHRAE âgés de 35 ans et moins) du chapitre à participer à cette visite technique. \nUN PROJET D’ENVERGURE EN MÉCANIQUE DU BÂTIMENT ! \nLa visite du Centre universitaire de santé McGill (CUSM) est l’occasion de découvrir un bâtiment public offrant les soins aux patients tout en respectant l’environnement. \n\nUn projet qui se démarque du point de vue énergétique et développement durable\, intégrant notamment : \n\nL’adoption de mesures d’efficacité énergétique\, réduisant la consommation énergétique de 35 % par rapport aux hôpitaux canadiens standards et permettent des économies d’environ 2 M$ par année.\nLa réduction de la pollution lumineuse grâce à des luminaires adaptés et à la priorisation de la lumière naturelle.\n397 places de stationnement pour vélo au site Glen\, des douches pour les cyclistes et des pistes cyclables reliées au réseau de la Ville de Montréal. Des places de stationnement pour vélos disponibles sur tous les autres sites du CUSM.\nL’atténuation de l’effet d’îlot thermique au site Glen grâce à l’utilisation d’un stationnement souterrain\, d’espaces verts et de toits réfléchissants.\n20 % des matériaux de construction ont été produits localement\, réduisant la production de gaz à effets de serre associée à leur transport.\n\n\n\nLa visite sera suivie d’une soirée réseautage au bar  \n« Old Orchard Pub » \nEn savoir + \n\n\nCLIQUEZ ICI POUR VOUS INSCRIRE  \n\n  \nINFORMATION GÉNÉRALE\nCLIENTÈLE VISÉE: Cette activité était réservée aux personnes âgées de 35 et moins. MAINTENANT OUVERT À TOUS! \nHORAIRE DÉTAILLÉ DE L’ÉVÈNEMENT \n\n16 h 15 à 16 h 30 – Accueil des participants (rencontre au poste de sécurité du bloc E)\n16 h 30 à 17 h 00 – Présentation technique\n17 h 00 à 18 h 30 – Visite guidée\n\nTARIFICATION (taxes en sus) \n\n\n\nMEMBRE \n\nMembre ASHRAE Montréal (chapitre) : Gratuit \n\n\n\n\n\nNON-MEMBRE \n\nNon-membre : 10 $\n\n\n\n\n\n  \ninscription obligatoire (30 places disponibles seulement\, inscrivez-vous rapidement !) \nÉquipements obligatoires : Les participants devront apporter un casque de construction\, bottes et lunettes de sécurité \nDATE LIMITE D’INSCRIPTION PROLONGÉE :  22 novembre 2016 \n\n  \nLIEU : Centre universitaire de santé McGill (CUSM)  \n\n1001 Boulevard Décarie\, Montréal\, QC\, à 3 minutes du métro – Vendôme sur la ligne orange. \n CLIQUEZ ICI POUR VOUS INSCRIRE \n\n  \n\n\nAvantages YEA \n\n\nÉvénements exclusifs YEA \n\n\n 
URL:https://ashraemontreal.org/evenements-en-details/visite-technique-cusm-24-novembre/
LOCATION:Centre universitaire de santé McGill\, 1001 Bd Décarie\, Montréal\, Québec\, H4A 3J1\, Canada
CATEGORIES:YEA
ATTACH;FMTTYPE=image/jpeg:https://ashraemontreal.org/wp-content/uploads/2024/09/image_cusm.jpg
END:VEVENT
END:VCALENDAR