BEGIN:VCALENDAR
VERSION:2.0
PRODID:-//ASHRAE - ECPv6.15.17.1//NONSGML v1.0//EN
CALSCALE:GREGORIAN
METHOD:PUBLISH
X-WR-CALNAME:ASHRAE
X-ORIGINAL-URL:https://ashraemontreal.org
X-WR-CALDESC:Événements pour ASHRAE
REFRESH-INTERVAL;VALUE=DURATION:PT1H
X-Robots-Tag:noindex
X-PUBLISHED-TTL:PT1H
BEGIN:VTIMEZONE
TZID:America/Montreal
BEGIN:DAYLIGHT
TZOFFSETFROM:-0500
TZOFFSETTO:-0400
TZNAME:EDT
DTSTART:20200308T070000
END:DAYLIGHT
BEGIN:STANDARD
TZOFFSETFROM:-0400
TZOFFSETTO:-0500
TZNAME:EST
DTSTART:20201101T060000
END:STANDARD
BEGIN:DAYLIGHT
TZOFFSETFROM:-0500
TZOFFSETTO:-0400
TZNAME:EDT
DTSTART:20210314T070000
END:DAYLIGHT
BEGIN:STANDARD
TZOFFSETFROM:-0400
TZOFFSETTO:-0500
TZNAME:EST
DTSTART:20211107T060000
END:STANDARD
BEGIN:DAYLIGHT
TZOFFSETFROM:-0500
TZOFFSETTO:-0400
TZNAME:EDT
DTSTART:20220313T070000
END:DAYLIGHT
BEGIN:STANDARD
TZOFFSETFROM:-0400
TZOFFSETTO:-0500
TZNAME:EST
DTSTART:20221106T060000
END:STANDARD
END:VTIMEZONE
BEGIN:VEVENT
DTSTART;TZID=America/Montreal:20210514T083000
DTEND;TZID=America/Montreal:20210514T113000
DTSTAMP:20260424T112908
CREATED:20240922T173750Z
LAST-MODIFIED:20240922T235136Z
UID:15698-1620981000-1620991800@ashraemontreal.org
SUMMARY:Cours - Les bases de la conception en réfrigération
DESCRIPTION:Venez découvrir la réfrigération ! Le comité de réfrigération en collaboration avec le comité YEA vous présentent un cours en réfrigération afin de répondre aux besoins de formation des ingénieurs et technologues qui désirent se spécialiser dans ce domaine. \nNous avons dû changer la date originale du cours de la partie pratique. Bien lire ce qui suit. Si vous étiez déjà inscrit avant le 3 mai\, vous recevrez un courriel pour faire votre sélection. \nCours  – LEs bases de la conception en réfrigération\nPlus précisément\, deux demi-journées est offerte en priorité aux membres YEA – jeunes professionnels de 35 ans et moins et portera sur la problématique des systèmes de réfrigération qui occupent une bonne partie de l’industrie CVCA&R (chauffage\, ventilation\, conditionnement de l’air et réfrigération) au Québec. \nCertificat : Un certificat de participation attestant 6 heures de formation continue sera envoyé par courriel aux participants présents. \n\nCONTENU DÉTAILLÉ\n\nPartie 1 – Théorie avec exemples concrets – 14 mai 2021 – 8h30 à 11h30 \n\n\nCycles frigorifiques – notions de thermodynamique et de transfert de chaleur;\nComposants d’un système de réfrigération;\nNormes provinciales et fédérales régissantes la conception;\nChoix et type de réfrigérant;\nType de dégivrage;\nCalcul de charge(charges produit\, murs\, divers\, infiltration d’air);\nChoix d’unité intégrée (air\, eau);\nChoix de compresseurs pour un multi-système;\nChoix de condenseurs;\n\nRègles conception de tuyauterie.\n\n\n Partie 2- Pratique – 8h30 à 11h30 \n\n\nEn deuxième partie du cours\, les participants se familiariserons sur PC avec des logiciels et des exemples de conception de systèmes appliqués.\n\nChoix de conception entre: \n \nLes participants devront choisir à l’inscription entre le volet commercial ou industriel en raison du nombre important de participants : \n\n28 mai 2021  – Un système frigorique commercial (épicerie\, dépanneur);\n\nOU \n\n11 juin 2021  – Un système frigorique industriel (usine de transformation);\n\n  \n\nLa conception d’un système frigorique spécial (blast freezer\, blast cooler) sera vue selon le temps disponible.\nUne initiation au concept de récupération de chaleur sera mentionné à la fin du cours : expansion directe ou par fluide secondaire.\n\nL’essentiel des concepts sera calculés par le participant à l’aide des logiciels libres : Danfoss\, Keeprite\, PSS Emerson. Il est fortement recommandé d’avoir 2 écrans et d’avoir téléchargé les logiciels ci-dessus dont les liens vous seront fournis avant cette partie du cours afin de bénéficier totalement de la formation.\n\n  \n\n\n     Formateur\n\n\n \n  \n\n\nCharles Vanelslande \, ing.\, M.Ing. \nDirecteur de l’ingénierie \nGroupe Technoref4 \nCharles Vaneslande est ingénieur mécanique en réfrigération commerciale et industrielle et directeur de l’ingénierie chez Technoref4. Il est titulaire de 2 maîtrises et actuellement étudiant au doctorat en génie mécanique. Charles Vanelslande a commencé sa carrière chez Arneg Canada et œuvre actuellement au sein du Groupe Technoref4. Il est membre du comité réfrigération de l’ASHRAE et du CA de la CETAF. \nIngénieur dynamique et passionné pour la réfrigération et désirant partagé son expérience auprès des jeunes et moins jeunes. \n\n\n\n\n INSCRIVEZ-VOUS ICI  \nDate limite des inscriptions : 12 mai 2021 \n\n  \nINFORMATION GÉNÉRALE\nCLIENTÈLE VISÉE :  Ingénieurs\, technologues\, futurs ingénieurs et tous les personnes ayant un intérêt pour la conception d’éléments de réfrigération. \n\nNOMBRE DE places :  Limite de 40 participants \n  \nHORAIRE DÉTAILLÉ DE L’ÉVÈNEMENT \nMême horaire pour la partie 1 ou 2 (partie 1 : 14 et partie 2 : 28 mai ou 11 juin 2021) \n\n  8 h 15  à    8 h 30  – Connexion à la plateforme et accueil\n  8 h 30  à  11 h 30  – Partie 1 ou 2 du cours et pause santé (voir contenu du cours ci-dessus)\n11 h 30  à  12 h 00  – Évaluation et/ou questions\n\n\n  \nTARIFICATION (taxes en sus) pour les 2 demi-journées\nTarifs avantageux pour les YEA (jeunes professionnels de 35 ans et moins) \n\n\n\nMEMBRE \n\nMembre ASHRAE Montréal (chapitre) : 40 $\nMembre YEA (chapitre) : 30 $\nMembre ÉTUDIANT ASHRAE* (temps plein) : 10 $*\n\n\n\n\n\nNON-MEMBRE \n\nNon-membre : 60 $\nYEA  mais non-membre du chapitre :   50 $\nÉtudiant non-membre (temps plein) :   15 $\nMembre de la CETAF : 50 $ \n\n\n\n\n* Lors de l’inscription\, choisir le billet « Membre ASHRAE Montréal » pour vous prévaloir de ce tarif. \n\n  \nCONNEXION (LIEN DU WEBINAIRE)\nSuite à votre paiement ou réservation sur notre site d’inscription Simplesignup\, vous obtiendra un lien de connexion pour les deux demi-journées. Des rappels vous seront automatiquement envoyés (au moins 24 heures et 1 heure avant l’événement) afin que tout se déroule bien et facilement. \nValidez dès que vous avez tout l’équipement nécessaire (écouteurs ou casque d’écoute\, caméra\, ainsi que 2 écrans\, etc.). \n\nVIDÉO\nLa vidéo de la partie 1 seulement (mais pas celle de la partie 2) sera envoyée dans les jours suivants à tous les inscrits que vous y avez assisté en direct ou que vous avez été absent\, vous n’avez rien d’autre à faire. Vous aurez quelques jours pour les visionner. Mais entre vous et moi\, le direct est tellement plus intéressant. \n  \nCERTIFICAT \nUne attestation de participation d’une durée d’une 6 heures sera envoyée\, à tous les participants présents lors de la transmission ayant une certaine assiduité\, après l’événement par courriel via ASHRAE Montréal (Simplesignup) dans la semaine qui suivra le dernier cours. \n\nÉVALUATION\nDès que vous quitterez la formation\, nous vous encourageons à répondre à un court sondage.  Nous apprécierons recevoir votre évaluation et vos commentaires après l’événement afin de connaître vos commentaires et pour une suite potentielle. \n  \n\n  \nINSCRIVEZ-VOUS ICI \nDate limite des inscriptions : 12 mai 2021 \n\n  \n\n\nAvantages YEA \n\n\nÉvénements exclusifs YEA \n\n\n 
URL:https://ashraemontreal.org/evenements-en-details/cours-les-bases-de-la-conception-en-refrigeration-201/
LOCATION:Formation virtuelle interactive
CATEGORIES:YEA
ATTACH;FMTTYPE=image/jpeg:https://ashraemontreal.org/wp-content/uploads/2024/09/cours_refrigeration_2020_officiel.jpg
END:VEVENT
END:VCALENDAR