BEGIN:VCALENDAR
VERSION:2.0
PRODID:-//ASHRAE - ECPv6.15.17.1//NONSGML v1.0//EN
CALSCALE:GREGORIAN
METHOD:PUBLISH
X-WR-CALNAME:ASHRAE
X-ORIGINAL-URL:https://ashraemontreal.org
X-WR-CALDESC:Événements pour ASHRAE
REFRESH-INTERVAL;VALUE=DURATION:PT1H
X-Robots-Tag:noindex
X-PUBLISHED-TTL:PT1H
BEGIN:VTIMEZONE
TZID:America/Montreal
BEGIN:DAYLIGHT
TZOFFSETFROM:-0500
TZOFFSETTO:-0400
TZNAME:EDT
DTSTART:20190310T070000
END:DAYLIGHT
BEGIN:STANDARD
TZOFFSETFROM:-0400
TZOFFSETTO:-0500
TZNAME:EST
DTSTART:20191103T060000
END:STANDARD
BEGIN:DAYLIGHT
TZOFFSETFROM:-0500
TZOFFSETTO:-0400
TZNAME:EDT
DTSTART:20200308T070000
END:DAYLIGHT
BEGIN:STANDARD
TZOFFSETFROM:-0400
TZOFFSETTO:-0500
TZNAME:EST
DTSTART:20201101T060000
END:STANDARD
BEGIN:DAYLIGHT
TZOFFSETFROM:-0500
TZOFFSETTO:-0400
TZNAME:EDT
DTSTART:20210314T070000
END:DAYLIGHT
BEGIN:STANDARD
TZOFFSETFROM:-0400
TZOFFSETTO:-0500
TZNAME:EST
DTSTART:20211107T060000
END:STANDARD
END:VTIMEZONE
BEGIN:VEVENT
DTSTART;TZID=America/Montreal:20200318T173000
DTEND;TZID=America/Montreal:20200318T220000
DTSTAMP:20260425T065855
CREATED:20240922T173752Z
LAST-MODIFIED:20240924T232110Z
UID:15727-1584552600-1584568800@ashraemontreal.org
SUMMARY:Tournoi de Curling ASHRAE 2020 - YEA
DESCRIPTION:Suite au succès de l’évènement des années passées\, le comité YEA (jeunes membres ASHRAE de 35 ans et moins) invite les membres et non-membres à participer à son quatrième tournoi de curling YEA du chapitre de Montréal. \nPriorité aux membres YEA\, jusqu’au 15 janvier 2020 ! \nSEULEMENT 8 ÉQUIPES DE 4 DISPONIBLES (OU 32 PLACES)\, INSCRIVEZ-VOUS RAPIDEMENT !\nPhotos et vidéo de l’évènement de la saison 2018 \n \n\n  \n\n\n \n\n\nÀ PROPOS DU CLUB DE CURLING DE VILLE MONT-ROYAL  \nLe club de curling Ville de Mont-Royal (CCVMR) a été fondé en 1952. Leurs installations comprennent six glaces de qualité et permettent aux personnes de tous âges de pratiquer des activités sportives et sociales tout en s’amusant. Nous avons parmi nos membres plusieurs curleurs de niveau de compétition et sommes régulièrement les hôtes d’évènements importants. Le club de curling VMR fut nommé Centre de Curling de l’année 2014-15 par Curling Québec. \n\n\n\n  \nVOUS ÊTES UN NÉOPHYTE ? PAS DE PROBLÈME !\n \nLe Club de curling sera heureux de vous faire partager leur passion du curling. Un conseiller nous présentera les bases du sport\, ses stratégies\, son étiquette et les habiletés que vous souhaiteriez développer. Les principes du curling s’acquierent aussi facilement et simplement que la pratique du vélo. Le curling peut se pratiquer dès l’enfance et pour les joueurs ayant besoin d’une assistance\, une tige de lancement offre une alternative à la position classique accroupie lors du lancer de la pierre. \n\n Formez des équipes de 4 et joignez-vous à notre tournoi de curling YEA du chapitre de Montréal! \nCETTE ACTIVITÉ EST ANNULÉE (COVID-19) \nATTENTION – Priorité aux membres YEA  jusqu’au 15 janvier. Il sera offert à tous les autres membres et non-membres par la suite. Membres étudiants veuillez attendre après cette date pour vous inscrire. \n(Seulement 32 places disponibles\, inscrivez-vous rapidement!) \n\n  \nINFORMATION GÉNÉRALE\n  \nTARIFICATION (taxes en sus) \n\n\n\nMEMBRE \n\n175$ – équipe de 4 personnes\n  45$ – individuel – membre YEA\n\n\n\n\n\nNON-MEMBRE \n\n200$  – équipe de 4 personnes\n\n  50$ –  individuel \n\n\n\n\nLe tarif inclut la partie de curling\, les conseils du pro\, l’équipement\, le repas léger\, le service et le pourboire. Les consommations sont à vos frais. \nÉQUIPEMENTS OBLIGATOIRES : Espadrilles n’ayant jamais été portés à l’extérieur et vêtements confortables. \nDATE ET HEURE : Mercredi 18 mars 2020 de 17h30 à 22h \nDATE LIMITE D’INSCRIPTION :  13 mars 2020 \nPROGRAMME DE LA SOIRÉE \n\n17 h 30  à  18 h 00 – Accueil au bar\n18 h 00  à  20 h 00  – Curling\n20 h 00  à  22 h 00  – Cocktail à vos frais mais repas léger inclus.\n\n\n  \n\n\nLIEU\n\n\nClub de curling Ville Mont-Royal \n5e avenue Montgomery\, Ville Mont-Royal\, QC H3R 2B2 \n\n\n  \nSTATIONNEMENT : Gratuit \n\n  \nSOUVENIRS 2016 \n \n\n  \n\n\nAvantages YEA \n\n\nÉvénements exclusifs YEA \n\n\n 
URL:https://ashraemontreal.org/evenements-en-details/tournoi-de-curling-ashrae-yea_2020-146/
LOCATION:Club de curling de ville Mont Royal\, 5 Avenue Montgomery\, Mont-Royal\, Québec\, H3R 2B2\, Canada
CATEGORIES:YEA
ATTACH;FMTTYPE=image/jpeg:https://ashraemontreal.org/wp-content/uploads/2024/08/evenements-curling.jpg
END:VEVENT
END:VCALENDAR