BEGIN:VCALENDAR
VERSION:2.0
PRODID:-//ASHRAE - ECPv6.15.17.1//NONSGML v1.0//EN
CALSCALE:GREGORIAN
METHOD:PUBLISH
X-WR-CALNAME:ASHRAE
X-ORIGINAL-URL:https://ashraemontreal.org
X-WR-CALDESC:Événements pour ASHRAE
REFRESH-INTERVAL;VALUE=DURATION:PT1H
X-Robots-Tag:noindex
X-PUBLISHED-TTL:PT1H
BEGIN:VTIMEZONE
TZID:America/Montreal
BEGIN:DAYLIGHT
TZOFFSETFROM:-0500
TZOFFSETTO:-0400
TZNAME:EDT
DTSTART:20180311T070000
END:DAYLIGHT
BEGIN:STANDARD
TZOFFSETFROM:-0400
TZOFFSETTO:-0500
TZNAME:EST
DTSTART:20181104T060000
END:STANDARD
BEGIN:DAYLIGHT
TZOFFSETFROM:-0500
TZOFFSETTO:-0400
TZNAME:EDT
DTSTART:20190310T070000
END:DAYLIGHT
BEGIN:STANDARD
TZOFFSETFROM:-0400
TZOFFSETTO:-0500
TZNAME:EST
DTSTART:20191103T060000
END:STANDARD
BEGIN:DAYLIGHT
TZOFFSETFROM:-0500
TZOFFSETTO:-0400
TZNAME:EDT
DTSTART:20200308T070000
END:DAYLIGHT
BEGIN:STANDARD
TZOFFSETFROM:-0400
TZOFFSETTO:-0500
TZNAME:EST
DTSTART:20201101T060000
END:STANDARD
END:VTIMEZONE
BEGIN:VEVENT
DTSTART;TZID=America/Montreal:20191128T150000
DTEND;TZID=America/Montreal:20191128T170000
DTSTAMP:20260425T112709
CREATED:20240922T173753Z
LAST-MODIFIED:20240924T234107Z
UID:15733-1574953200-1574960400@ashraemontreal.org
SUMMARY:Visite technique – Novembre 2019
DESCRIPTION:Le comité YEA invite les professionnels et les étudiants à participer à une visite des installations mécaniques du Complexe Desjardins. \nLe complexe Desjardins est un bâtiment d’envergure dans le coeur du centre ville de Montréal\, plus précisément dans magnifique quartier des spectacles. Comptant plus de 110 boutiques\, des espaces à bureaux dans 2 tours distinctes et pouvant accueillir des événements de grande envergure\, le Complexe Desjardins est un incontournable. Le complexe a obtenu la certification BOMA Best Gold. \nVENEZ VOIR LA MéCANIQUE DERRIèRE UN COMPLEXE DE CETTE ENVERGURE !\n\n\nVisite technique GRATUITE \n\n\nVISITE TECHNIQUE  (COMPLET) – Mais ouvert à tous pour le 5@7  \n(Ouvert seulement aux membres jusqu’au 11 novembre\, ouvert à tous par la suite) \nDATE LIMITE D’INSCRIPTION : 25 novembre 2019\n \n25 places seulement\, dépêchez-vous! \n\nINFORMATION GÉNÉRALE\nCLIENTÈLE VISÉE : Professionnels de moins de 35 ans et les étudiants mais l’activité est offerte à tous peu importe l’âge\, membres ou non-membres. \nÉQUIPEMENT :  Bottes/chaussures fermées obligatoires. Pas besoin de chaussures de sécurité. \nHORAIRE DÉTAILLÉ DE L’ÉVÈNEMENT \n\n15 h 00 – Rencontre au point de rassemblement – Fontaine au niveau métro Place des Arts\n15 h 15 à 17 h 00 – Visite guidée des installations mécaniques\n17 h 15  – Mot de la fin et continuité de la soirée pour ceux qui le désirent (visionnement du match du Canadiens vers 19h…)\n17 h 15 à 19 h 00 – Réseautage/5@7 dans un restaurant du complexe  – La Cage – Brasserie sportive (consommations à vos frais)\n\nINSCRIPTION OBLIGATOIRE : Priorité aux jeunes professionnels de 35 ans et moins (YEA) et les étudiants –  Cependant ouvert à tous !  \nNombre de places : 25 seulement \n\nLIEU : COMPLEXE DESJARDINS \n150\, rue Sainte-Catherine Ouest\, Montréal\, QC\, H2X 3Y2 \nTRANSPORT : Transport en commun préférable\, métro Place des Arts. Stationnements disponibles à vos frais. Tous les détails. \n\n  \nVISITE TECHNIQUE  (COMPLET)  – Mais ouvert à tous pour le 5@7 \n(Ouvert seulement aux membres jusqu’au 11 novembre\, ouvert à tous par la suite) \n\n  \n\n\nAvantages YEA \n\n\nAvantages Étudiants \n\n\n  \n 
URL:https://ashraemontreal.org/evenements-en-details/visite-technique-complexe-desjardins_138/
LOCATION:Complexe Desjardins\, 150\, rue Sainte-Catherine Ouest\, Montréal\, Québec\, H2X 3Y2\, Canada
CATEGORIES:YEA
ATTACH;FMTTYPE=image/jpeg:https://ashraemontreal.org/wp-content/uploads/2024/09/complex_desjardins_novembre_2019.jpg
END:VEVENT
END:VCALENDAR