BEGIN:VCALENDAR
VERSION:2.0
PRODID:-//ASHRAE - ECPv6.15.17.1//NONSGML v1.0//EN
CALSCALE:GREGORIAN
METHOD:PUBLISH
X-WR-CALNAME:ASHRAE
X-ORIGINAL-URL:https://ashraemontreal.org
X-WR-CALDESC:Événements pour ASHRAE
REFRESH-INTERVAL;VALUE=DURATION:PT1H
X-Robots-Tag:noindex
X-PUBLISHED-TTL:PT1H
BEGIN:VTIMEZONE
TZID:America/Montreal
BEGIN:DAYLIGHT
TZOFFSETFROM:-0500
TZOFFSETTO:-0400
TZNAME:EDT
DTSTART:20230312T070000
END:DAYLIGHT
BEGIN:STANDARD
TZOFFSETFROM:-0400
TZOFFSETTO:-0500
TZNAME:EST
DTSTART:20231105T060000
END:STANDARD
BEGIN:DAYLIGHT
TZOFFSETFROM:-0500
TZOFFSETTO:-0400
TZNAME:EDT
DTSTART:20240310T070000
END:DAYLIGHT
BEGIN:STANDARD
TZOFFSETFROM:-0400
TZOFFSETTO:-0500
TZNAME:EST
DTSTART:20241103T060000
END:STANDARD
BEGIN:DAYLIGHT
TZOFFSETFROM:-0500
TZOFFSETTO:-0400
TZNAME:EDT
DTSTART:20250309T070000
END:DAYLIGHT
BEGIN:STANDARD
TZOFFSETFROM:-0400
TZOFFSETTO:-0500
TZNAME:EST
DTSTART:20251102T060000
END:STANDARD
END:VTIMEZONE
BEGIN:VEVENT
DTSTART;TZID=America/Montreal:20240501T163000
DTEND;TZID=America/Montreal:20240501T220000
DTSTAMP:20260422T003214
CREATED:20240921T013729Z
LAST-MODIFIED:20240921T175414Z
UID:15337-1714581000-1714600800@ashraemontreal.org
SUMMARY:Tournoi de Curling ASHRAE 2024 - YEA
DESCRIPTION:Suite au succès de l’évènement des années passées\, le comité YEA (jeunes membres ASHRAE de 35 ans et moins) invite les membres et non-membres à participer à son tournoi de curling YEA du chapitre de Montréal. \n  \n– INSCRIPTIONS FERMÉES – \nÉvénement complet ! Veuillez contacter le secrétariat pour toutes demandes : info@ashraemontreal.org \n\n\n\n \n\n\nÀ PROPOS DU CLUB DE CURLING ville de Mont-royal \nLe club de curling Ville de Mont-Royal (CCVMR) a été fondé en 1952. Leurs installations comprennent six glaces de qualité et permettent aux personnes de tous âges de pratiquer des activités sportives et sociales tout en s’amusant. \nIls ont parmi leurs membres plusieurs curleurs de niveau de compétition et sont régulièrement les hôtes d’évènements importants. Le club de curling VMR fut nommé Centre de Curling de l’année 2014-15 par Curling Québec. \n\n\n\nVOUS ÊTES UN NÉOPHYTE ? PAS DE PROBLÈME !\n \nLe Club de curling sera heureux de vous faire partager leur passion du curling. Un conseiller nous présentera les bases du sport\, ses stratégies\, son étiquette et les habiletés que vous souhaiteriez développer. Les principes du curling s’acquierent aussi facilement et simplement que la pratique du vélo. Le curling peut se pratiquer dès l’enfance et pour les joueurs ayant besoin d’une assistance\, une tige de lancement offre une alternative à la position classique accroupie lors du lancer de la pierre. \n\n– INSCRIPTIONS FERMÉES – \nÉvénement complet ! Veuillez contacter le secrétariat pour toutes demandes : info@ashraemontreal.org \n\n  \nINFORMATION GÉNÉRALE\n  \nTARIFICATION (taxes en sus) \n\n\n\nMEMBRE et NON-MEMBRE \n\n280 $ – équipe de 4 personnes\n  75 $ – individuel – membre \n\n\n\n\nLe tarif inclut la partie de curling\, les conseils du pro\, l’équipement\, le repas léger\, le service et le pourboire. Les consommations sont à vos frais. \nÉQUIPEMENTS OBLIGATOIRES : Espadrilles n’ayant jamais été portés à l’extérieur et vêtements confortables. Les participants devront lire et suivre les règles de conduite et code vestimentaire du Club. \nDATE ET HEURE : Mercredi 1er mai 2024 de 16h30 à 22h \nDATE LIMITE D’INSCRIPTION :  jeudi 29 avril 2024 \nPROGRAMME DE LA SOIRÉE : \n\n16 h 30  à  17 h 00  – Accueil au bar\n17 h 30  à  19 h 00   – Curling + formation\n19 h 00  à  22 h 00  – Cocktail à vos frais mais repas léger inclus.\n\n\n  \n\n\nLIEU\n\n\nClub de curling ville de Mont-Royal \n5 Av. Montgomery\, Mont-Royal\, QC H3R 2B2 \n\n\n  \nSTATIONNEMENT : Disponible \n\n  \nSOUVENIRS \n \nPhotos du tournoi 2022 \n\n – INSCRIPTIONS FERMÉES – \nÉvénement complet ! Veuillez contacter le secrétariat pour toutes demandes : info@ashraemontreal.org \n\n  \n\n\nAvantages YEA \n\n\nÉvénements exclusifs YEA \n\n\n 
URL:https://ashraemontreal.org/evenements-en-details/tournoi-de-curling-ashrae-2024-yea-301/
LOCATION:Club de curling de ville Mont Royal\, 5 Avenue Montgomery\, Mont-Royal\, Québec\, H3R 2B2\, Canada
CATEGORIES:YEA
ATTACH;FMTTYPE=image/jpeg:https://ashraemontreal.org/wp-content/uploads/2024/08/evenements-curling.jpg
END:VEVENT
END:VCALENDAR