BEGIN:VCALENDAR
VERSION:2.0
PRODID:-//ASHRAE - ECPv6.15.17.1//NONSGML v1.0//EN
CALSCALE:GREGORIAN
METHOD:PUBLISH
X-WR-CALNAME:ASHRAE
X-ORIGINAL-URL:https://ashraemontreal.org
X-WR-CALDESC:Événements pour ASHRAE
REFRESH-INTERVAL;VALUE=DURATION:PT1H
X-Robots-Tag:noindex
X-PUBLISHED-TTL:PT1H
BEGIN:VTIMEZONE
TZID:America/Montreal
BEGIN:DAYLIGHT
TZOFFSETFROM:-0500
TZOFFSETTO:-0400
TZNAME:EDT
DTSTART:20230312T070000
END:DAYLIGHT
BEGIN:STANDARD
TZOFFSETFROM:-0400
TZOFFSETTO:-0500
TZNAME:EST
DTSTART:20231105T060000
END:STANDARD
BEGIN:DAYLIGHT
TZOFFSETFROM:-0500
TZOFFSETTO:-0400
TZNAME:EDT
DTSTART:20240310T070000
END:DAYLIGHT
BEGIN:STANDARD
TZOFFSETFROM:-0400
TZOFFSETTO:-0500
TZNAME:EST
DTSTART:20241103T060000
END:STANDARD
BEGIN:DAYLIGHT
TZOFFSETFROM:-0500
TZOFFSETTO:-0400
TZNAME:EDT
DTSTART:20250309T070000
END:DAYLIGHT
BEGIN:STANDARD
TZOFFSETFROM:-0400
TZOFFSETTO:-0500
TZNAME:EST
DTSTART:20251102T060000
END:STANDARD
END:VTIMEZONE
BEGIN:VEVENT
DTSTART;TZID=America/Montreal:20240229T160000
DTEND;TZID=America/Montreal:20240229T190000
DTSTAMP:20260422T050710
CREATED:20240921T013729Z
LAST-MODIFIED:20240921T183005Z
UID:15341-1709222400-1709233200@ashraemontreal.org
SUMMARY:Visite technique - février 2024
DESCRIPTION:Les comités YEA et AÉ invitent ses membres (jeunes membres ASHRAE de 35 ans et moins et étudiants) à participer à la visite technique des installations mécaniques de l’Esplanade Tranquille de Montréal \nSituée au cœur du Quartier des spectacles\, la patinoire de l’Esplanade Tranquille est rapidement devenue un incontournable pour les Montréalais. Nous aurons la chance de visiter les installations mécaniques (réfrigération et ventilation) ayant rendu ce projet d’envergure possible. Ensuite\, nous pourrons enfiler nos patins et faire quelques tours de patinoire. \nPlace limitées (2 groupe de 15 personnes) – réservez tôt ! \n  CLIQUEZ ICI POUR VOUS INSCRIRE   \n(Priorité aux membres ASHRAE jusqu’au 16 février. Ouvert à tous par la suite) \n\nINFORMATION GÉNÉRALE\nCLIENTÈLE VISÉE : Professionnels de moins de 35 ans de l’ASHRAE et étudiants \nÉQUIPEMENT REQUIS :  Équipement de sécurité à valider \nHORAIRE DÉTAILLÉ DE L’ÉVÈNEMENT \n\n15 h 45 à 16 h 00 – Accueil des participants du groupe 1 au point de rassemblement\n16 h 00 à 17 h 00 – Visite guidée des installations mécanique et questions – Groupe 1\n16 h 45 à 17 h 00 – Accueil des participants du groupe 2 au point de rassemblement\n17 h 00 à 18 h 00 – Visite guidée des installations mécanique et questions – Groupe 2\nRésautage si possible à venir – Patinage\n\nNOMBRE DE PLACES :  2 groupes de 15 personnes \nDATE LIMITE D’INSCRIPTION : 27 février 2024 à 16h00 \nTARIFICATION (taxes en sus) \n\n\n\nMEMBRE \n\nMembre ASHRAE : 10$\n\n\n\n\n\nNON-MEMBRE \n\nNon-membre : 20$\n\n\n\n\n\n\nLIEU : ESPLANADE TRANQUILLE \nPoint de rencontre : Station de métro St-Laurent \n1442 Rue Clark\, Montréal\, QC\, H2X 2R3 \n\n Place limitées (2 groupe de 15 seulement) – réservez tôt ! \n  CLIQUEZ ICI POUR VOUS INSCRIRE   \nDate limite d’inscription: 27 fevrier à 16h00 \n\n  \n\n\nAvantages YEA \n\n\nAvantages Étudiants \n\n\n 
URL:https://ashraemontreal.org/evenements-en-details/visite-technique-fevrier-2024/
LOCATION:Esplanade Tranquille\, 1442\, rue Clark\, Montréal\, Québec\, Canada
CATEGORIES:YEA
ATTACH;FMTTYPE=image/png:https://ashraemontreal.org/wp-content/uploads/2024/09/quartier-patinoire.png
END:VEVENT
END:VCALENDAR