BEGIN:VCALENDAR
VERSION:2.0
PRODID:-//ASHRAE - ECPv6.15.17.1//NONSGML v1.0//EN
CALSCALE:GREGORIAN
METHOD:PUBLISH
X-ORIGINAL-URL:https://ashraemontreal.org
X-WR-CALDESC:Événements pour ASHRAE
REFRESH-INTERVAL;VALUE=DURATION:PT1H
X-Robots-Tag:noindex
X-PUBLISHED-TTL:PT1H
BEGIN:VTIMEZONE
TZID:America/Montreal
BEGIN:DAYLIGHT
TZOFFSETFROM:-0500
TZOFFSETTO:-0400
TZNAME:EDT
DTSTART:20200308T070000
END:DAYLIGHT
BEGIN:STANDARD
TZOFFSETFROM:-0400
TZOFFSETTO:-0500
TZNAME:EST
DTSTART:20201101T060000
END:STANDARD
BEGIN:DAYLIGHT
TZOFFSETFROM:-0500
TZOFFSETTO:-0400
TZNAME:EDT
DTSTART:20210314T070000
END:DAYLIGHT
BEGIN:STANDARD
TZOFFSETFROM:-0400
TZOFFSETTO:-0500
TZNAME:EST
DTSTART:20211107T060000
END:STANDARD
BEGIN:DAYLIGHT
TZOFFSETFROM:-0500
TZOFFSETTO:-0400
TZNAME:EDT
DTSTART:20220313T070000
END:DAYLIGHT
BEGIN:STANDARD
TZOFFSETFROM:-0400
TZOFFSETTO:-0500
TZNAME:EST
DTSTART:20221106T060000
END:STANDARD
END:VTIMEZONE
BEGIN:VEVENT
DTSTART;TZID=America/Montreal:20211002T130000
DTEND;TZID=America/Montreal:20211002T151500
DTSTAMP:20260424T015008
CREATED:20240922T173749Z
LAST-MODIFIED:20240922T193629Z
UID:15679-1633179600-1633187700@ashraemontreal.org
SUMMARY:Visite technique - Novembre 2021
DESCRIPTION:Le comité YEA invite ses membres (jeunes membres ASHRAE de 35 ans et moins) et les étudiants du chapitre à participer à cette visite technique des installations mécaniques du Palais de justice de Montréal. \nSaviez-vous que la chaufferie du palais de justice de Montréal ne fait pas que chauffer (chauffage\, humidification & ECS) le palais de justice?  En effet\, la chaufferie du palais de justice de Montréal alimente aussi en vapeur 4 bâtiments avoisinants! Plus communément appelé chaufferie urbaine\, le palais de justice alimente l’hôtel de ville de Montréal\, la cour municipale de Montréal ainsi que 2 autres bâtiments de la SQI (Société québécoise des infrastructures). \nVenez en apprendre plus sur cette chaufferie biénergie et le principe de réseau urbain d’énergie. \nPlace limitées (2 groupes de 15 seulement) – réservez tôt ! \n  CLIQUEZ ICI POUR VOUS INSCRIRE   \nProlongée jusqu’au 1 novembre 2021 AVANT 9h. \n(Priorité pour les membres au début octobre jusqu’au 14 octobre. Ouvert à tous par la suite). \n\nINFORMATION GÉNÉRALE\nCLIENTÈLE VISÉE : Professionnels de moins de 35 ans et les étudiants mais l’activité est offerte à tous peu importe l’âge\, membres ou non-membres. \nÉQUIPEMENT REQUIS :  Lunettes de protection recommandées\, bottes /chaussures fermées obligatoires. Pas besoin de chaussures de sécurité. Passeport vaccinal et couvre-visage requis. \nFormulaire de sécurité requis avant 10h lundi 1 novembre. \nHORAIRE DÉTAILLÉ DE L’ÉVÈNEMENT \n\n12 h 30 à 14 h 00 – Accueil des participants au point de rassemblement et contrôle à la sécurité\n13 h 00 à 14 h 00 – Visite guidée des installations mécanique et questions – Groupe 1\n OU 14 h 15 à 15 h 15 – Visite guidée des installations mécanique et questions – Groupe 2\nRéseautage si possible à venir\n\nNOMBRE DE PLACES :  15 places / groupe\, inscrivez-vous rapidement! \nDATE LIMITE D’INSCRIPTION : Prolongée au 1 novembre 9h00. \nTARIFICATION (taxes en sus) \n\n\n\nMEMBRE \n\nMembre ASHRAE Montréal : 10$\nMembre étudiant ASHRAE  : Gratuit\n\n\n\n\n\nNON-MEMBRE \n\nNon-membre : 20$\nÉtudiant non-membre : 5$\n\n\n\n\n\nLIEU : PALAIS DE JUSTICE DE MONTRÉAL \nRencontre à l’entrée principale du Palais de justice \n1\, rue Notre-Dame Est\, Montréal (Québec)  H2Y 1B6\n(Situé entre les stations de métro Champ-de-mars et Place d’Armes) \n\n  \nPlace limitées (2 groupes de 15 seulement) – réservez tôt ! \n  CLIQUEZ ICI POUR VOUS INSCRIRE   \nProlongée jusqu’au 1 novembre 2021 AVANT 9h. \n(Priorité pour les membres au début octobre jusqu’au 14 octobre. Ouvert à tous par la suite). \n\n  \n\n\nAvantages YEA \n\n\nAvantages Étudiants \n\n\n 
URL:https://ashraemontreal.org/evenements-en-details/visite-technique-novembre-2021-227/
LOCATION:Palais de Justice de Montréal\, 1\, rue Notre-Dame Est\, Montréal\, Québec\, H2Y 1B6\, Canada
CATEGORIES:YEA
ATTACH;FMTTYPE=image/jpeg:https://ashraemontreal.org/wp-content/uploads/2024/09/palaisdejustice_2nov2021.jpg
END:VEVENT
END:VCALENDAR