BEGIN:VCALENDAR
VERSION:2.0
PRODID:-//ASHRAE - ECPv6.15.17.1//NONSGML v1.0//EN
CALSCALE:GREGORIAN
METHOD:PUBLISH
X-ORIGINAL-URL:https://ashraemontreal.org
X-WR-CALDESC:Événements pour ASHRAE
REFRESH-INTERVAL;VALUE=DURATION:PT1H
X-Robots-Tag:noindex
X-PUBLISHED-TTL:PT1H
BEGIN:VTIMEZONE
TZID:America/Montreal
BEGIN:DAYLIGHT
TZOFFSETFROM:-0500
TZOFFSETTO:-0400
TZNAME:EDT
DTSTART:20230312T070000
END:DAYLIGHT
BEGIN:STANDARD
TZOFFSETFROM:-0400
TZOFFSETTO:-0500
TZNAME:EST
DTSTART:20231105T060000
END:STANDARD
BEGIN:DAYLIGHT
TZOFFSETFROM:-0500
TZOFFSETTO:-0400
TZNAME:EDT
DTSTART:20240310T070000
END:DAYLIGHT
BEGIN:STANDARD
TZOFFSETFROM:-0400
TZOFFSETTO:-0500
TZNAME:EST
DTSTART:20241103T060000
END:STANDARD
BEGIN:DAYLIGHT
TZOFFSETFROM:-0500
TZOFFSETTO:-0400
TZNAME:EDT
DTSTART:20250309T070000
END:DAYLIGHT
BEGIN:STANDARD
TZOFFSETFROM:-0400
TZOFFSETTO:-0500
TZNAME:EST
DTSTART:20251102T060000
END:STANDARD
END:VTIMEZONE
BEGIN:VEVENT
DTSTART;TZID=America/Montreal:20241002T000000
DTEND;TZID=America/Montreal:20241002T000000
DTSTAMP:20260419T225955
CREATED:20240922T173758Z
LAST-MODIFIED:20241003T010718Z
UID:15813-1727827200-1727827200@ashraemontreal.org
SUMMARY:Déjeuner causerie WIA - Mai
DESCRIPTION:Prana – un modèle d’entreprise responsable –\nMarie-Josée Richer est cofondatrice de PRANA\, une entreprise manufacturière de collations 100% biologiques depuis 2005. Durant cette allocution\, Marie-Josée démontrera que la performance de PRANA est évaluée autant en fonction des profits que génèrent l’entreprise que de son engagement social et environnemental. Selon les fondateurs visionnaires de PRANA\, ce mode de pensée permet une performance à long terme dont bénéficie non seulement l’entreprise\, mais aussi la planète et la société dans laquelle elle évolue. Marie-Josée expliquera pourquoi PRANA constitue donc un « triple bottom line leader » en faisant référence en autres à la vision de PRANA ainsi que sa certification B Corp. Marie-Josée racontera aussi les débuts de PRANA et l’histoire inspirationnelle derrière l’entreprise. \nLes activités WIA vous sont présentées avec la collaboration spéciale de : \n \n\nInvitée spéciale: \n\n\n \n  \n\n\nMarie-Josée Richer\nEntrepreneure sociale\, visionnaire et engagée\, Marie-Josée Richer a cofondé l’entreprise PRANA en 2005. La jeune chambre de commerce de Montréal a décerné à Marie-Josée son prix Arista 2016 dans la catégorie jeune entrepreneur du Québec : Entreprise en croissance. Leader dans l’industrie de l’alimentation biologique depuis 12 ans\, PRANA participe activement à changer le paysage alimentaire pour construire un meilleur monde pour les futures générations. Animée par le désir d’avoir un impact positif et de répondre aux enjeux sociaux et environnementaux\, elle utilise l’entreprenariat comme moteur de changement. Aujourd’hui\, elle inspire les consommateurs à repenser leur façon de consommer. Elle encourage également les entreprises à adopter des pratiques d’affaires qui ont à cœur toutes les parties prenantes\, des fournisseurs jusqu’aux consommateurs et employés\, la planète et ses ressources\, tout en étant profitable pour assurer une croissance durable. \n\n\n\nFormule interactive et conviviale ! \nCLIQUEZ ICI POUR VOUS INSCRIRE   \n(Ouverture des inscriptions prévues au début d’avril) \n\n  \nINFORMATION GÉNÉRALE\nCLIENTÈLE VISÉE: ouvert à toutes les femmes de carrière peu importe votre profession. Invitez vos collègues\, clientes et amies! \nHORAIRE DÉTAILLÉ DE L’ÉVÈNEMENT \n\n8 h 15 à 8 h 30 – Accueil  \n8 h 30 à 10 h 00 – Déjeuner et conférence\n10 h 00 à 10 h 30 – Réseautage\n\n  \nTARIFICATION (taxes en sus) \n\n\n\nMEMBRE \n\nMembre ASHRAE Montréal (chapitre) : 25 $\n\n\n\n\n\nNON-MEMBRE \n\nNon-membre : 30 $\n\n\n\n\n\n\n  \nLIEU : ÉCOLE DES MÉTIERS DE LA RESTAURATION ET DU TOURISME DE MONTRÉAL \n\n1822 boulevard de Maisonneuve Ouest\, Montréal (Québec) H3H 1J8 \nAttention : Veuillez nous aviser de toute allergie ou intolérance alimentaire lors de l’inscription. \n CLIQUEZ ICI POUR VOUS INSCRIRE \n\n  \n\n\nAvantages WIA \n\n\nÉvénements exclusifs WIA \n\n\n  \nLes déjeuners-causeries et les activités sont réservés uniquement aux femmes. Le comité WIA invite ses membres féminins et toutes les professionnelles de tous les milieux à y participer.
URL:https://ashraemontreal.org/evenements-en-details/dejeuner-causerie-mai/
LOCATION:Québec
CATEGORIES:WIA
END:VEVENT
END:VCALENDAR