BEGIN:VCALENDAR
VERSION:2.0
PRODID:-//ASHRAE - ECPv6.15.17.1//NONSGML v1.0//EN
CALSCALE:GREGORIAN
METHOD:PUBLISH
X-ORIGINAL-URL:https://ashraemontreal.org
X-WR-CALDESC:Événements pour ASHRAE
REFRESH-INTERVAL;VALUE=DURATION:PT1H
X-Robots-Tag:noindex
X-PUBLISHED-TTL:PT1H
BEGIN:VTIMEZONE
TZID:America/Montreal
BEGIN:DAYLIGHT
TZOFFSETFROM:-0500
TZOFFSETTO:-0400
TZNAME:EDT
DTSTART:20230312T070000
END:DAYLIGHT
BEGIN:STANDARD
TZOFFSETFROM:-0400
TZOFFSETTO:-0500
TZNAME:EST
DTSTART:20231105T060000
END:STANDARD
BEGIN:DAYLIGHT
TZOFFSETFROM:-0500
TZOFFSETTO:-0400
TZNAME:EDT
DTSTART:20240310T070000
END:DAYLIGHT
BEGIN:STANDARD
TZOFFSETFROM:-0400
TZOFFSETTO:-0500
TZNAME:EST
DTSTART:20241103T060000
END:STANDARD
BEGIN:DAYLIGHT
TZOFFSETFROM:-0500
TZOFFSETTO:-0400
TZNAME:EDT
DTSTART:20250309T070000
END:DAYLIGHT
BEGIN:STANDARD
TZOFFSETFROM:-0400
TZOFFSETTO:-0500
TZNAME:EST
DTSTART:20251102T060000
END:STANDARD
END:VTIMEZONE
BEGIN:VEVENT
DTSTART;TZID=America/Montreal:20240922T000000
DTEND;TZID=America/Montreal:20240922T000000
DTSTAMP:20260420T003243
CREATED:20240922T173748Z
LAST-MODIFIED:20240922T182858Z
UID:15669-1726963200-1726963200@ashraemontreal.org
SUMMARY:Activité WIA - Mars 2022
DESCRIPTION:Discussion intéractive avec la présidente-directrice générale de l’entreprise BKIND: Mme Marilyne Bouchard\nEn plus de nous parler de son cheminement de carrière\, Mme Bouchard se rend disponible pour discuter avec nous de la place des femmes dans le domaine de la science. \nLes activités WIA vous sont présentées avec la collaboration spéciale de : \n \n\nInvitée spéciale: \n\n\n \n\n\nMARILYNE BOUCHARD \nPDG\nBKIND \nMarilyne Bouchard\, récipiendaire d’un baccalauréat et d’une maîtrise en microbiologie\, concocte depuis longtemps ses propres produits corporels. Ayant toujours eu une peau très sensible et réactive\, Marilyne a vite compris que les produits que l’on retrouve dans les pharmacies et magasins à grande surface ne convenaient pas du tout à sa peau\, ce qui la poussa à se pencher vers les ingrédients naturels pour rapidement se rendre compte du pouvoir de ces derniers sur sa peau. \nAinsi\, BKIND naît en 2014 et résulte d’un heureux mélange entre cet intérêt envers les cosmétiques naturels et la connaissance que la fondatrice acquiert au cours de ses études en microbiologie. \n\n\n\n Formule interactive et conviviale ! \nCLIQUEZ ICI POUR VOUS INSCRIRE   \nDATE LIMITE : 15 MARS 2022 \n\n  \nINFORMATION GÉNÉRALE\nCLIENTÈLE VISÉE: ouvert à toutes les femmes de carrière peu importe votre profession. Invitez vos collègues\, clientes et amies! \nHORAIRE DÉTAILLÉ DE L’ÉVÈNEMENT \n\n11 h 45 à 12 h 00 –  Connexion et accueil \n12 h 00 à 13 h 00 –  Conférence interactive\n13 h 00 à 13 h 15 –  Réseautage\n\n  \nTARIFICATION (taxes en sus) \n\n\n\nMEMBRE \n\nMembre ASHRAE Montréal (chapitre) : 10 $\nMembre ÉTUDIANT ASHRAE (temps plein) :GRATUIT\nOptez pour notre tout nouveau forfait WIA flexible exclusif aux membres à meilleur coût ci-dessous.\n\nForfaits exclusifs aux membres  (professionnels – saison 2021-2022) \nEn savoir + \n\n\n\n\n\nNON-MEMBRE \n\nNon-membre : 20 $\n\nÉtudiant non-membre  (temps plein): GRATUIT\n\n Devenir membre\nc’est très avantageux!  \n\n\n\n  \nLien de connexion\nLe lien de connexion est disponible sur la page de confirmation de votre inscription en ligne. Vous pourrez vous connecter dès 11h45 afin de faire connaissance avec les participantes et la conférencière. \n\n  \n CLIQUEZ ICI POUR VOUS INSCRIRE   \nDATE LIMITE : 15 MARS 2022\n\n  \n\n\nAvantages WIA \n\n\nÉvénements exclusifs WIA \n\n\n  \nLes activités WIA sont réservés uniquement aux femmes. Le comité WIA invite ses membres féminins et toutes les professionnelles de tous les milieux à y participer.
URL:https://ashraemontreal.org/evenements-en-details/activite-wia-mars-2022-245/
LOCATION:Rencontre virtuelle et interactive
CATEGORIES:WIA
ATTACH;FMTTYPE=image/jpeg:https://ashraemontreal.org/wp-content/uploads/2024/04/evenements-wia.jpg
END:VEVENT
END:VCALENDAR