BEGIN:VCALENDAR
VERSION:2.0
PRODID:-//ASHRAE - ECPv6.15.17.1//NONSGML v1.0//EN
CALSCALE:GREGORIAN
METHOD:PUBLISH
X-WR-CALNAME:ASHRAE
X-ORIGINAL-URL:https://ashraemontreal.org
X-WR-CALDESC:Événements pour ASHRAE
REFRESH-INTERVAL;VALUE=DURATION:PT1H
X-Robots-Tag:noindex
X-PUBLISHED-TTL:PT1H
BEGIN:VTIMEZONE
TZID:America/Montreal
BEGIN:DAYLIGHT
TZOFFSETFROM:-0500
TZOFFSETTO:-0400
TZNAME:EDT
DTSTART:20250309T070000
END:DAYLIGHT
BEGIN:STANDARD
TZOFFSETFROM:-0400
TZOFFSETTO:-0500
TZNAME:EST
DTSTART:20251102T060000
END:STANDARD
BEGIN:DAYLIGHT
TZOFFSETFROM:-0500
TZOFFSETTO:-0400
TZNAME:EDT
DTSTART:20260308T070000
END:DAYLIGHT
BEGIN:STANDARD
TZOFFSETFROM:-0400
TZOFFSETTO:-0500
TZNAME:EST
DTSTART:20261101T060000
END:STANDARD
BEGIN:DAYLIGHT
TZOFFSETFROM:-0500
TZOFFSETTO:-0400
TZNAME:EDT
DTSTART:20270314T070000
END:DAYLIGHT
BEGIN:STANDARD
TZOFFSETFROM:-0400
TZOFFSETTO:-0500
TZNAME:EST
DTSTART:20271107T060000
END:STANDARD
END:VTIMEZONE
BEGIN:VEVENT
DTSTART;TZID=America/Montreal:20260423T123000
DTEND;TZID=America/Montreal:20260423T193000
DTSTAMP:20260419T143444
CREATED:20260121T142508Z
LAST-MODIFIED:20260414T170401Z
UID:21842-1776947400-1776972600@ashraemontreal.org
SUMMARY:Séminaire ASHRAE Chapitre de Montréal 2026
DESCRIPTION:Des solutions et des outils à l’heure de la transition énergétique\n  \nASHRAE Montréal vous convie à son rendez-vous annuel portant sur le développement durable dans le bâtiment. Participez au séminaire durant lequel vous assisterez à plusieurs conférences qui susciteront les discussions autour d’idées et d’outils pour un avenir durable. Vous serez invité à poursuivre les discussions avec vos pairs lors du cocktail réseautage qui suivra. Après cette demi-journée de conférences et le cocktail\, vous pourrez vous inscrire et assister au 8e souper-conférence de l’année. \nMerci à nos partenaires \n\n\n \n\n\n \n\n\n\n INSCRIPTION EN COURS  \nInscriptions jusqu’au lundi 20 avril 2026 \n\nLIEU\nL’ambroisie (Restaurant L’Ambroisie & L’espace Canal) \n4020 Rue Saint-Ambroise\, Montréal (Québec) H4C 2C7 \nSalle l’Espace Canal – Stationnement privé payant\, dans la limite des places disponibles. \n\nPROGRAMME DE LA JOURNÉE\n\n12 h 30 – Accueil\n13 h 00 – Ouverture et mot de bienvenue\n13 h 10 à 13 h 30: Conférence des partenaires Hydro-Québec et Énergir\n13 h 30 à 14 h 15 – Présentation 1: ASHRAE Montréal – 90 ans d’innovation\n14 h 15 à 15 h 00 – Présentation 2: Efficacité et résilience dans le bâtiment multirésidentiel\n15 h 00 à 15 h 30 – Pause anniversaire ASHRAE Montréal\n15h30 à 16h15 – Panel: La collaboration architectes-ingénieurs: la clé pour des bâtiments réellement performants\n16 h 15 à 17h00 – Présentation 3: La trifecta énergétique : comment bien naviguer la question du développement durable sous tous ses angles\n17 h 20  à 17 h 30 – Mot de clôture\n17 h 30  à 19h 30 – Cocktail réseautage\n\nL’horaire est sujet à changement selon les restrictions sanitaires ou techniques. \n  \n\nPROGRAMME DÉTAILLÉ\n  \nPrésentation 1: Présentation 1: ASHRAE Montréal – 90 ans d’innovation  \n\n\n\n \n\n\nRoland Charneux\,  \nM.Ing.\, PA LEED BD+C\, ASHRAE Fellow & HFDP \nDiplômé de Polytechnique Montréal en 1976\, il débute sa carrière chez la firme  Pageau Morel pour laquelle il travaille encore. M. Charneux complète une maîtrise à l’Université Concordia en 1990\, devient Fellow de l’ASHRAE\, il recoit le Grand Prix de l’Ordre des Ingénieurs du Québec en 2018\, est nommé Pionnier du développenment durable en 2019 par le CaGBC et Mentor de l’année par L’AFG en 2024. Il est impliqué activement dans l’ASHRAE depuis plus de 30 ans et actuellement membre des TC-9.10 et 9.11 et Vice président du Research Administration Committee.Il est actuellement Directeur Associé de l’Équipe Créative chez Pageau Morel. \nDepuis le tout début de sa carrière\, il intègre l’efficacité énergétique et les principes de développement durable à chacun des projets sur lesquels il collabore. Il a ainsi contribué à l’amélioration énergétique de millions de mètres-carrés de bâtiments en faisant sauver des millions de dollars en frais d’opération à leurs propriétaires. \nDepuis plusieurs années il prône l’amélioration des enveloppes des bâtiments étant donné que ces dernières sont là pour plusieurs dizaines d’années sans réelle possibilité de les améliorer dans le futur. Au cours de ses 50 ans de carrière\, il a été un témoin privilégié de l’évolution des standards\, normes et codes en efficacité énergétique. \n\n\n\n\n \n\n\nMichel Lecompte \nM. Lecompte a plus de 50 années d’expérience en mécanique et en réfrigération. Ayant appris les rouages sur le plancher en tant que dessinateur et concepteur\, il se forge rapidement une expertise en réfrigération chez les équipementiers avant de cofonder l’entreprise RefPlus\, qui deviendra une référence dans le domaine au Québec. M. Lecompte a une connaissance approfondie tant des principes derrière le fonctionnement des systèmes CVCA-R que des besoins réels sur le terrain des clients qu’il a desservis au long de sa carrière. \nCette passion pour la réfrigération a aussi conduit M. Lecompte à s’impliquer activement et depuis plus de 40 ans au Chapitre de Montréal de l’ASHRAE ainsi qu’à de nombreux comités techniques à la société mère pour faire évoluer les normes de l’industrie en matière de réfrigération. La passion de M. Lecompte pour garder le froid là où il est utile n’a d’égale que son implication pour partager cette connaissance acquise au long d’une longue carrière mémorable. \n\n\n\nPrésentation 2: Efficacité et résilience dans le bâtiment multirésidentiel \n\n\n\n \n\n\nJean-Philippe Hardy  \nJean-Philippe Hardy possède plus de 20 ans d’expérience dans le domaine de l’efficacité énergétique et de la décarbonation des bâtiments et industries. Durant ces années\, il a travaillé à la conception et à la réalisation de projets de rénovation écoénergétique\, ainsi qu’à des analyses stratégiques et au développement de politiques publiques\, réglementations et stratégies pour des organisations publiques et privées\, gouvernements et distributeurs d’énergie. \nPassionné par la transition énergétique et la réduction des GES\, il a consacré sa carrière à élaborer des stratégies gagnantes et à accompagner ses clients et partenaires dans leurs efforts d’efficacité énergétique et de décarbonation. \n\n\n\nPanel: La collaboration architectes-ingénieurs: la clé pour des bâtiments réellement performants \n\n\n\n \n\n\nHugo Lafrance \nLEED Fellow\, WELL Faculty\, Associé\, Directeur – Stratégies durables \nHugo Lafrance est associé\, directeur stratégies durables chez Lemay. Il détient les titres de LEED Fellow et de WELL Faculty depuis plus de 7 ans. Son expertise et sa soif d’innovation l’ont amené à coordonner plus de 60 projets majeurs de bâtiments durables depuis 20 ans\, dont le Phénix à Montréal qui est certifié LEED Platine\, Fitwel 3 étoiles et Bâtiment carbone zéro – Performance. \nIl est membre du comité directeur LEED du Conseil du bâtiment durable du Canada\, formateur sur les normes Bâtiment carbone zéro et WELL\, et il est président du conseil d’administration de Bâtiment durable Québec. \n\n\n\n\n \n\n\nWilliam Pichon-Roy \nTitulaire d’un diplôme en génie physique à l’école Polytechnique de Montréal avec une spécialisation en énergie et un DESS en énergies renouvelables et efficacité énergétique de l’ÉTS\, William Pichon-Roy possède plus de 5 ans d’expérience dans le domaine du développement durable et du bâtiment. Avec son expérience en développement de projets d’énergie renouvelable et d’efficacité énergétique\, et il aide les projets à atteindre leurs objectifs notamment par le biais de calculs et simulations. La polyvalence de William lui permet d’être un atout à la réalisation multidisciplinaire de projets de bâtiments durables. \n\n\n\nPrésentation 3: La trifecta énergétique : comment bien naviguer la question du développement durable sous tous ses angles \n\n\n\n  \n\n\n  \n\n\n\n\n \n\n\nPierre-Olivier Pineau\,  \nPhD\, HEC Montréal \nPierre-Olivier Pineau (Ph.D. HEC Montréal\, 2000) est professeur titulaire au département des sciences de la décision de HEC Montréal et titulaire de la chaire de gestion du secteur de l’énergie depuis décembre 2013. Il est un spécialiste des politiques énergétiques\, notamment du secteur de l’électricité. Il a publié de nombreux articles sur le secteur de l’énergie\, dont la plupart explore les liens entre l’énergie et certains aspects du développement durable. Il intervient régulièrement dans les médias pour analyser l’actualité énergétique. Il a produit divers rapports pour le gouvernement et des organismes publics. Son livre L’équilibre énergétique est sorti en février 2023 et a gagné le prix Hubert-Reeves 2024 récompensant le meilleur ouvrage québécois de vulgarisation scientifique. Il est chercheur et Fellow au Centre interdisciplinaire de recherche en analyse des organisation (CIRANO). Avant d’être à HEC Montréal\, il a été professeur à l’Université de Victoria (BC) de 2001 à 2006 \n\n\n\nTARIFICATION (taxes en sus)\nLe coût du séminaire inclut les conférences de l’après-midi et la pause-café incluant café\, thé\, jus. \n\n\n\nTARIFS PRÉFÉRENTIELS \nMembre ASHRAE Montréal (chapitre) :\n140$ \nMembre à vie ASHRAE\nayant payé leur cotisation au chapitre :\n70$ \nÉtudiant à temps plein et membre ASHRAE (société) : 70$ \nNon-membre:\n185$ \n\n\n\n\nTARIFS RÉGULIERS \nMembre ASHRAE Montréal:\n160$ \nMembre à vie ASHRAE\nayant payé leur cotisation au chapitre :\n90$ \nÉtudiant à temps plein et membre ASHRAE (société) : 90$ \nNon-membre:\n205$ \n\n\nDevenir membre\nc’est très avantageux! \n\n\n\n\n\n\n\nTarif détenteur de forfait individuel (4 soupers et 8 soupers) à moitié prix : Une facture au tarif à moitié prix vous sera envoyée afin de finaliser votre inscription\n  \nINSCRIPTION EN COURS \nInscriptions jusqu’au lundi 20 avril 2026
URL:https://ashraemontreal.org/evenements-en-details/seminaire-ashrae-chapitre-de-montreal-2026/
LOCATION:Château Saint-Ambroise\, Château Saint-Ambroise\, Montréal\, QC\, H4C 2C7\, Canada
CATEGORIES:Professionnels
ATTACH;FMTTYPE=image/png:https://ashraemontreal.org/wp-content/uploads/2026/01/Visuel-Seminaire-DD-2026.png
END:VEVENT
END:VCALENDAR