BEGIN:VCALENDAR
VERSION:2.0
PRODID:-//ASHRAE - ECPv6.15.17.1//NONSGML v1.0//EN
CALSCALE:GREGORIAN
METHOD:PUBLISH
X-ORIGINAL-URL:https://ashraemontreal.org
X-WR-CALDESC:Événements pour ASHRAE
REFRESH-INTERVAL;VALUE=DURATION:PT1H
X-Robots-Tag:noindex
X-PUBLISHED-TTL:PT1H
BEGIN:VTIMEZONE
TZID:America/Montreal
BEGIN:DAYLIGHT
TZOFFSETFROM:-0500
TZOFFSETTO:-0400
TZNAME:EDT
DTSTART:20180311T070000
END:DAYLIGHT
BEGIN:STANDARD
TZOFFSETFROM:-0400
TZOFFSETTO:-0500
TZNAME:EST
DTSTART:20181104T060000
END:STANDARD
BEGIN:DAYLIGHT
TZOFFSETFROM:-0500
TZOFFSETTO:-0400
TZNAME:EDT
DTSTART:20190310T070000
END:DAYLIGHT
BEGIN:STANDARD
TZOFFSETFROM:-0400
TZOFFSETTO:-0500
TZNAME:EST
DTSTART:20191103T060000
END:STANDARD
BEGIN:DAYLIGHT
TZOFFSETFROM:-0500
TZOFFSETTO:-0400
TZNAME:EDT
DTSTART:20200308T070000
END:DAYLIGHT
BEGIN:STANDARD
TZOFFSETFROM:-0400
TZOFFSETTO:-0500
TZNAME:EST
DTSTART:20201101T060000
END:STANDARD
BEGIN:DAYLIGHT
TZOFFSETFROM:-0500
TZOFFSETTO:-0400
TZNAME:EDT
DTSTART:20210314T070000
END:DAYLIGHT
BEGIN:STANDARD
TZOFFSETFROM:-0400
TZOFFSETTO:-0500
TZNAME:EST
DTSTART:20211107T060000
END:STANDARD
BEGIN:DAYLIGHT
TZOFFSETFROM:-0500
TZOFFSETTO:-0400
TZNAME:EDT
DTSTART:20220313T070000
END:DAYLIGHT
BEGIN:STANDARD
TZOFFSETFROM:-0400
TZOFFSETTO:-0500
TZNAME:EST
DTSTART:20221106T060000
END:STANDARD
BEGIN:DAYLIGHT
TZOFFSETFROM:-0500
TZOFFSETTO:-0400
TZNAME:EDT
DTSTART:20230312T070000
END:DAYLIGHT
BEGIN:STANDARD
TZOFFSETFROM:-0400
TZOFFSETTO:-0500
TZNAME:EST
DTSTART:20231105T060000
END:STANDARD
BEGIN:DAYLIGHT
TZOFFSETFROM:-0500
TZOFFSETTO:-0400
TZNAME:EDT
DTSTART:20240310T070000
END:DAYLIGHT
BEGIN:STANDARD
TZOFFSETFROM:-0400
TZOFFSETTO:-0500
TZNAME:EST
DTSTART:20241103T060000
END:STANDARD
BEGIN:DAYLIGHT
TZOFFSETFROM:-0500
TZOFFSETTO:-0400
TZNAME:EDT
DTSTART:20250309T070000
END:DAYLIGHT
BEGIN:STANDARD
TZOFFSETFROM:-0400
TZOFFSETTO:-0500
TZNAME:EST
DTSTART:20251102T060000
END:STANDARD
END:VTIMEZONE
BEGIN:VEVENT
DTSTART;TZID=America/Montreal:20190501T000000
DTEND;TZID=America/Montreal:20240501T000000
DTSTAMP:20260421T151806
CREATED:20240922T173754Z
LAST-MODIFIED:20240926T010030Z
UID:15748-1556668800-1714521600@ashraemontreal.org
SUMMARY:Remise des candidatures Méritas ASHRAE - réfrigération 2019
DESCRIPTION:Remise des projets pour les candidatures des deux prix suivants : \n\n« Milton W. Garland Commemorative Award for Project Excellence » et\n« Refrigeration Comfort Cooling Award for Project Excellence »\n\nDate limite : 1 mai 2019. \nEn savoir + \n\nINFO\n\n\n\n\nLes candidats doivent compléter le formulaire ci-dessous et autres documents (voir En savoir+) et faire parvenir le tout par courriel (en anglais) à : \namorts@ashrae.net et en copie à Daniel Robert (drobert@kolostat.com) ou notre responsable CTTC aux coordonnées ci-contre. \nSoit au personnel de liaison du Comité de Réfrigération (Refrigeration Committee Staff Liaison ) avant le 1 mai 2019 et en copie au RVC CTTC de la région (Daniel Robert) pour être considérées pour la compétition de cette année. \nAward Submission Form > \n\n\nContactez votre comité CTTC \nComité CTTC \n\n\n\n 
URL:https://ashraemontreal.org/evenements-en-details/remise-des-candidatures-meritas-ashrae-refrigeration-2019_117/
LOCATION:Québec
CATEGORIES:Professionnels
ATTACH;FMTTYPE=image/jpeg:https://ashraemontreal.org/wp-content/uploads/2024/09/garlandmiltonaward_imageweb.jpg
END:VEVENT
BEGIN:VEVENT
DTSTART;TZID=America/Montreal:20200511T130000
DTEND;TZID=America/Montreal:20240511T144500
DTSTAMP:20260421T151806
CREATED:20240922T173752Z
LAST-MODIFIED:20240924T224941Z
UID:15720-1589202000-1715438700@ashraemontreal.org
SUMMARY:Webinaire ASHRAE Montréal du 11 mai 2020
DESCRIPTION:Mettant en vedette\, le conférencier Joël Primeau\, le Chapitre de Montréal désire redonner à ses membres en vous offrant son premier webinaire gratuit organisé par le chapitre mais offert à tous. 1000 places disponibles ! \n\n  \nCONFÉRENCE PRINCIPALE (vers 13 H 05)\n  \nCette présentation sera présentée en français seulement.    \nSUJET : Pour bien réussir Un projet en mécanique du bâtiment\, il faut commencer par un bon  « OPR«  \nLes projets en mécanique du bâtiment déçoivent parfois les architectes\, les propriétaires\, les occupants\, les équipes d’entretien et d’exploitation. Comment peut-on améliorer nos chances de réussites en tant qu’ingénieurs mécaniques?  Cette conférence expliquera comment partir un projet du bon pied avec un document essentiel à la mise en service\, c’est-à-dire le OPR (owner’s project requirements)\,soit les exigences du propriétaire pour le projet.  Le OPR\, tel qu’il est décrit dans les guides de l’ASHRAE\, fournit les informations nécessaires pour que l’équipe de conception puisse compléter les documents d’appel d’offres en confiance. Trop souvent quand un projet n’a pas d’OPR\, celui-ci dévie des vrais objectifs du client et ne répond plus adéquatement à ses attentes.  Cette présentation confirmera le besoin de bien cerner les enjeux du projet\, et expliquera comment les enregistrer dans un OPR pour maximiser les chances de succès de l’ingénieur mécanique. \n\n  \n\n\n \n\n\nJoël PRIMEAU \, ing.\, P. Eng.\,PA LEED\, HBDP \nChef ingénieur mécanique\, J.L. Richards and Associates\, Ottawa \nJoël Primeau œuvre dans le domaine du CVAC depuis plus de 30 ans. Communicateur passionné\, il présente régulièrement des conférences animées sur la qualité de l’air\, l’efficacité énergétique et les bâtiments durables. Il a aussi développé le très populaire cours HVAC Design Essentials de l’ASHRAE qu’il a présenté à des professionnels de Los Angeles à Dubaï.  Il est présentement Ingénieur mécanique en chef chez J.L.Richards à Ottawa où il mène une équipe de près 75 techniciens et ingénieurs dans 6 bureaux différents pour des projets oeuvrant dans les secteurs du bâtiment commercial\, minier\, industriel et programme d’implantaion environnemental. \n  \n\n\n\nCLIQUEZ ICI POUR VOUS INSCRIRE AU  WEBINAIRE \nINSCRPTION AVANT LE 10 MAI POUR CONSIDÉRATIONS TECHNIQUES \n Les places sont limitées à 1000 pour tous les chapitres de la région 2 (Est du Canada) \n\n  \nINFORMATION GÉNÉRALE\nPROGRAMME \nHoraire approximatif \n\n12 h 45  à 13 h 00  –   Connexion et annonces\n13 h 00  à 13 h 05  –   Accueil et mot de bienvenue\n13 h 05  à 14 h 05  –  Conférence principale et période de questions\n14 h 05  à 14 h 10 –   Allocution de fermeture\n\nACTIVITÉ GRATUITE  –  Cependant\, nous vous encourageons\, si vous le pouvez\, à faire un don à ASHRAE Research Canada. \nCertificat : Un certificat de participation attestant 1 heure de formation continue sera envoyé par courriel aux participants suite à la confirmation de leurs participations après l’événement. \nÉvaluation : Puisqu’il s’agira d’une première pour le chapitre de Montréal\, nous apprécierons recevoir votre évaluation et vos commentaires après l’événement afin d’améliorer ce service.
URL:https://ashraemontreal.org/evenements-en-details/webinaire-ashrae-montreal-du-11-mai-2020-157/
LOCATION:Québec
CATEGORIES:Professionnels
ATTACH;FMTTYPE=image/jpeg:https://ashraemontreal.org/wp-content/uploads/2024/09/webinaire_bilingue_generique_2020.jpg
END:VEVENT
BEGIN:VEVENT
DTSTART;TZID=America/Montreal:20230911T171500
DTEND;TZID=America/Montreal:20230911T210000
DTSTAMP:20260421T151806
CREATED:20240921T013730Z
LAST-MODIFIED:20240921T235346Z
UID:15349-1694452500-1694466000@ashraemontreal.org
SUMMARY:Soirée-conférence –  Septembre 2023
DESCRIPTION:Il s’agit du premier souper-conférence de la saison et nous avons hâte de vous recevoir. Participez à nos concours et puisque tous les participants de cette soirée pourront se prévaloir du prix spécial réservé habituellement aux membres lors de l’inscription\, profitez de cette occasion pour inviter des non-membres. Amenez vos collègues\, clients et amis et faites leurs découvrir le chapitre de Montréal. Soyez de la partie! \nTous les détails ci-dessous : \n CONCOURS – CONFÉRENCES – EXPOSANTS – INFO GÉNÉRALE (tarification\, horaire\, etc.) \nMerci à nos partenaires de la soirée  (Forfait conférences) \n\n\n \n\n\n \n\n\n\nCLIQUEZ ICI POUR VOUS INSCRIRE \nInscriptions jusqu’au jeudi 7 septembre 2023\, après cette date les inscriptions seront limitées et majorées de 20 $1\n \nATTENTION\nVous devez vous inscrire afin de garantir votre place\, même si vous avez un forfait pour tous les soupers-conférences. \n1En raison de la nouvelle réalité postpandémique impliquant une forte pénurie de main d’œuvre dans les services de la restauration\, le Club St-James exige dorénavant un nombre précis de convives.  Merci de votre collaboration. \n  \n\nSoirée recrutement des membres\nTirage d’une carte-cadeau (valeur de 100$) – Exclusif aux membres\nParmi tous les membres en règles présents du Chapitre de Montréal au Club St-James le jour de l’événement. \n\n\n  \nPREMIÈRE CONFÉRENCE (17 H 45)  \nSUJET : LES AVANCEMENTS TECHNOLOGIQUES DE LA TUYAUTERIE DE PLASTIQUE FUSIONNÉ \nLe marché de la tuyauterie est en pleine évolution que ce soit en termes d’exigence de qualité\, responsabilité des installateurs\, efficacité de performance et économique ou bien face à la difficulté de recrutement de main-d’œuvre spécialisé.  Tous ces défis demandent une approche non traditionnelle.  Les produits de tuyauterie fusionnés permettent d’offrir des garanties sur le système de tuyauterie\, des économies au niveau des assurances\, au niveau des produits chimiques\, efficacité de pompage\, cout d’installation.  Leur utilisation permet aussi une plus grande accessibilité à der la main-d’œuvre qualifié due à une courte période de formation par rapport à l’expertise requise pour un soudeur.  Dans cette présentation nous présenterons l’étendue des applications possibles avec ces produits\, l’avantage de leur utilisation pour les utilisateurs\, installateurs et concepteurs et nous procèderons à une démonstration de la fusion de ces produits. \n\n\n\n\nStéphane Beaulieu \nReprésentant des ventes\, Services Énergétiques R.L. inc.\, \nMontréal Québec\, Canada \nStéphane Beaulieu a plusieurs années d’expérience en tant que chargé de projet en mécanique du bâtiment sur des projets d’envergures de type commerciaux et industriels. Il a récemment changé son fusil d’épaule pour rejoindre SERL\, un distributeur d’équipement de production d’énergie en tant que représentant des ventes.  Ses connaissances de terrain sont bénéfiques afin d’avoir une meilleure vue d’ensemble des projets. Pour parfaire ses connaissances\, il décide de finaliser (en cours) son cours de génie mécanique à l’Université Laval. En plus d’être un ingénieur en devenir\, il est également spécialiste dans les produits de fusion. Ayant déjà participé à plusieurs projets d’envergure dans la province de Québec utilisant cette technologie\, Stéphane est une référence dans le domaine de la mécanique du bâtiment. \n\n\n\n  \n\n DEUXIÈME CONFÉRENCE (19 H 30)  \nSUJET : « HEATING WITH ICE » NEW ADVANCMENTS IN THERMOSTORAGE SOLUTIONS \n« L’électrification » est récemment devenue une feuille de route largement acceptée vers l’objectif d’un avenir à faible émission de carbone. Le concept est facilement compris dans le secteur des transports : les voitures utilisant des combustibles fossiles comme source d’énergie embarquée ne peuvent jamais être exemptes de carbone. Cependant\, une voiture électrique chargée à partir d’une source sans carbone peut être exempte de carbone. Lorsqu’il est appliqué aux bâtiments\, une méthode consiste à envisager d’interrompre l’approvisionnement en combustibles fossiles et à obtenir toute l’énergie à partir du futur réseau sans carbone. Certains sceptiques estiment qu’il est utopique d’avoir un réseau électrique sans carbone\, mais il est certain que vous ne pouvez pas avoir de bâtiment sans carbone si vous brûlez des combustibles fossiles à l’intérieur. L’électrification jouera un rôle dans notre avenir à faible émission de carbone\, il est donc crucial de comprendre les pompes à chaleur\, le « refroidissement gratuit » et leur relation avec le stockage d’énergie thermique. La présentation abordera les multiples sources de valeur de l’utilisation du stockage thermique pour le chauffage et le refroidissement dans un bâtiment entièrement électrique. Il abordera également comment il est possible de chauffer avec l’aide de thermopompes performantes et par l’utilisation de stockage thermique communément appelée banque à glace. \n\n\n\nbruce b. lindsayPE\, CEM ASHRAE\, Distinguished Lecturer ASHRAE\, Business Development Team leader\, Thermal Energy Storage Trane Technologies \nMelbourne\, Florida\, United States \nBruce B. Lindsay occupe le poste de Leader du Développement des Affaires pour les systèmes de Stockage d’Énergie Thermique chez Trane Technologies. Fort de plus de 30 ans d’expérience dans la recherche\, l’ingénierie\, la vente et l’exploitation du stockage d’énergie thermique\, il est diplômé en Génie Civil de l’Université Carnegie-Mellon et possède une Maîtrise en Sciences des Ressources Énergétiques de l’Université de Pittsburgh ainsi qu’une Maîtrise en Gestion de la Kellogg Graduate School of Management de l’Université Northwestern. \nSa carrière dans le domaine de l’énergie a débuté chez Peoples Natural Gas à Pittsburgh\, où il a effectué des ventes industrielles et réalisé des audits énergétiques. Par la suite\, il a joué un rôle clé dans le développement de systèmes de refroidissement et de chauffage au gaz naturel pour l’Institut de Recherche sur le Gaz et l’Electric Power Research Institute. En tant que Directeur Exécutif du Centre de Recherche sur les Applications de Stockage Thermique à l’Université du Wisconsin-Madison\, il a collaboré avec diverses parties prenantes pour promouvoir les systèmes de stockage d’énergie thermique. \nBruce a également géré des programmes d’efficacité énergétique\, s’est distingué dans la publication d’articles et a reçu des distinctions pour son travail dans le secteur de l’énergie. Il a finalement été recruté par Trane Technologies en 2022 pour diriger leur activité de stockage thermique. Actif au sein d’organisations telles que l’ASHRAE\, l’Association des Ingénieurs en Énergie et le Conseil des Bâtiments Écologiques des États-Unis\, Bruce B. Lindsay est un leader reconnu dans le domaine du stockage d’énergie thermique et de l’efficacité énergétique. \n\n\n\n\nCLIQUEZ ICI POUR VOUS INSCRIRE \nInscriptions jusqu’au jeudi 7 septembre 2023\, après cette date les inscriptions seront limitées et majorées de 20 $1  \n\n  \nEXPOSANTS LORS DE LA SOIRÉE\n\n\n\nTrane\n  \n\n\nUPONOR\n  \n\n\n\n\nCEPTEK\n  \n\n\nIPEX\n  \n\n\n\n\n\n\nVous voulez profiter de la visibilité qu’offrent ces soupers-conférences comme tremplin publicitaire pour votre entreprise\, ou encore pour développer un réseau de contact des plus intéressants? \nContactez le comité publicité. \n\n\nEn savoir + \n\n\n\n\n  \nINFORMATION GÉNÉRALE\nMODE PRÉSENTIEL SEULEMENT (au Club St-James)\nPROGRAMME DE LA SOIRÉE* \n\n17 h 15 à 17 h 45 –  Accueil\, cocktail et visite des exposants – Salle à confirmer \n17 h 45 à 18 h 30 –  Première partie – Salle St-Denis (2e étage)\n18 h 30 à 19 h 00 –  Cocktail et visite des exposants – Salle à confirmer \n19 h 00 à 20 h 00 –  Souper et mot du président  – Salle St-Denis (2e étage)\n20 h 00 à 21 h 00 –  Deuxième partie – Salle St-Denis (2e étage)\n21 h 00 à 21 h 30 –  Mot de clôture et réseautage – Salle St-Denis (2e étage)\n\n* Sujet à changement selon les mesures sanitaires en vigueur en moment de l’événement. \n\nMENU-REPAS \n\n\n\nCrème de panais\, pommes et vieux cheddar\nSaumon et mousseline de crevettes en écailles de courgettes\, beurre blanc aux herbes\nTerrine de chocolat\, tombée de mangue à la vanille\nCafé ou thé\n\n\n\nATTENTION \nVeuillez nous aviser de toute allergie ou intolérance alimentaire lors de l’inscription en ligne. \n  \n\n\n\nTARIFICATION  (taxes en sus) \nInscriptions jusqu’au jeudi 7 septembre 2023\, après cette date les inscriptions seront limitées et majorées de 20 $1  \n\n\n\nMEMBRE \n\nMembre ASHRAE Montréal (chapitre) : 120 $\nMembre à vie ASHRAE ayant payé leur cotisation au chapitre : 50 $\n\nÉtudiant à temps plein et membre ASHRAE (Société) : 25 $\n\n\nForfaits exclusifs aux membres  (professionnels – saison 2023-2024) \nEn savoir + \n\n\n\n\nNON-MEMBRE \n\nNon-membre : 180 $  promo 120 $\n\nÉtudiant à temps plein\, non-membre ASHRAE (avec preuve) : 35 $  promo 25 $\nMembre ASPE : 135 $  promo 120 $\n\nDevenir membre\nc’est très avantageux!  \n\n\n\n\n LIEU : CLUB ST-JAMES DE MONTRÉAL \n\n1145\, Avenue Union\, Montréal (Québec)  H3B 3C2\n(coin boul. René-Lévesque Ouest)\nT : 514 866-7474 \nMesures sanitaires spéciales :  Aucunes à ce jour \nCode vestimentaire : Le Club St-James exige une tenue d’affaires décontractée (jeans ou tenue de sport ne sont pas acceptés)\, la majorité des participants se présentent souvent en tenue de ville. \nCertificat : Un certificat de participation attestant 1\,75 heures de formation continue sera envoyé par courriel sur place aux participants présents. Assurez-vous de l’avoir avant la sortie. \n\n1En raison de la nouvelle réalité postpandémique impliquant une forte pénurie de main d’œuvre dans les services de la restauration\, le Club St-James exige dorénavant un nombre précis de convives.  Merci de votre collaboration. \n\n  \nCLIQUEZ ICI POUR VOUS INSCRIRE \nInscriptions jusqu’au jeudi 7 septembre 2023\, après cette date les inscriptions seront limitées et majorées de 20 $1 
URL:https://ashraemontreal.org/evenements-en-details/soiree-conference-septembre-2023-287/
LOCATION:Château Saint-Ambroise\, Château Saint-Ambroise\, Montréal\, QC\, H4C 2C7\, Canada
CATEGORIES:Professionnels
ATTACH;FMTTYPE=image/jpeg:https://ashraemontreal.org/wp-content/uploads/2024/08/pour_montrealer.jpg
END:VEVENT
END:VCALENDAR