BEGIN:VCALENDAR
VERSION:2.0
PRODID:-//ASHRAE - ECPv6.15.17.1//NONSGML v1.0//EN
CALSCALE:GREGORIAN
METHOD:PUBLISH
X-ORIGINAL-URL:https://ashraemontreal.org
X-WR-CALDESC:Événements pour ASHRAE
REFRESH-INTERVAL;VALUE=DURATION:PT1H
X-Robots-Tag:noindex
X-PUBLISHED-TTL:PT1H
BEGIN:VTIMEZONE
TZID:America/Montreal
BEGIN:DAYLIGHT
TZOFFSETFROM:-0500
TZOFFSETTO:-0400
TZNAME:EDT
DTSTART:20230312T070000
END:DAYLIGHT
BEGIN:STANDARD
TZOFFSETFROM:-0400
TZOFFSETTO:-0500
TZNAME:EST
DTSTART:20231105T060000
END:STANDARD
BEGIN:DAYLIGHT
TZOFFSETFROM:-0500
TZOFFSETTO:-0400
TZNAME:EDT
DTSTART:20240310T070000
END:DAYLIGHT
BEGIN:STANDARD
TZOFFSETFROM:-0400
TZOFFSETTO:-0500
TZNAME:EST
DTSTART:20241103T060000
END:STANDARD
BEGIN:DAYLIGHT
TZOFFSETFROM:-0500
TZOFFSETTO:-0400
TZNAME:EDT
DTSTART:20250309T070000
END:DAYLIGHT
BEGIN:STANDARD
TZOFFSETFROM:-0400
TZOFFSETTO:-0500
TZNAME:EST
DTSTART:20251102T060000
END:STANDARD
END:VTIMEZONE
BEGIN:VEVENT
DTSTART;TZID=America/Montreal:20240921T000000
DTEND;TZID=America/Montreal:20240921T000000
DTSTAMP:20260422T020523
CREATED:20240921T013729Z
LAST-MODIFIED:20240921T184732Z
UID:15343-1726876800-1726876800@ashraemontreal.org
SUMMARY:Journée exploration  - Mécanique du bâtiment – ASHRAE Montréal 2024 - 27e édition
DESCRIPTION:L’université Concordia ouvre ses portes une fois de plus afin d’accueillir ASHRAE Montréal pour la 27e édition de sa journée carrière en mécanique du bâtiment\, intitulée Journée exploration – Mécanique du bâtiment. L’université Concordia ainsi que le comité des activités étudiantes d’ASHRAE Chapitre de Montréal vous invitent de participer à cette journée qui aura lieu le mardi 6 fevrier 2024. Venez rencontrer la future relève de l’industrie! Cet événement rassemble plus d’une centaine d’étudiants dévoués de niveaux universitaire et collégial de la région de Montréal et c’est l’occasion parfaite pour vous faire connaître ! \nLa journée couvre plusieurs activités dont la foire avec les kiosques des entreprises\, une visite technique\, une conférence ainsi qu’un cocktail de réseautage. \nLa journée exploration – Mécanique du bâtiment d’ASHRAE Montréal 2024 s’annonce extrêmement prometteuse\, le nombre de places est limité pour les employeurs\, ne la manquez surtout pas ! \n  \nEntreprises :  information \nÉtudiants: information \n\nCOMPAGNIES PARTICIPANTES LORS DE LA JOURNÉE :\n  \nAmbioner  –  BPA  –  Eequinoxe  –  Enertrak  –  Enviroair  –  Fast Kitchen Hoods Inc.  –  Gbi  –  Ingenia  –  ITC technologies  –  Kolostat  –  Laporte  –  Master group  –  Preston Phipps  –  Regulvar  –  Soteck  –  Tetra tech  –  Trane\nNous afficherons au fur et à mesure celles qui seront inscrites et confirmées.\n\n\n  \nINFORMATION GÉNÉRALE\n  \n\nLIEU\n\n\nUniversité Concordia \n\nKiosques des entreprises et visite technique : EV Atrium (1515 rue Sainte-Catherine O)\nConférence et cocktail de réseautage : JMSB 9 étage (1450 rue Guy)\n\n\n  \n\n  \nVISITE TECHNIQUE\n\nSALLES MÉCANIQUES DE L’UNIVERSITÉ CONCORDIA\n\n11 h 30 à 12 h 30 – EV Mechanical Room Tour (CSA-approved safety boots required\, not provided)\n13 h 30 à 14 h 30 – Solar Simulator – Environmental Chamber Tour\n15 h 00 à 16 h 00 – Building Aerodynamics Lab Tour\n\nCONFÉRENCE\nExperience Speaks\n\nAndrew Santagelo – Concordia graduate\, building engineer at WSP Montreal (consulting)\nVishal Rana – Concordia graduate\, building engineer / project manager at Ellisdon (project management)\nDevin Hintermueller – Concordia graduate\, contractor / project engineer at Kolostat (contractor)\nMathew Abouaccar – Building engineering Vanier College graduate\, director at Engineered Air (sales)\nKarina Bagryan – Concordia graduate\, building engineer at ITC Technologies (moderator)\n\n\n\nRencontre étudiants-employeurs\n\n\n\nEMPLOYEURS \nEntreprise (kiosque\, conférence et réseautage; repas pour 2 personnes) \nou \nProfessionnels sans kiosque (inclus lunch et cocktail)  \nINSCRIPTION \n\n\n\n\nÉTUDIANTS \nL’inscription est uniquement pour la visite technique  /  The registration is only for the technical visit. \nAccès gratuit aux visites de kiosques\, la conférence et cocktail de réseautage / Free access to career fair\, conference and networking cocktail. \n INSCRIPTION \n\n\n\n  \nSECTION – EMPLOYEURS\nDÉROULEMENT DE LA JOURNÉE\nPAVILLION EV (1515 RUE SAINTE-CATHERINE O)\n\n10 h 00 à 11 h 00 –  Montage des kiosques – ATRIUM\n11 h 00 à 16 h 00 –  Exposition des kiosques d’entreprises – ATRIUM\n11 h 30 à 14 h 00 –  Lunch – EV 2.184\n16 h 00 à 16 h 30 –  Démontage des kiosques – ATRIUM\n\nPAVILLION JMSB\, 9e ETAGE (1450 RUE GUY)\n\n16 h 15 à 17 h 15 –  Conférence pour les étudiants – MB 9 AB\n17 h 15 à 20 h 30 –  Cocktail\, réseautage et prix de présence – MB 9 EFG\n\n\n  \n  \nTARIFICATION (TAXES EN SUS)   \n\n\n\nKIOSQUE+ \n\nEspace avec table\, 2 chaises\, nappe et panneau d’affichage\nCollation et dîner pour 2 personnes (possibilité d’ajouter plus de personnes)\nCocktail (vin et nourriture)\nPromotion de l’activité\nInternet sans fil\n\n\n\nINSCRIPTION  \n\nEntreprise (2 personnes) : 650 $\nParticipant supplémentaire : 65$\nProfessionnel sans kiosque : 65$\nÉtudiants : gratuit\n\n\n\n\n\n  \n\nDATE LIMITE D’INSCRIPTION (KIOSQUES) : 1 février 2024 à midi*\n* après la date limite\, contactez Mme Karina Bagryan\, kbagryan@itctech.ca \nRéservez rapidement votre place en complétant le formulaire en ligne et venez rencontrer les étudiants qui assureront votre relève! \nINSCRIPTION – EMPLOYEURS KIOSQUE  \nPOUR TOUTE INFORMATION ADDITIONNELLE  :\nLes entreprises peuvent contacter Mme Karina Bagryan\, kbagryan@itctech.ca ou Marco de Simone mdesimone@enviroair.ca \nDATE LIMITE D’INSCRIPTION  – PROFESSIONNELS (SANS KIOSQUE) 65$ par personne : 1 février 2024 à midi*\nVous aimeriez faire connaître votre profession aux étudiants et vous n’avez pas de kiosque de réservé\, vous pouvez alors vous inscrire sur le lien suivant : \nINSCRIPTION  – PROFESSIONNELS SANS KIOSQUE \n\n  \nSECTION – ÉTUDIANTS  / STUDENTS SECTION\n\nDÉROULEMENT DE LA JOURNÉE / SCHEDULE OF THE DAY\nPAVILLION EV (1515 RUE SAINTE-CATHERINE O) / EV BUILDING\n\n11 h 00 à 16 h 00 –  Visites des kiosques d’entreprises/ Career fair – ATRIUM\n11 h 30 à 12 h 30 – 1er départ de la visite technique / 1st technical visit – ATRIUM\n13 h 30 à 14 h 30 – 2e départ de la visite technique / 2nd technical visit – ATRIUM\n15 h 00 à 16 h 00 – 3e départ de la visite technique / 3rd technical visit – ATRIUM\n\nPAVILLION JMSB\, 9e ETAGE (1450 RUE GUY) / JMSB 9TH FLOOr \n\n16 h 15 à 17 h 15 – Conférence / Conference – MB 9 AB\n17 h 15 à 20 h 30 – Cocktail\, réseautage et prix de présence / Wine and cheese style networking – MB 9 EFG\n\n  \nINSCRIPTION GRATUIT / FREE REGISTRATION\n\nN’oubliez pas votre CV / Do not forget your CV \nAccès gratuit aux visites de kiosques\, la conférence et cocktail de réseautage. L’inscription est uniquement pour la visite technique / Free access to career fair\, conference and networking cocktail. The registration is only for the technical visit : \nINSCRIPTION – ÉTUDIANT SEULEMENT \nPOUR TOUTE INFORMATION ADDITIONNELLE\, VOUS POUVEZ NOUS JOINDRE / FOR MORE INFORMATION PLEASE CONTACT : KARINA BAGRYAN KBAGRYAN@ITCTECH.CA OU/OR MARCO DE SIMONE MDESIMONE@ENVIROAIR.CA
URL:https://ashraemontreal.org/evenements-en-details/journee-exploration-mecanique-du-batiment-ashrae-montreal-2024-27e-edition-295/
LOCATION:Université Concordia
CATEGORIES:Étudiants
ATTACH;FMTTYPE=image/jpeg:https://ashraemontreal.org/wp-content/uploads/2024/08/Concordia.jpg
END:VEVENT
END:VCALENDAR