BEGIN:VCALENDAR
VERSION:2.0
PRODID:-//ASHRAE - ECPv6.15.17.1//NONSGML v1.0//EN
CALSCALE:GREGORIAN
METHOD:PUBLISH
X-WR-CALNAME:ASHRAE
X-ORIGINAL-URL:https://ashraemontreal.org
X-WR-CALDESC:Événements pour ASHRAE
REFRESH-INTERVAL;VALUE=DURATION:PT1H
X-Robots-Tag:noindex
X-PUBLISHED-TTL:PT1H
BEGIN:VTIMEZONE
TZID:America/Montreal
BEGIN:DAYLIGHT
TZOFFSETFROM:-0500
TZOFFSETTO:-0400
TZNAME:EDT
DTSTART:20220313T070000
END:DAYLIGHT
BEGIN:STANDARD
TZOFFSETFROM:-0400
TZOFFSETTO:-0500
TZNAME:EST
DTSTART:20221106T060000
END:STANDARD
BEGIN:DAYLIGHT
TZOFFSETFROM:-0500
TZOFFSETTO:-0400
TZNAME:EDT
DTSTART:20230312T070000
END:DAYLIGHT
BEGIN:STANDARD
TZOFFSETFROM:-0400
TZOFFSETTO:-0500
TZNAME:EST
DTSTART:20231105T060000
END:STANDARD
BEGIN:DAYLIGHT
TZOFFSETFROM:-0500
TZOFFSETTO:-0400
TZNAME:EDT
DTSTART:20240310T070000
END:DAYLIGHT
BEGIN:STANDARD
TZOFFSETFROM:-0400
TZOFFSETTO:-0500
TZNAME:EST
DTSTART:20241103T060000
END:STANDARD
END:VTIMEZONE
BEGIN:VEVENT
DTSTART;TZID=America/Montreal:20230430T000000
DTEND;TZID=America/Montreal:20230430T000000
DTSTAMP:20260423T052603
CREATED:20240921T013730Z
LAST-MODIFIED:20240922T000257Z
UID:15351-1682812800-1682812800@ashraemontreal.org
SUMMARY:Bourses ASHRAE Montréal 2023
DESCRIPTION:Le chapitre de Montréal poursuit et maintient sa mission de soutien de la relève dans le domaine de la mécanique du bâtiment en accordant\, par le biais de ses fondations\, quatre bourses de 600$ et plus aux étudiants méritants. \nÀ QUI S’ADRESSENT LES BOURSES?\nDeux bourses de $750 USD s’adressent aux étudiants non-finissants de 1er\, 2ème\, et 3ème cycles universitaires (Concordia\, ÉTS\, Polytechnique\, Sherbrooke\, McGill) et deux bourses de $600 CAD sont destinées aux étudiants de cégep (Ahuntsic\, Vanier\, St-Hyacinthe et Trois-Rivières) en technologie de la mécanique du bâtiment (génie du bâtiment). \nCRITÈRES D’ADMISSIBILITÉ\n\nBesoins financiers;\nImplication du candidat dans le domaine de la mécanique du bâtiment;\nQualité de la lettre de présentation;\nRésultats académiques;\n\nPoursuite des études dans le même programme à la session suivante\, c’est-à-dire ne pas être finissant pour les étudiants au baccalauréat. Pour les étudiants du cégep\, ne pas être finissant au DEC à moins de poursuivre dans le même domaine d’études au baccalauréat.\n\nDOCUMENTS REQUIS\n\nLettre de présentation signée ou autorisée de manière électronique par vous ainsi que par votre professeur responsable ASHRAE de votre institution (Student Advisor);\nVotre relevé de notes le plus récent (incluant automne 2022);\nCurriculum Vitae;\nPhoto de vous (cette dernière peut être envoyée avant le 30 avril à info@ashraemontreal.org pour la présentation des gagnants).\n\nSOUMETTRE VOTRE CANDIDATURE \nDate limite pour remettre une candidature  – 30 avril 2023\n  \nRemise des bourses collégialeS et universitaireS\nTous les participants pourront participer gratuitement à la soirée mensuelle du 8 mai au Club St-James où nous dévoilerons le nom des gagnants. Les gagnants recevront leurs prix en personne pour ceux de la Fondation ASHRAE Montréal ou par la poste en juin pour les gagnants des bourses provenant de la maison-mère de l’ASHRAE). Les participants seront avisés. \n  \nComité des Activités étudiantes – ASHRAE Chapitre de Montréal \nVersion PDF téléchargeable \nDownload the English PDF Version \n 
URL:https://ashraemontreal.org/evenements-en-details/bourses-ashrae-montreal-2023-285/
LOCATION:Québec
CATEGORIES:Étudiants
ATTACH;FMTTYPE=image/jpeg:https://ashraemontreal.org/wp-content/uploads/2024/08/bourses_ashrae.jpg
END:VEVENT
END:VCALENDAR