BEGIN:VCALENDAR
VERSION:2.0
PRODID:-//ASHRAE - ECPv6.15.17.1//NONSGML v1.0//EN
CALSCALE:GREGORIAN
METHOD:PUBLISH
X-ORIGINAL-URL:https://ashraemontreal.org
X-WR-CALDESC:Événements pour ASHRAE
REFRESH-INTERVAL;VALUE=DURATION:PT1H
X-Robots-Tag:noindex
X-PUBLISHED-TTL:PT1H
BEGIN:VTIMEZONE
TZID:America/Montreal
BEGIN:DAYLIGHT
TZOFFSETFROM:-0500
TZOFFSETTO:-0400
TZNAME:EDT
DTSTART:20220313T070000
END:DAYLIGHT
BEGIN:STANDARD
TZOFFSETFROM:-0400
TZOFFSETTO:-0500
TZNAME:EST
DTSTART:20221106T060000
END:STANDARD
BEGIN:DAYLIGHT
TZOFFSETFROM:-0500
TZOFFSETTO:-0400
TZNAME:EDT
DTSTART:20230312T070000
END:DAYLIGHT
BEGIN:STANDARD
TZOFFSETFROM:-0400
TZOFFSETTO:-0500
TZNAME:EST
DTSTART:20231105T060000
END:STANDARD
BEGIN:DAYLIGHT
TZOFFSETFROM:-0500
TZOFFSETTO:-0400
TZNAME:EDT
DTSTART:20240310T070000
END:DAYLIGHT
BEGIN:STANDARD
TZOFFSETFROM:-0400
TZOFFSETTO:-0500
TZNAME:EST
DTSTART:20241103T060000
END:STANDARD
END:VTIMEZONE
BEGIN:VEVENT
DTSTART;TZID=America/Montreal:20230315T000000
DTEND;TZID=America/Montreal:20230315T000000
DTSTAMP:20260423T065607
CREATED:20240921T013731Z
LAST-MODIFIED:20240922T001402Z
UID:15354-1678838400-1678838400@ashraemontreal.org
SUMMARY:Journée exploration  - Mécanique du bâtiment – ASHRAE Montréal 2023 - 26e édition
DESCRIPTION:Après la pandémie\, la période limitée à deux journées carrière virtuelles\, l’École de technologie supérieure (ÉTS) ouvre ses portes une fois de plus afin d’accueillir ASHRAE Montréal pour la 26e édition de sa journée carrière en mécanique du bâtiment\, intitulée Journée exploration – Mécanique du bâtiment. L’ÉTS ainsi que le comité des activités étudiantes d’ASHRAE Chapitre de Montréal vous invitent à cette journée qui aura lieu le mercredi 15 mars 2023. Venez rencontrer la future relève de l’industrie!  Cet événement rassemble plus d’une centaine d’étudiants dévoués de niveaux universitaire et collégial de la région de Montréal et c’est l’occasion parfaite de dénicher la perle rare ou pour vous faire connaître ! \nLa journée couvre plusieurs activités dont la foire avec les kiosques des entreprises\, une visite technique\, une conférence ainsi qu’un cocktail de réseautage. \nLa journée exploration – Mécanique du bâtiment d’ASHRAE Montréal 2023 s’annonce extrêmement prometteuse\, assistez également à notre visite technique et notre conférence. Ne la manquez surtout pas ! Venez rencontrer la future relève de l’industrie ! \nPour plus d’informations sur la journée du 15 mars cliquez sur les hyperliens suivant  \nEntreprises :  information \nÉtudiants: information \n\nCOMPAGNIES PARTICIPANTES LORS DE LA JOURNÉE :\n  \nARMSTRONG FLUID TECHNOLOGY  –  Bouthillette parizeau  –  CIMA+  –  DWB Consultants  –  Écosystem  –  Eequinox  –  ENERTRAK  –  Enviroair industries inc  –  fnx-innov  –  gbi expert-conseils  –  ingenia technologies  –  ITC TECHNOLOGIES  –  laporte experts conseils  –  le groupe master  –  navada  –  refplus  –  régulvar inc  –  soteck  –  WSP Canada inc.  –  XNRGY\nNous afficherons au fur et à mesure celles qui seront inscrites et confirmées. \n\n\n  \nINFORMATION GÉNÉRALE\n  \n\nLIEU\n\n\nÉcole de technologie supérieure\nPavillon A\n1100 rue Notre-Dame Ouest\, Montréal\, Québec\, H3C 1K3 \n\n  \n\n  \n* VISITE TECHNIQUE  – SALLES MÉCANIQUES de la Maison des ÉTUDIANTS DE L’ÉTS\nLa visite technique de la maison des étudiants de l’ÉTS aura lieu pendant la journée à 4 reprises (3 choix pour les étudiants et étudiantes et 1 pour les entreprises) à des heures différentes. Lors de la visite\, les différents systèmes de récupération d’énergie seront présentés. Ceci inclut la récupération sur la boucle d’eau du condenseur pour préchauffer\, par exemple\, l’eau chaude du plancher radiant de l’atrium ainsi que le système de préchauffage de l’air frais. Les éléments en lien avec la certification LEED argent seront aussi présentés. Réservez votre place lors de l’inscription ! \n  \nCONFÉRENCE – Comprendre les concepts et technologies autour des « Bâtiments intelligents »\nLe terme de « bâtiment intelligent » est un concept marketing largement diffusé mais dont les contours et la définition restent encore flous et difficilement lisibles pour l’ensemble des acteurs concernés. Aussi\, l’hyper fragmentation du marché\, l’émergence croissante de nouveaux acteurs et start-ups autour des services digitaux et les évolutions rapides et constantes des technologies participent à cette complexité croissante\, sans compter le « Digital Washing » et les promesses encourageantes et toujours grandissantes des solutions du marché. Lors de cette conférence\, nous tenterons de mettre de l’ordre dans tout ce « bruit digital » en partageant un cadre de référence des typologies de solutions composant un système d’information bâtimentaire et en proposant une définition moderne du concept de bâtiment intelligent. Nous passerons en revue les « buzz words » à la mode\, nous vulgariserons les différents niveaux de solutions à travers des exemples et illustrations concrets\, nous proposerons une lecture structurée du sujet pour y voir plus clair\, et nous évoquerons enfin les enjeux de sobriété numérique. \n  \n\n\n  \n\n\nJean-Loup Santurette \, EQUANS\, Directeur Innovation et Stratégie digitale  \nPassionné par l’innovation technologique\, Jean-Loup est diplômé de Centrale Supélec et de l’École de Management de Normandie. Il accompagne depuis plus de 13 ans de nombreux intervenants dans la projection\, le cadrage et le pilotage de programme de transformation digitale. Après avoir monté et dirigé un laboratoire d’innovation et de prospective pour une collectivité territoriale\, il a travaillé\, en tant que consultant-expert auprès de grands comptes\, sur la digitalisation des bâtiments et parcs immobiliers en France et en Amérique du Nord. Ex-membre de la Smart Building Alliance et du groupe de travail sur les Jumeaux Numériques de l’Alliance Industrie du Futur\, Jean-Loup a rejoint le groupe EQUANS en 2022 pour y développer les expertises en bâtiments intelligents pour l’Amérique du Nord. \n\n\n\n\nRencontre étudiants-employeurs\n\n\n\nEMPLOYEURS \nInscriptions FERMÉES \n\n\n\n\nÉTUDIANTS \nInscriptions ouvertes \n\n\n\n  \n\n  \nSECTION – EMPLOYEURS\nDÉROULEMENT DE LA JOURNÉE\nHALL DU BÂTIMENT A DE L’ÉTS\n\n10 h 00 à 11 h 00 –  Montage des kiosques\n11 h 00 à 15 h 30 –  Exposition des kiosques d’entreprises\n16 h 00 à 16 h 45 –  Visite technique* pour les employeurs\n17 h 15 à 18 h 00 –  Conférence technique\n18 h 00 à …           –  Cocktail\, réseautage et prix de présence\n\n\nTARIFICATION (TAXES EN SUS)   \n\n\n\nKIOSQUE+ \n\nPrésence de 2 représentants maximum\nEspace de 10’ x 10’ avec table\, chaises et nappe\nCollation et dîner\nPromotion de l’activité\nInternet sans fil\n\n\n\nINSCRIPTION  \n\nentreprise de 499 employés et moins : 400 $\nentreprise de 500 employés et plus : 600 $\n\n\n\n\n\n  \n\nDATE LIMITE D’INSCRIPTION (KIOSQUES) : 10 mars 2023 à midi\nRéservez rapidement votre place en complétant le formulaire en ligne et venez rencontrer les étudiants qui assureront votre relève! \nInscription – Employeurs kiosque \nPOUR TOUTE INFORMATION ADDITIONNELLE  :\nles entreprises peuvent contacter Cathy Vézina de Service de l’enseignement coopératif de l’ÉTS : Cathy.Vezina@etsmtl.ca\n  \nDATE LIMITE D’INSCRIPTION  – PROFESSIONNELS (SANS KIOSQUE) 25$ par personne : 10 MARS 2023 à midi\nVous aimeriez faire connaître votre profession aux étudiants et vous n’avez pas de kiosque de réservé\, vous pouvez alors vous inscrire sur le lien suivant : \nINSCRIPTION  – PROFESSIONNELS SANS KIOSQUE \nInclut une visite(16h) et une conférence techniques(17h15) ainsi que le cocktail réseautage(18h). \n\n  \nSECTION – ÉTUDIANTS\nDÉROULEMENT DE LA JOURNÉE\n\n11 h 00 à 15 h 30 –  Visites des kiosques d’entreprises\n\nVisite guidées des installations mécaniques de l’ÉTS (détails à venir)*   \nChoix des heures :\n(maximum 20 participants par départ)\n \n\n14 h 00 à 14 h 30 – 1er départ de la visite\n14 h 30 à 15 h 00 – 2e départ de la visite\n15 h 00 à 15 h 30 – 3e départ de la visite\n\n\n16 h 30 à 17 h 15 – Arrivée des participants pour la soirée\n17 h 15 à 18 h 00 – Conférence technique (Salon des diplômés E-2033)\n18 h 00 à …           – Cocktail & réseautage\, échange entre employeurs\, étudiants et personne ressources\, ne manquez pas le tirage de nombreux prix de présence!\n\n\n GRATUIT  (réservation obligatoire)\n  \nDATE LIMITE D’INSCRIPTION :  13 MARS 2023 à midi\nRéservez votre place DÈS LE 11 FÉVRIER 2023 en complétant le formulaire en ligne et venez rencontrer peut-être votre futur employeur? N’oubliez pas votre CV! \nINSCRIPTION  – ÉTUDIANTS SEULEMENT   \nPOUR TOUTE INFORMATION ADDITIONNELLE\, VOUS POUVEZ NOUS JOINDRE : \nÀ l’attention Marco De Simone (comité des activités étudiantes)
URL:https://ashraemontreal.org/evenements-en-details/journee-exploration-mecanique-du-batiment-ashrae-2023-26e-edition-281/
LOCATION:École de technologie supérieure\, 1100 rue Notre-Dame Ouest\, Montréal\, Québec\, H3C 1K3\, Canada
CATEGORIES:Étudiants
ATTACH;FMTTYPE=image/jpeg:https://ashraemontreal.org/wp-content/uploads/2024/09/imagejourneecarrieresets.jpg
END:VEVENT
END:VCALENDAR