BEGIN:VCALENDAR
VERSION:2.0
PRODID:-//ASHRAE - ECPv6.15.17.1//NONSGML v1.0//EN
CALSCALE:GREGORIAN
METHOD:PUBLISH
X-WR-CALNAME:ASHRAE
X-ORIGINAL-URL:https://ashraemontreal.org
X-WR-CALDESC:Événements pour ASHRAE
REFRESH-INTERVAL;VALUE=DURATION:PT1H
X-Robots-Tag:noindex
X-PUBLISHED-TTL:PT1H
BEGIN:VTIMEZONE
TZID:America/Montreal
BEGIN:DAYLIGHT
TZOFFSETFROM:-0500
TZOFFSETTO:-0400
TZNAME:EDT
DTSTART:20250309T070000
END:DAYLIGHT
BEGIN:STANDARD
TZOFFSETFROM:-0400
TZOFFSETTO:-0500
TZNAME:EST
DTSTART:20251102T060000
END:STANDARD
BEGIN:DAYLIGHT
TZOFFSETFROM:-0500
TZOFFSETTO:-0400
TZNAME:EDT
DTSTART:20260308T070000
END:DAYLIGHT
BEGIN:STANDARD
TZOFFSETFROM:-0400
TZOFFSETTO:-0500
TZNAME:EST
DTSTART:20261101T060000
END:STANDARD
BEGIN:DAYLIGHT
TZOFFSETFROM:-0500
TZOFFSETTO:-0400
TZNAME:EDT
DTSTART:20270314T070000
END:DAYLIGHT
BEGIN:STANDARD
TZOFFSETFROM:-0400
TZOFFSETTO:-0500
TZNAME:EST
DTSTART:20271107T060000
END:STANDARD
END:VTIMEZONE
BEGIN:VEVENT
DTSTART;TZID=America/Montreal:20260422T170000
DTEND;TZID=America/Montreal:20260422T210000
DTSTAMP:20260422T015924
CREATED:20260313T141347Z
LAST-MODIFIED:20260313T154305Z
UID:22184-1776877200-1776891600@ashraemontreal.org
SUMMARY:Golf intérieur sur simulateur avec coach
DESCRIPTION:Golf intérieur sur simulateur avec coach\nVGolf Laval\n\nLe Comité YEA vous invite à participer à une session de golf intérieur sur simulateur.  \nAvec les températures chaudes qui arrivent\, il est bientôt le temps de ressortir le sac de golf. \nC’est l’occasion parfaite de venir pratiquer son swing et de réseauter avec les jeunes professionnels en mécanique du bâtiment. ASHRAE Montréal vous invite à venir essayer les simulateurs du VGolf à Laval afin de pratiquer vos coups en virtuel avant le début de la saison\, Un pro sera sur place pour vous aider à travailler votre swing en préparation à la belle saison qui arrive! \nLes joueurs pourront reprendre de l’énergie avec le souper fourni lors de l’évènement. Au plaisir de vous voir! \n\nINSCRIPTIONS EN COURS \n\nDate limite d’inscription : 15 avril 2026 \n\nInformation générale\nCLIENTÈLE VISÉE: Professionnels de moins de 35 ans de l’ASHRAE Montréal \nÉQUIPEMENT REQUIS: Sac\, bâton de golf (possibilité de location sur place) et chaussure confortable. \nHORAIRE DÉTAILLÉ DE L’ÉVÈNEMENT \n17h00 à 21h00 – Golf sur simulateur et réseautage \nLIEU: VGolf Laval\, 379 Bd du Curé-Labelle\, Fabreville\, QC H7P 2P3 \nNOMBRE DE PLACES: 16 personnes \nTARIFICATION (Taxes en sus) \n\n\nMEMBRE: 20$ \n\n\nNON-MEMBRE: 35$ \n\n\n\nINSCRIPTIONS EN COURS\n\nDate limite d’inscription : 15 avril 2026 \n\nAVANTAGES YEA \nAVANTAGES ÉTUDIANTS \nVOIR TOUT LES ÉVÈNEMENTS
URL:https://ashraemontreal.org/evenements-en-details/golf-interieur-sur-simulateur-avec-coach/
LOCATION:Québec
CATEGORIES:YEA
ATTACH;FMTTYPE=image/webp:https://ashraemontreal.org/wp-content/uploads/2026/03/depositphotos_532999884-stock-photo-golf-ball-on-the-background-002.webp
END:VEVENT
END:VCALENDAR