BEGIN:VCALENDAR
VERSION:2.0
PRODID:-//ASHRAE - ECPv6.15.17.1//NONSGML v1.0//EN
CALSCALE:GREGORIAN
METHOD:PUBLISH
X-ORIGINAL-URL:https://ashraemontreal.org
X-WR-CALDESC:Événements pour ASHRAE
REFRESH-INTERVAL;VALUE=DURATION:PT1H
X-Robots-Tag:noindex
X-PUBLISHED-TTL:PT1H
BEGIN:VTIMEZONE
TZID:America/Montreal
BEGIN:DAYLIGHT
TZOFFSETFROM:-0500
TZOFFSETTO:-0400
TZNAME:EDT
DTSTART:20230312T070000
END:DAYLIGHT
BEGIN:STANDARD
TZOFFSETFROM:-0400
TZOFFSETTO:-0500
TZNAME:EST
DTSTART:20231105T060000
END:STANDARD
BEGIN:DAYLIGHT
TZOFFSETFROM:-0500
TZOFFSETTO:-0400
TZNAME:EDT
DTSTART:20240310T070000
END:DAYLIGHT
BEGIN:STANDARD
TZOFFSETFROM:-0400
TZOFFSETTO:-0500
TZNAME:EST
DTSTART:20241103T060000
END:STANDARD
BEGIN:DAYLIGHT
TZOFFSETFROM:-0500
TZOFFSETTO:-0400
TZNAME:EDT
DTSTART:20250309T070000
END:DAYLIGHT
BEGIN:STANDARD
TZOFFSETFROM:-0400
TZOFFSETTO:-0500
TZNAME:EST
DTSTART:20251102T060000
END:STANDARD
END:VTIMEZONE
BEGIN:VEVENT
DTSTART;VALUE=DATE:20241108
DTEND;VALUE=DATE:20241111
DTSTAMP:20260419T173500
CREATED:20240921T013729Z
LAST-MODIFIED:20241010T024441Z
UID:15329-1731024000-1731283199@ashraemontreal.org
SUMMARY:YEA LEADERSHIP WEEKEND 1.0
DESCRIPTION:C’est avec grand plaisir que nous annonçons l’ouverture des candidatures pour le prochain YEA Leadership Weekend 1.0. \nLa personne sélectionnée aura la chance de développer ses capacités de leader en compagnie du formateur émérite Ralph Kison et de créer des liens forts avec d’autres participants venant de partout en Amérique. \n \n\nInformations pertinentes\n\nQuand : 8 au 10 Novembre 2024(Visite technique optionnelle le 7 Novembre 2024)\nEndroit: San Francisco Marriott Marquis\nLe ou la participant(e) recevra une bourse afin de couvrir le voyagement. L’inscription à l’évènement (formation + hébergement) est déjà faite par le chapitre.\nLien de l’évènement : https://ashraemontreal.org/communities/young-engineers-in-ashrae-yea/yea-events-and-programs/yea-leadership-weekend\n\n  \nCritères de participation\n\nÊtre un bénévoleactif dans le chapitre de Montréal\nÊtre âgé de moins de 35 ans\nAvoir un intérêt pour le développement personnel et professionnel\nAvoir un passeport valide\nÊtre disponible pour la date de la formation\n\n  \nProcédure de candidature\n\nÉcrire un court texte mentionnant votre parcours dans ASHRAE et votre motivation à suivre ce genre de formation\nEnvoyer le court texte aux adresses suivantes :  yea@ashraemontreal.orget gcouture@dupras.com\nDate limite des candidatures : 13 septembre à 16h00\n\n  \nAu nom du responsable de comité\, Guillaume Couture. \n 
URL:https://ashraemontreal.org/evenements-en-details/yea-leadership-weekend-10_310/
LOCATION:San Francisco Marriott Marquis\, United States
CATEGORIES:YEA
ATTACH;FMTTYPE=image/jpeg:https://ashraemontreal.org/wp-content/uploads/2024/09/yea_leadership.jpg
END:VEVENT
END:VCALENDAR