BEGIN:VCALENDAR
VERSION:2.0
PRODID:-//ASHRAE - ECPv6.15.17.1//NONSGML v1.0//EN
CALSCALE:GREGORIAN
METHOD:PUBLISH
X-WR-CALNAME:ASHRAE
X-ORIGINAL-URL:https://ashraemontreal.org
X-WR-CALDESC:Événements pour ASHRAE
REFRESH-INTERVAL;VALUE=DURATION:PT1H
X-Robots-Tag:noindex
X-PUBLISHED-TTL:PT1H
BEGIN:VTIMEZONE
TZID:America/Montreal
BEGIN:DAYLIGHT
TZOFFSETFROM:-0500
TZOFFSETTO:-0400
TZNAME:EDT
DTSTART:20230312T070000
END:DAYLIGHT
BEGIN:STANDARD
TZOFFSETFROM:-0400
TZOFFSETTO:-0500
TZNAME:EST
DTSTART:20231105T060000
END:STANDARD
BEGIN:DAYLIGHT
TZOFFSETFROM:-0500
TZOFFSETTO:-0400
TZNAME:EDT
DTSTART:20240310T070000
END:DAYLIGHT
BEGIN:STANDARD
TZOFFSETFROM:-0400
TZOFFSETTO:-0500
TZNAME:EST
DTSTART:20241103T060000
END:STANDARD
BEGIN:DAYLIGHT
TZOFFSETFROM:-0500
TZOFFSETTO:-0400
TZNAME:EDT
DTSTART:20250309T070000
END:DAYLIGHT
BEGIN:STANDARD
TZOFFSETFROM:-0400
TZOFFSETTO:-0500
TZNAME:EST
DTSTART:20251102T060000
END:STANDARD
END:VTIMEZONE
BEGIN:VEVENT
DTSTART;VALUE=DATE:20241029
DTEND;VALUE=DATE:20241030
DTSTAMP:20260419T173846
CREATED:20240921T013729Z
LAST-MODIFIED:20241010T024532Z
UID:15332-1730160000-1730246399@ashraemontreal.org
SUMMARY:Forum réfrigération 2024
DESCRIPTION:La Corporation des entreprises de traitement de l’air et du froid (CÉTAF) et le chapitre de Montréal de l’ASHRAE sont heureux de vous présenter la 5e édition du Forum de réfrigération qui aura lieu le 29 octobre 2024 au Club de Golf Métropolitain Anjou. \nForum réfrigération 2024\nLe programme a été conçu autant pour les ingénieurs\, technologues que les manufacturiers et entrepreneurs. \n\n\n FORMULAIRE D’INSCRIPTIO RÉSERVER UN KIOSQUE \n\n\nINSCRIRE UN PARTICIPANT \n\n\n  \nPour connaître l’horaire et le déroulement de la journée\, veuillez vous référez au site de l’événement: https://forumrefrigeration.org/edition-2024/ \nINFORMATIONS POUR LES EXPOSANTS \nLa Corporation des entreprises de traitement de l’air et du froid (CETAF) et le chapitre de Montréal de l’ASHRAE offrent à votre compagnie une visibilité en or auprès des professionnels du marché CVCA&R au Québec. Offrant un excellent rapport qualité-prix\, la réservation d’un présentoir au coût de 995$ vous permettra de : \n\nExposer vos produits aux participants sur une table pour toute la journée;\nPermettre à deux de vos représentants de participer au Forum;\nSupporter les deux associations afin d’offrir des conférences de haute qualité et un événement des plus rassembleurs.\n\nSi vous désirez\, vous pouvez apporter votre propre kiosque\, mais celui-ci ne doit pas être plus grand que 6 pieds. \n Consultez notre plan préliminaire des places disponibles pour les exposants ci-dessous: \n\n \nPRIORITÉS : compagnies ayant exposés à la dernière édition du forum 2022. \n  \nCette activité est organisée conjointement par :\n  \n\n\n \n\n\n \n\n\n\n\n\nAu besoin\, contactez-nous !
URL:https://ashraemontreal.org/evenements-en-details/forum-refrigeration-2024-307/
LOCATION:Club de Golf Métropolitain Anjou\, 9555 Boul du Golf\, Anjou\, Québec\, H1J 2Y2\, Canada
CATEGORIES:Professionnels
END:VEVENT
END:VCALENDAR