BEGIN:VCALENDAR
VERSION:2.0
PRODID:-//ASHRAE - ECPv6.15.17.1//NONSGML v1.0//EN
CALSCALE:GREGORIAN
METHOD:PUBLISH
X-ORIGINAL-URL:https://ashraemontreal.org
X-WR-CALDESC:Événements pour ASHRAE
REFRESH-INTERVAL;VALUE=DURATION:PT1H
X-Robots-Tag:noindex
X-PUBLISHED-TTL:PT1H
BEGIN:VTIMEZONE
TZID:America/Montreal
BEGIN:DAYLIGHT
TZOFFSETFROM:-0500
TZOFFSETTO:-0400
TZNAME:EDT
DTSTART:20180311T070000
END:DAYLIGHT
BEGIN:STANDARD
TZOFFSETFROM:-0400
TZOFFSETTO:-0500
TZNAME:EST
DTSTART:20181104T060000
END:STANDARD
BEGIN:DAYLIGHT
TZOFFSETFROM:-0500
TZOFFSETTO:-0400
TZNAME:EDT
DTSTART:20190310T070000
END:DAYLIGHT
BEGIN:STANDARD
TZOFFSETFROM:-0400
TZOFFSETTO:-0500
TZNAME:EST
DTSTART:20191103T060000
END:STANDARD
BEGIN:DAYLIGHT
TZOFFSETFROM:-0500
TZOFFSETTO:-0400
TZNAME:EDT
DTSTART:20200308T070000
END:DAYLIGHT
BEGIN:STANDARD
TZOFFSETFROM:-0400
TZOFFSETTO:-0500
TZNAME:EST
DTSTART:20201101T060000
END:STANDARD
END:VTIMEZONE
BEGIN:VEVENT
DTSTART;TZID=America/Montreal:20190408T171500
DTEND;TZID=America/Montreal:20190408T211500
DTSTAMP:20260424T022133
CREATED:20240922T173754Z
LAST-MODIFIED:20240927T004022Z
UID:15757-1554743700-1554758100@ashraemontreal.org
SUMMARY:Souper-conférence – Avril 2019
DESCRIPTION:Le Chapitre\, fier de ses 83 ans\, vous plongera un peu dans son histoire et présentera deux conférences portant sous les thèmes de la légionellose et le BIM. Nous soulignerons aussi l’importance de la recherche en contribuant à ASHRAE Research Canada. \nCONFÉRENCE TECHNIQUE (17H45)\nSUJET : COMPRENDRE ET PRÉVENIR LA LÉGIONELLOSE \nCette conférence a pour but de démystifier ce qu’est la légionelle dans le milieu de la mécanique du bâtiment. Quelle est sa provenance\, comment se développe-t-elle\, quels sont les risques associés et les méthodes de prévention. Enfin\, il y aura un survol des normes en vigueur et de leurs applications. \n\n  \n\n\n  \n\n\nAlain Trahan\, ing. \nPrésident\nH2O Biotech\n \nAlain Trahan est ingénieur mécanique\, diplômé de Polytechnique en 1982. Il a œuvré dans plusieurs domaines industriels à travers les années\, incluant l’industrie chimique\, l’industrie de l’assemblage\, du plastique\, de l’imprimerie avant de se concentrer sur le traitement de l’eau depuis 2010. Il dirige 2 entreprises de traitement d’eau H2O Biotech et Eautec qui se spécialisent respectivement dans l’industriel/institutionnel et le résidentiel. Depuis 2011\, il participe au comité SPC 188 qui a écrit le Standard ASHRAE 188 sur la Légionellose émis en juin 2015. Ce comité est maintenant le SSPC188 qui maintient le Standard 188 et révise présentement le Guideline 12. Il est membre votant des comités ASHRAE TC 3.6 Water Treatment ainsi que TC 8.6 Cooling Towers. Il est également sur le CA du Chapitre de Montréal de l’ASPE. \n\n\n\nCONFÉRENCE PRINCIPALE (19H00) \nSUJET : L’INtégration de solutions bim dans un projet \nComme nous pouvons le constater depuis quelques temps\, l’ingénierie comme les autres intervenants d’un projet X\, s’emploi à apprendre tant bien que mal l’usage synthétique des logiciels qui sont généralement de plus en plus demandés en BIM. Au travers les offres de services publiques ou privées\, souvent on focus davantage sur l’Audit que sur les stratégies numériques. Quelles sont ses fameuses stratégies numériques et comment peut-on les rentabiliser? \n\n  \n\n\n  \n\n\nJessika lelièvre \nPDG – Fondatrice et directrice BIM\nOvation Technologies inc. \nJessika Lelièvre a assumé plusieurs niveaux de responsabilités à travers son parcours professionnel unique. Son parcours l’ayant mené vers l’innovation technologique débute en 2010 en tant que col blanc. En 2012\, elle se voit offrir un poste au sein d’une firme de génie-conseil et évolue rapidement en poste de chargée d’expertise en modélisation des données du bâtiment (BIM). En juillet 2016\, Mme Lelièvre se joint à une équipe de consultants en technologie afin de développer les marchés en ingénierie et en énergie. Suite à un poste de Directrice des stratégies et technologies pour une autre firme de génie\, elle fonde Ovation Technologies inc. en 2017. \nPour Mme Lelièvre\, sensibiliser les gens aux changements et les accompagner dans ce virage technologique est au cœur de ses motivations professionnelles et personnelles. Sa passion inextinguible pour l’utilisation des logiciels liés aux processus l’a amenée à livrer de nombreuses conférences au sujet du BIM MEP (mécanique/ électrique en bâtiment) et la BEM (Building Energy Modelng). Plusieurs médias connus l’interpellèrent pour des « interviews » et des publications (Autodesk et haxaBIM) publiés sur son travail et son implication internationale en Europe comme en Amérique du Nord. \n\n\n  \n\n  \nCLIQUEZ ICI POUR VOUS INSCRIRE \n\n  \nEXPOSANTS LORS DE LA SOIRÉE\n\n\n\nCOMPAGNIE\nJAS FILTRATION \n  \nPRODUIT(S)/SERVICES\nSystème électronique d’ionisation cuivre-argent LIQUITECH pour le contrôle des légionelles ainsi que d’autres agents pathogènes \n\n\nCOMPAGNIE\nENVIROAIR INDUSTRIES \n  \nPRODUIT(S)/SERVICES\nLes produits à technologie VRF de Samsung \n  \n\n\n\n\nCOMPAGNIE\nSCHNEIDER-ELECTRIC \n  \nPRODUIT(S)/SERVICES\nEcoStruxure : Avec l’innovation au cœur de vos métiers\, nous redéfinissons la gestion énergétique et l’automatisation pour un nouveau monde de l’énergie \n\n\nCOMPAGNIE\nMIURA CANADA \n  \nPRODUIT(S)/SERVICES\nChaudières à vapeur et équipements de traitement d’eau \n\n\n\n\n\n\nVous voulez profiter de la visibilité qu’offrent ces soupers-conférences comme tremplin publicitaire pour votre entreprise\, ou encore pour développer un réseau de contact des plus intéressants? \nContactez le comité publicité. \n\n\nEn savoir + \n\n\n\n  \n\n  \nINFORMATION GÉNÉRALE\nPROGRAMME DE LA SOIRÉE \n\n17 h 15 à 19 h 00 – Accueil (rez-de-chaussée)\n17 h 30 à 19 h 00 – Cocktail et visite des exposants – Salon Midway (rez-de-chaussée)\n17 h 45 – Conférence technique – Salle St-Denis (2e étage)\n18 h 30 – Cocktail et visite des exposants – Salon Midway (rez-de-chaussée)\n19 h 00 – Souper et mot du président ASHRAE chapitre de Montréal\, Francis Lacharité – Salle St-Denis (2e étage)\n20 h 00 – Conférence principale – Salle St-Denis (2e étage)\n\n  \n\nMENU – REPAS \n\n\n\nSoupe du moment\nBlanquette de veau aux champignons et poivrons rôtis\, riz basmati\nGâteau « Douceur caramel »\nCafé ou thé\n\n\n\nATTENTION \nVeuillez nous aviser de toute allergie ou intolérance alimentaire lors de l’inscription. \n  \n\n\n\n  \nTARIFICATION (taxes en sus) \n\n\n\nMEMBRE \n\nMembre ASHRAE Montréal (chapitre) : 78.28 $\nMembre à vie ASHRAE ayant payé leur cotisation au chapitre : 39.14 $\nÉtudiant à temps plein et membre ASHRAE (Société) : 23.49 $\n\n\nForfaits exclusifs aux membres  (professionnels – saison 2018-2019) \nEn savoir + \nForfait exclusif aux membres étudiants (saison 2018-2019) \nEn savoir +  \n\n\n\n\nNON-MEMBRE \n\nNon-membre : 113.07 $\nÉtudiant à temps plein\, non-membre ASHRAE (avec preuve) : 27.83 $\nMembre ASPE : 86.97 $\n\nDevenir membre\nc’est très avantageux!  \n\n\n\n\n  \nLIEU : CLUB ST-JAMES DE MONTRÉAL \n\n1145\, Avenue Union\, Montréal (Québec)  H3B 3C2\n(coin boul. René-Lévesque Ouest)\nT : 514 866-7474 \nCode vestimentaire : Le Club St-James exige une tenue d’affaires décontractée (jeans ou tenue de sport ne sont pas acceptés)\, la majorité des participants se présentent avec une tenue de ville (habit et cravate). \nCertificat : Un certificat de participation attestant 1\,75 heures de formation continue sera envoyé par courriel sur place aux participants présents. Assurez-vous de l’avoir avant la sortie. \n  \n\n  \nCLIQUEZ ICI POUR VOUS INSCRIRE
URL:https://ashraemontreal.org/evenements-en-details/souper-conference-avril-2019_107/
LOCATION:Château Saint-Ambroise\, Château Saint-Ambroise\, Montréal\, QC\, H4C 2C7\, Canada
CATEGORIES:Professionnels
ATTACH;FMTTYPE=image/jpeg:https://ashraemontreal.org/wp-content/uploads/2024/08/pour_montrealer.jpg
END:VEVENT
END:VCALENDAR