BEGIN:VCALENDAR
VERSION:2.0
PRODID:-//ASHRAE - ECPv6.15.17.1//NONSGML v1.0//EN
CALSCALE:GREGORIAN
METHOD:PUBLISH
X-ORIGINAL-URL:https://ashraemontreal.org
X-WR-CALDESC:Événements pour ASHRAE
REFRESH-INTERVAL;VALUE=DURATION:PT1H
X-Robots-Tag:noindex
X-PUBLISHED-TTL:PT1H
BEGIN:VTIMEZONE
TZID:America/Montreal
BEGIN:DAYLIGHT
TZOFFSETFROM:-0500
TZOFFSETTO:-0400
TZNAME:EDT
DTSTART:20180311T070000
END:DAYLIGHT
BEGIN:STANDARD
TZOFFSETFROM:-0400
TZOFFSETTO:-0500
TZNAME:EST
DTSTART:20181104T060000
END:STANDARD
BEGIN:DAYLIGHT
TZOFFSETFROM:-0500
TZOFFSETTO:-0400
TZNAME:EDT
DTSTART:20190310T070000
END:DAYLIGHT
BEGIN:STANDARD
TZOFFSETFROM:-0400
TZOFFSETTO:-0500
TZNAME:EST
DTSTART:20191103T060000
END:STANDARD
BEGIN:DAYLIGHT
TZOFFSETFROM:-0500
TZOFFSETTO:-0400
TZNAME:EDT
DTSTART:20200308T070000
END:DAYLIGHT
BEGIN:STANDARD
TZOFFSETFROM:-0400
TZOFFSETTO:-0500
TZNAME:EST
DTSTART:20201101T060000
END:STANDARD
END:VTIMEZONE
BEGIN:VEVENT
DTSTART;TZID=America/Montreal:20190311T131500
DTEND;TZID=America/Montreal:20190311T171500
DTSTAMP:20260424T034704
CREATED:20240922T173754Z
LAST-MODIFIED:20240926T012725Z
UID:15753-1552310100-1552324500@ashraemontreal.org
SUMMARY:Séminaire ASHRAE Chapitre de Montréal 2019
DESCRIPTION:ASHRAE Montréal vous convie à son rendez-vous annuel portant sur le développement durable dans le bâtiment. Notre thème cette année : \n« Innover et inspirer pour notre environnement! » \nFace à un marché énergétique en pleine transformation et à des défis techniques de construction de plus en plus complexes\, ASHRAE Montréal vous invite à rencontrer de grands acteurs de l’industrie qui partageront avec vous leurs approches et leurs solutions innovantes portant\, entre autres\, sur les nouvelles tendances et les stratégies du domaine du bâtiment. Vous pourrez découvrir des pistes pour être plus performant énergétiquement parlant. Vous constaterez également l’évolution de nouvelles énergies émergentes moins émissives tels que le solaire et le gaz renouvelable. \nCes conférences montées sur mesure pour répondre à vos interrogations seront suivies d’un cocktail réseautage qui vous permettra d’échanger avec vos pairs! \nAprès cette demi-journée et le cocktail\, nous aurons l’honneur de recevoir un conférencier de prestige\, M. Normand Mousseau\, qui nous entretiendra sur le sujet suivant : « Gagner la guerre du climat : 12 mythes à déboulonner » lors de notre Souper-conférence mensuel. \nINSCRIVEZ-VOUS MAINTENANT et profitez de l’occasion pour vous inscrire également au Souper-conférence qui suivra cet événement. \nInformation du programme ci-bas téléchargeable en format PDF. \n\n13h15 à 14h05 (1ère conférence) et 14h10 à 15h00 (2e conférence) \n\nStratégies gouvernementales & Standards – Salons 4-5-6\nEst-ce que la stratégie fédérale pour un gouvernement vert influencera le marché du Québec ?  \n\n\n \n\n\nGeneviève Gauthier\, ing.\, Directrice nationale\, services de consultation\, Econoler \n\nObjectifs ambitieux du gouvernement afin de réduire les émissions de GES ;\nStratégie pour le bâtiment (neuf et existant)\, transport\, la gestion de matières résiduelles et les opérations immobilières ;\nInitiatives clés pour le marché québécois et canadien ;\nDépenses fédérales pour la Stratégie ? Centaines de millions\, voire des milliards\, de dollars….\n\n\n\n\nPassive House Developments Across North America\n*Conférence donnée en anglais \n\n\n \n\n\nAndrew Peel\, MSc\, Peel Passive House \n\nEveryone wants a high performance and low carbon building ;\nThe Passive House Building Standard in the Canadian construction industry ;\nActivities\, projects and policies driving the adoption of the standard. \n\n\n\n\n\nProjets innovants en efficacité énergétique – Salle St-Denis\nOptimisation de la production d’eau sanitaire au Hyatt\n\n\n \n \n\n\nSimon Kattoura\, ing.\, M. Ing.\, MBA\, Directeur des services écoénergétiques\, Kolostat\nDaniel Robert\, ing.\, Vice-président\, Ventes et Ingénierie\, Kolostat \n\nPréchauffage de l’eau chaude sanitaire par des thermopompes eau-eau;\nMasse thermique\, récupération de chaleur et préchauffage ;\nÉlimination de la vapeur comme source d’énergie d’appoint pour le chauffage de l’eau chaude sanitaire ;\nRéduction de la consommation d’eau glacée achetée du Complexe Desjardins.\n\n\n\n  \n\nLa géothermie nouvelle génération au service de la biodiversité \n\n\n \n \n\n\nFanny Eppner\, Ph.D.\, Spécialiste en développement de solutions éconergétiques\nMichel Roy\, ing.\, Directeur ingénierie – Développement de projets\, Société de Contrôle Johnson Canada S.E.C \n\nDécouvrez les puits à colonne permanente\, une évolution pour le chauffage géothermique et une technologie éprouvée aux États-Unis mais méconnue au Québec.\nUn premier projet en mode ESE à Montréal « Condos Tropique Nord ».\nPrésentation pratique concernant l’évaluation environnementale du site\, essai de pompage\, étude hydrogéologique\, stockage thermique et performance du système etc.\n\n\n\n\n\n\n15h00 à 15h30 – pause-café \nDans la salle St-Denis \n\n\n15h30 à 16h20 (1ère conférence) et 16h25 à 17h15 (2e conférence) \n\nProjets de réseaux urbains – Le développement durable dans les universités – Salons 4-5-6\nL’Université Laval et le développement durable à travers son réseau urbain\n\n\n \n \n\n\nMarise Vallières\, ing.\, Conseillère en énergie\, Université Laval\nGilles Pelletier\, Directeur adjoint\, Service des immeubles\, Université Laval  \n\nProfil de consommation énergétique de l’Université Laval et exigences de Transition énergétique Québec ;\nMesures de réduction de la consommation énergétique ;\nLe développement durable à l’Université Laval\nUtilisation du gaz naturel renouvelable (GNR) ainsi que les motifs.\n\n\n\n\nL’Université McGill choisit les réseaux intelligents pour son campus du centre-ville\n\n\n \n \n\n\nJérome Conraud\, ing.\, Université McGill\nNicolas Paquet\, ing.\, Directeur efficacité énergétique\, Tetra Tech QI inc. \n\nFeuille de route pour la transition énergétique de l’Université ;\nCarboneutralité visée pour 2040 ;\nMesures proposées et défis rencontrés reliés aux besoins des facultés de l’Université.\n\n\n\n\n\nProjets d’envergure – Projets innovants en efficacité énergétique (suite) – Salle St-Denis\nLe Complexe des Sciences du Site Outremont de l’Université de Montréal : un défi de taille\n\n\n \n \n\n\nDany Gaucher\, ing. mécanique\, Pageau Morel et associés\nCatherine Bélanger\, architecte et Associée\, Menkes Shooner Dagenais Letourneaux architectes \n\nProjet de grande envergure de l’Université de Montréal pour la Biologie\, Chimie\, Physique\, Géologie et Géographie ;\nRedéveloppement d’un site inexploité ;\nDifférents types de laboratoires\, défis de conceptions\, défis réglementaires et des innovations dans le but d’obtenir une certification LEED.\n\n\n\n\nSolaire thermique : comment aider cette technologie à percer au Québec ?\n\n\n \n \n\n\nEddy Cloutier\, ing.\, Directeur-Développement durable et efficacité énergétique\, Bouthillette Parizeau\nLaurent Gagné-Boisvert\, ing.\, M.Sc.A.\, Expert en énergies renouvelables\, Bouthillette Parizeau \n\nContexte et positionnement et potentiel de l’énergie solaire ;\nTechnologies solaires et applications au Québec ;\nInnovation technologique et barrières à l’implantation ;\nConcept de base et calculs d’un système solaire thermique ;\nExemple concret d’application solaire : le Bassin du Havre. \n\n\n\n\n\nINFORMATION GÉNÉRALE\nPROGRAMME DE LA JOURNÉE \n\n12 h 45 à 13 h 15 – Accueil (2e étage)\n13 h 15 à 14 h 05 – Premières conférences (2 salles simultanées)\n14 h 10 à 15 h 00 – Deuxièmes conférences (2 salles simultanées)\n15 h 00 à 15 h 30 – Pause-café\n15 h 30 à 16 h 20 – Troisièmes conférences (2 salles simultanées)\n16 h 25 à 17 h 15 – Quatrièmes conférences (2 salles simultanées)\n17 h 15 à 19 h 00 – Mot de clôture et cocktail Énergir\n19 h 00 à 21 h 00 – Souper-conférence du mois de mars – ÉVÈNEMENT SÉPARÉ AVEC UNE INSCRIPTION ET COÛT DISTINCTS\n\n\nTARIFICATION (taxes en sus) \nLe coût inclut les conférences de l’après-midi\, la pause-café et une consommation gratuite lors du cocktail. \n\n\n\nMEMBRE \n\nMembre ASHRAE Montréal (chapitre) : 90 $\nÉtudiant à temps plein et membre ASHRAE (Société) : 20 $\n\n\n\n\n\n\nNON-MEMBRE \n\nNon-membre : 120 $\nNon-membre YEA : 90 $\n\nÉtudiant à temps plein\, non-membre ASHRAE (avec preuve) : 20 $\n\nDevenir membre\nc’est très avantageux!  \n\n\n\n\nLIEU : CLUB ST-JAMES DE MONTRÉAL \n\n1145\, Avenue Union\, Montréal (Québec)  H3B 3C2\n(coin boul. René-Lévesque Ouest)\nT : 514 866-7474 \nCode vestimentaire : Le Club St-James exige une tenue d’affaires décontractée (jeans ou tenue de sport ne sont pas acceptés)\, la majorité des participants se présentent avec une tenue de ville (habit et cravate). \nCertificat : Un certificat de participation attestant 3\,5 heures de formation continue sera envoyé par courriel sur place aux participants présents. Assurez-vous de l’avoir avant la sortie. \n\nINSCRIVEZ-VOUS MAINTENANT et profitez de l’occasion pour vous inscrire également au Souper-conférence qui suivra cet événement.
URL:https://ashraemontreal.org/evenements-en-details/seminaire-ashrae-chapitre-de-montreal-2019_112/
LOCATION:Château Saint-Ambroise\, Château Saint-Ambroise\, Montréal\, QC\, H4C 2C7\, Canada
CATEGORIES:Professionnels
ATTACH;FMTTYPE=image/jpeg:https://ashraemontreal.org/wp-content/uploads/2024/08/seminaire_2017.jpg
END:VEVENT
END:VCALENDAR