BEGIN:VCALENDAR
VERSION:2.0
PRODID:-//ASHRAE - ECPv6.15.17.1//NONSGML v1.0//EN
CALSCALE:GREGORIAN
METHOD:PUBLISH
X-WR-CALNAME:ASHRAE
X-ORIGINAL-URL:https://ashraemontreal.org
X-WR-CALDESC:Événements pour ASHRAE
REFRESH-INTERVAL;VALUE=DURATION:PT1H
X-Robots-Tag:noindex
X-PUBLISHED-TTL:PT1H
BEGIN:VTIMEZONE
TZID:America/Montreal
BEGIN:DAYLIGHT
TZOFFSETFROM:-0500
TZOFFSETTO:-0400
TZNAME:EDT
DTSTART:20170312T070000
END:DAYLIGHT
BEGIN:STANDARD
TZOFFSETFROM:-0400
TZOFFSETTO:-0500
TZNAME:EST
DTSTART:20171105T060000
END:STANDARD
BEGIN:DAYLIGHT
TZOFFSETFROM:-0500
TZOFFSETTO:-0400
TZNAME:EDT
DTSTART:20180311T070000
END:DAYLIGHT
BEGIN:STANDARD
TZOFFSETFROM:-0400
TZOFFSETTO:-0500
TZNAME:EST
DTSTART:20181104T060000
END:STANDARD
BEGIN:DAYLIGHT
TZOFFSETFROM:-0500
TZOFFSETTO:-0400
TZNAME:EDT
DTSTART:20190310T070000
END:DAYLIGHT
BEGIN:STANDARD
TZOFFSETFROM:-0400
TZOFFSETTO:-0500
TZNAME:EST
DTSTART:20191103T060000
END:STANDARD
END:VTIMEZONE
BEGIN:VEVENT
DTSTART;TZID=America/Montreal:20181128T083000
DTEND;TZID=America/Montreal:20181128T103000
DTSTAMP:20260424T081815
CREATED:20240922T173754Z
LAST-MODIFIED:20240928T140227Z
UID:15762-1543393800-1543401000@ashraemontreal.org
SUMMARY:Déjeuner-causerie – Novembre 2018
DESCRIPTION:LEADERSHIP MULTILPICATEUR –  \nLa notion du leadership a déjà été exploitée sous plusieurs angles.  Mais\, une question demeure importante : sommes-nous vraiment un leader sans avoir créé nous-même un leader ? Quels atouts doit posséder un leader afin de pouvoir multiplier son leadership ? Quelles sont les sphères à développer au quotidien et comment s’y prendre ? \nObjectifs de la conférence : \n\nDéfinir ce qu’est un multiplicateur de leadership\nDévelopper une approche permettant la multiplication du leadership\nCréer un plan d’action personnalisé pour créer des leaders\n\nContenu de la conférence :  \n\nDéfinition du leadership multiplicateur\n5 disciplines du multiplicateur\n\nLes activités WIA vous sont présentées avec la collaboration spéciale de : \n \n\n  \n\n\n \n\n\nsophie Lemieux\, MBA\, Adm.A.\, C.M.C.\nPrésidente et consultante en management\nGestion Solem \nSophie Lemieux est consultante en management et présidente de Gestion Solem. Elle est membre de l’Ordre des Administrateurs Agréés du Québec\, détentrice d’un M.B.A\, d’un titre C.M.C. (conseiller en management certifié) et d’un titre RCCTM (Registered Corporate CoachTM). Elle possède une expérience de plus de 20 ans en gestion de la performance organisationnelle\, formation\, coaching\, gestion d’équipes multidisciplinaires\, gestion de projets\, formation et développement d’affaires. Sophie est chargée de cours aux HEC (leadership & pratiques de direction et Devenir une organisation apprenante). Elle est également à l’École des Dirigeants\, formatrice au centre de formation continue de l’Université de Sherbrooke\, à l’Université Concordia (Continuing Education)\, ainsi qu’au Cégep de St-Hyacinthe (Synor). \n\n\n\n\n Formule interactive et conviviale ! \n\nCLIQUEZ ICI POUR VOUS INSCRIRE   \nDate limite d’inscription prolongée au 27 novembre 2018   \n\n  \nINFORMATION GÉNÉRALE\nCLIENTÈLE VISÉE: ouvert à toutes les femmes de carrière peu importe votre profession. Invitez vos collègues\, clientes et amies! \nHORAIRE DÉTAILLÉ DE L’ÉVÈNEMENT \n\n8 h 15 à  8 h 30 – Accueil – Salle à manger #2 (rez-de-chaussée)\n8 h 30 à  9 h 30  – Déjeuner et conférence\n9 h 30 à 10 h 30 – Réseautage\n\n  \nTARIFICATION (taxes en sus) \n\n\n\nMEMBRE \n\nMembre ASHRAE Montréal (chapitre) : 25 $\nMembre ÉTUDIANT ASHRAE* (temps plein) : 25 $\n\n\n\n\n\nNON-MEMBRE \n\nNon-membre : 30 $\n\nÉtudiant non-membre (temps plein) : 25 $\n\n\n\n\n* Lors de l’inscription\, choisir le billet « Membre ASHRAE Montréal » pour vous prévaloir de ce tarif. \n\n  \nLIEU : ÉCOLE DES MÉTIERS DE LA RESTAURATION ET DU TOURISME DE MONTRÉAL \n\n1822 boulevard de Maisonneuve Ouest\, Montréal (Québec) H3H 1J8 \nAttention : Veuillez nous aviser de toute allergie ou intolérance alimentaire lors de l’inscription. \nCLIQUEZ ICI POUR VOUS INSCRIRE   \nDATE LIMITE D’INSCRIPTION prolongée au 27 NOVEMBRE 2018 \n\n  \n\n\nAvantages WIA \n\n\nÉvénements exclusifs WIA \n\n\n  \nLes déjeuners-causeries et les activités sont réservés uniquement aux femmes. Le comité WIA invite ses membres féminins et toutes les professionnelles de tous les milieux à y participer.
URL:https://ashraemontreal.org/evenements-en-details/dejeuner-causerie-novembre-2018_102/
LOCATION:École des métiers de la restauration et du tourisme de Montréal\, 1822 boulevard de Maisonneuve Ouest\, Montréal\, Québec\, H3H 1J8\, Canada
CATEGORIES:WIA
ATTACH;FMTTYPE=image/jpeg:https://ashraemontreal.org/wp-content/uploads/2024/04/evenements-wia.jpg
END:VEVENT
END:VCALENDAR