BEGIN:VCALENDAR
VERSION:2.0
PRODID:-//ASHRAE - ECPv6.15.17.1//NONSGML v1.0//EN
CALSCALE:GREGORIAN
METHOD:PUBLISH
X-WR-CALNAME:ASHRAE
X-ORIGINAL-URL:https://ashraemontreal.org
X-WR-CALDESC:Événements pour ASHRAE
REFRESH-INTERVAL;VALUE=DURATION:PT1H
X-Robots-Tag:noindex
X-PUBLISHED-TTL:PT1H
BEGIN:VTIMEZONE
TZID:America/Montreal
BEGIN:DAYLIGHT
TZOFFSETFROM:-0500
TZOFFSETTO:-0400
TZNAME:EDT
DTSTART:20170312T070000
END:DAYLIGHT
BEGIN:STANDARD
TZOFFSETFROM:-0400
TZOFFSETTO:-0500
TZNAME:EST
DTSTART:20171105T060000
END:STANDARD
BEGIN:DAYLIGHT
TZOFFSETFROM:-0500
TZOFFSETTO:-0400
TZNAME:EDT
DTSTART:20180311T070000
END:DAYLIGHT
BEGIN:STANDARD
TZOFFSETFROM:-0400
TZOFFSETTO:-0500
TZNAME:EST
DTSTART:20181104T060000
END:STANDARD
BEGIN:DAYLIGHT
TZOFFSETFROM:-0500
TZOFFSETTO:-0400
TZNAME:EDT
DTSTART:20190310T070000
END:DAYLIGHT
BEGIN:STANDARD
TZOFFSETFROM:-0400
TZOFFSETTO:-0500
TZNAME:EST
DTSTART:20191103T060000
END:STANDARD
END:VTIMEZONE
BEGIN:VEVENT
DTSTART;TZID=America/Montreal:20180419T081500
DTEND;TZID=America/Montreal:20180419T110000
DTSTAMP:20260424T192501
CREATED:20240922T173757Z
LAST-MODIFIED:20241001T005210Z
UID:15787-1524125700-1524135600@ashraemontreal.org
SUMMARY:Déjeuner causerie WIA - avril 2018
DESCRIPTION:Contribuer à la réussite collective\, un petit pas à la fois– \nÉloge de l’innovation au féminin\, une force tranquille et un trésor méconnu   \nInspirée par ses travaux\, ses observations et sa propre expérience dans les milieux industriels\, technologiques\, entrepreneuriaux\, financiers\, universitaires et gouvernementaux\, la conférencière fera l’éloge de qualités humaines souvent oubliées et sous-utilisées dans nos sociétés modernes et économies dites intelligentes et innovantes. Éloge de la diversité : innover par la force des choses\, simplement en pensant et en agissant différemment. Éloge du risque calculé : l’esprit entrepreneurial combiné au choc des idées et des valeurs rapporte\, même si le parcours est semé d’embuches. Éloge de la persévérance et de l’entêtement : le succès est d’autant plus gratifiant si le parcours est défricheur et rempli de frustrations\, et qu’il pave la voie. \nLes activités WIA vous sont présentées avec la collaboration spéciale de : \n \n\nInvitée spéciale: \n\n\n \n  \n\n\nisabelle Deschamps\, B.Ing.\, MBA\, DBA\nConsultante-experte et Formatrice-coach en innovation et entrepreneuriat \nIsabelle Deschamps cumule plus de 35 années d’expérience conjointe à titre de gestionnaire\, coach\, investisseure\, experte\, aviseure et chercheure-enseignante dans le domaine de la gestion de l’innovation et de l’entrepreneuriat technologique. Elle est ingénieure métallurgiste (Polytechnique\, 1979)\, MBA-Production (HEC\, 1984) et DBA-Operations/Technology Management (Harvard\, 1991). Sa marque de commerce : allier une approche pragmatique sur le terrain entrepreneurial à une analyse approfondie afin de mieux agir\, interagir\, mais aussi comprendre et améliorer\, et ainsi récolter l’impact positif de l’innovation sous toutes ses formes\, stratégiques\, organisationnelles et technologiques\, en minimisant les risques\, en respectant les personnes et valorisant les différences\, et en assurant une adaptation et une continuité dans le temps. \nMme Deschamps est présentement impliquée dans le Programme Accélération de l’Innovation CRIAQ\, soutenu par le PARI-CNRC au Québec\, pour guider les PME dans leurs projets d’innovation en aérospatiale. Elle a été Associée et VP\, développement des affaires chez Capimont technologies\, fonds de capital-risque de 40 M$ de 2001 à 2007. Elle a été gestionnaire et Vice-présidente d’un incubateur technologique de 1997 à 2001\, en partenariat avec l’OIQ. Elle a mis sur pied et animé des programmes de formation en innovation et entrepreneuriat autant dans les milieux universitaires\, industriels que gouvernementaux. Elle a été professeure à HEC-Montréal (1984-96)\, à l’ÉTS (2007 à 2013) et à Polytechnique (depuis 2014). Elle a effectué de la recherche-action dans des entreprises innovantes\, supervisé plus de 40 étudiants gradués et a agi à titre d’experte-aviseure sur l’écosystème de soutien entrepreneurial auprès d’organismes gouvernementaux et ONBL en innovation et entrepreneuriat\, incluant des regroupements industriels\, tels que CNRC-PARI\, Conseil de la science et technologie du Québec\, CRSNG\, ADRIQ\, CQRDA\, Prima-Québec\, Réseau-Environnement\, Techno Montréal\, Aéro Montréal\, Fondation Montréal. \n\n\n\n\n Formule interactive et conviviale ! \n\nCLIQUEZ ICI POUR VOUS INSCRIRE   \nDATE LIMITE d’inscription prolongée: 18 avril 2018 \n\n\n  \nINFORMATION GÉNÉRALE\nCLIENTÈLE VISÉE: ouvert à toutes les femmes de carrière peu importe votre profession. Invitez vos collègues\, clientes et amies! \nHORAIRE DÉTAILLÉ DE L’ÉVÈNEMENT \n\n8 h 15 à 8 h 30 – Accueil  \n8 h 30 à 9 h 30 – Déjeuner et conférence\n9 h 30 à 10 h 30 – Réseautage\n\n  \nTARIFICATION (taxes en sus) \n\n\n\nMEMBRE \n\nMembre ASHRAE Montréal (chapitre) : 25 $\nMembre ÉTUDIANT ASHRAE* (temps plein) : 25 $\n\n\n\n\n\nNON-MEMBRE \n\nNon-membre : 30 $\n\nÉtudiant non-membre (temps plein) : 25 $\n\n\n\n\n* Lors de l’inscription\, choisir le billet « Membre ASHRAE Montréal » pour vous prévaloir de ce tarif. \n\n  \nLIEU : ÉCOLE DES MÉTIERS DE LA RESTAURATION ET DU TOURISME DE MONTRÉAL \n\n1822 boulevard de Maisonneuve Ouest\, Montréal (Québec) H3H 1J8 \nAttention : Veuillez nous aviser de toute allergie ou intolérance alimentaire lors de l’inscription. \nCLIQUEZ ICI POUR VOUS INSCRIRE   \nDATE LIMITE D’INSCRIPTION : 16 AVRIL 2018 \n\n  \n\n\nAvantages WIA \n\n\nÉvénements exclusifs WIA \n\n\n  \nLes déjeuners-causeries et les activités sont réservés uniquement aux femmes. Le comité WIA invite ses membres féminins et toutes les professionnelles de tous les milieux à y participer.
URL:https://ashraemontreal.org/evenements-en-details/dejeuner-causerie-wia-avril-2018/
LOCATION:École des métiers de la restauration et du tourisme de Montréal\, 1822 boulevard de Maisonneuve Ouest\, Montréal\, Québec\, H3H 1J8\, Canada
CATEGORIES:WIA
ATTACH;FMTTYPE=image/jpeg:https://ashraemontreal.org/wp-content/uploads/2024/04/evenements-wia.jpg
END:VEVENT
BEGIN:VEVENT
DTSTART;TZID=America/Montreal:20180419T123000
DTEND;TZID=America/Montreal:20180419T160000
DTSTAMP:20260424T192501
CREATED:20240922T173755Z
LAST-MODIFIED:20240930T231643Z
UID:15775-1524141000-1524153600@ashraemontreal.org
SUMMARY:Webémission ASHRAE 2018
DESCRIPTION:Une présentation de l’ASHRAE et du comité du transfert technologique du chapitre (CTTC). \nLa technologie est-elle en soi un argument en faveur de l’efficacité énergétique ? \nCette présentation se concentrera sur les stratégies et les politiques qui examinent les objectifs d’efficacité. Les conférenciers de l’ASHRAE présenteront les mythes et les réalités qu’ils ont découverts à travers des expériences réelles. Nous apprendrons comment une approche de conception pratique peut aider à atteindre une performance énergétique optimale dans les bâtiments commerciaux et dans les immeubles résidentiels de grande hauteur situés partout dans le monde. Avec des climats et des économies variables\, il faut envisager une approche holistique lors de l’évaluation d’un bâtiment et de ses systèmes. \nDownload the English version in PDF \n\nATTENTION – TOUTES LES CONFÉRENCES SERONT PRÉSENTÉES EN ANGLAIS SEULEMENT. \nDÉROULEMENT : 12h30 à 16h00 \n12h30-13h00 – Lunch et réseautage \n13h00 – Première partie \n\nAllocution d’ouverture par Bjarne Olesen\, président de l’ASHRAE\nIntroduction par Jennifer Gladestone\, modératrice\nPrésentation de Tom Durkin\, PE\, LEED AP\, ASHRAE Fellow\nTable de discussion\nPrésentation de Mark Frankel\, AIA\, LEED Fellow\nPériode de questions & réponses\n\n14h20 – Pause \n14h30 – Deuxième partie – Introduction – Jennifer Gladstone\, modératrice \n\nPrésentation de R. Christopher Mathis\nTable de discussion\nÉtude de cas\nPériode de questions & réponses\nSommaire des présentations\n\n15h55 – Allocution de fermeture – Jennifer Gladstone\, modératrice \nOuvert à tous et gratuit!  Ne manquez pas cette chance! \n\n  \n\nINSCRIPTION GRATUITE MAIS OBLIGATOIRE \nINSCRIPTION A L’ETS – CLIQUEZ ICI   \n\n Inscription à l’École de technologie supérieure (incluant un lunch gratuit) \nSalle: Local B-1402 \n 1100 rue Notre-Dame Ouest\, Montréal\, QC  H3C 1K3  (maximum de 30 participants) \nDATE LIMITE D’INSCRIPTION : 18 avril 2018 \nCERTIFICATS : Ces conférences (3 heures) sont admissibles pour vos ordres professionnels dans la mesure où elles sont pertinentes à vos fonctions professionnelles. Pour ceux qui ont assisté en personne\, le chapitre vous enverra par courriel vos certificats. \nPOUR CEUX QUI NE PEUVENT PAS SE DÉPLACER : \nVous pourrez la visualiser à votre poste de travail sur votre ordinateur ou en petit groupe en vous inscrivant au  www.ashrae.org/membership–conferences/webcasts. \nSI vous n’étiez pas en mesure de participer à la diffusion en direct : \nVous avez jusqu’au 4 mai 2018 pour la visionner gratuitement et obtenir 3 heures de formation professionnelle. \nINFORMATION SUR LES CONFÉRENCES:    www.ashrae.org
URL:https://ashraemontreal.org/evenements-en-details/webemission-ashrae-2018_88/
LOCATION:École de technologie supérieure\, 1100 rue Notre-Dame Ouest\, Montréal\, Québec\, H3C 1K3\, Canada
CATEGORIES:Professionnels
ATTACH;FMTTYPE=image/jpeg:https://ashraemontreal.org/wp-content/uploads/2024/09/webcast_header_2018_540w.jpg
END:VEVENT
END:VCALENDAR