BEGIN:VCALENDAR
VERSION:2.0
PRODID:-//ASHRAE - ECPv6.15.17.1//NONSGML v1.0//EN
CALSCALE:GREGORIAN
METHOD:PUBLISH
X-WR-CALNAME:ASHRAE
X-ORIGINAL-URL:https://ashraemontreal.org
X-WR-CALDESC:Événements pour ASHRAE
REFRESH-INTERVAL;VALUE=DURATION:PT1H
X-Robots-Tag:noindex
X-PUBLISHED-TTL:PT1H
BEGIN:VTIMEZONE
TZID:America/Montreal
BEGIN:DAYLIGHT
TZOFFSETFROM:-0500
TZOFFSETTO:-0400
TZNAME:EDT
DTSTART:20170312T070000
END:DAYLIGHT
BEGIN:STANDARD
TZOFFSETFROM:-0400
TZOFFSETTO:-0500
TZNAME:EST
DTSTART:20171105T060000
END:STANDARD
BEGIN:DAYLIGHT
TZOFFSETFROM:-0500
TZOFFSETTO:-0400
TZNAME:EDT
DTSTART:20180311T070000
END:DAYLIGHT
BEGIN:STANDARD
TZOFFSETFROM:-0400
TZOFFSETTO:-0500
TZNAME:EST
DTSTART:20181104T060000
END:STANDARD
BEGIN:DAYLIGHT
TZOFFSETFROM:-0500
TZOFFSETTO:-0400
TZNAME:EDT
DTSTART:20190310T070000
END:DAYLIGHT
BEGIN:STANDARD
TZOFFSETFROM:-0400
TZOFFSETTO:-0500
TZNAME:EST
DTSTART:20191103T060000
END:STANDARD
END:VTIMEZONE
BEGIN:VEVENT
DTSTART;TZID=America/Montreal:20180221T081500
DTEND;TZID=America/Montreal:20180221T110000
DTSTAMP:20260424T220320
CREATED:20240922T173757Z
LAST-MODIFIED:20241001T005541Z
UID:15788-1519200900-1519210800@ashraemontreal.org
SUMMARY:Déjeuner causerie WIA - février 2018
DESCRIPTION:déléguer efficacement \nPeu importe notre titre professionnel\, nous sommes toutes appelées à déléguer certaines de nos tâches au quotidien.  Parfois\, nous sommes satisfaites\, parfois nous le sommes moins. Une question se pose alors : comment déléguer efficacement? Venez parfaire votre approche et apprendre comment éviter les mauvaises surprises avec notre consultante en management. Veuillez noter que cette conférence sera d’une durée de 2h. \nObjectifs de la conférence : \n\nComprendre l’importance d’une délégation efficace pour le gestionnaire\, l’employé et l’entreprise\nApprendre et mettre en pratique les étapes d’une délégation efficace\nComprendre comment éviter les pièges et effectuer un contrôle de qualité approprié selon la délégation\n\nContenu de la conférence :  \n\nContexte\, définition et objectifs d’une délégation de tâche ou de responsabilité\nÉtapes d’une délégation efficace\nContrôle de qualité versus « microgestion » et perfectionnisme\n\nLes activités WIA vous sont présentées avec la collaboration spéciale de : \n \n\nInvitée spéciale: \n\n\n \n\n\nsophie Lemieux\, MBA\, Adm.A.\,C.M.C.\nPrésidente et consultante en management \nSophie est consultante en management et présidente de Gestion Solem. Elle est membre de l’Ordre des Administrateurs Agréés du Québec\, détentrice d’un M.B.A\, d’un titre C.M.C. (conseiller en management certifié) et d’un titre RCCTM (Registered Corporate CoachTM). Elle possède une expérience de plus de 15 ans en entreprise en gestion de la performance organisationnelle\, coaching\, gestion d’équipes multidisciplinaires\, gestion de projets\, formation et développement des affaires. Sophie est également chargée de cours aux HEC. Elle est aussi formatrice au centre de formation continue de l’Université de Sherbrooke\, à l’Université Concordia (Continuing Education)\, ainsi qu’au CÉGEP de St-Hyacinthe (Synor). \n\n\n\n\nFormule interactive et conviviale ! \nCLIQUEZ ICI POUR VOUS INSCRIRE   \n\n  \nINFORMATION GÉNÉRALE\nCLIENTÈLE VISÉE: ouvert à toutes les femmes de carrière peu importe votre profession. Invitez vos collègues\, clientes et amies! \nHORAIRE DÉTAILLÉ DE L’ÉVÈNEMENT \n\n8 h 15 à 8 h 30 – Accueil  \n8 h 30 à 10 h 30 – Déjeuner et conférence\n10 h 30 à 11 h 00 – Réseautage\n\n  \nTARIFICATION (taxes en sus) \n\n\n\nMEMBRE \n\nMembre ASHRAE Montréal (chapitre) : 25 $\n\n\n\n\n\nNON-MEMBRE \n\nNon-membre : 30 $\n\n\n\n\n\n\n  \nLIEU : ÉCOLE DES MÉTIERS DE LA RESTAURATION ET DU TOURISME DE MONTRÉAL \n\n1822 boulevard de Maisonneuve Ouest\, Montréal (Québec) H3H 1J8 \nAttention : Veuillez nous aviser de toute allergie ou intolérance alimentaire lors de l’inscription. \n\nCLIQUEZ ICI POUR VOUS INSCRIRE   \n\n  \n\n\nAvantages WIA \n\n\nÉvénements exclusifs WIA \n\n\n  \nLes déjeuners-causeries et les activités sont réservés uniquement aux femmes. Le comité WIA invite ses membres féminins et toutes les professionnelles de tous les milieux à y participer.
URL:https://ashraemontreal.org/evenements-en-details/dejeuner-causerie-wia-fevrier-2018/
LOCATION:École des métiers de la restauration et du tourisme de Montréal\, 1822 boulevard de Maisonneuve Ouest\, Montréal\, Québec\, H3H 1J8\, Canada
CATEGORIES:WIA
ATTACH;FMTTYPE=image/jpeg:https://ashraemontreal.org/wp-content/uploads/2024/04/evenements-wia.jpg
END:VEVENT
BEGIN:VEVENT
DTSTART;TZID=America/Montreal:20180221T081500
DTEND;TZID=America/Montreal:20180221T110000
DTSTAMP:20260424T220320
CREATED:20240922T173757Z
LAST-MODIFIED:20241001T005850Z
UID:15789-1519200900-1519210800@ashraemontreal.org
SUMMARY:Déjeuner-causerie WIA - novembre 2017
DESCRIPTION:La COMMUNICATION NON-VERBALE  \nNotre experte en communication non-verbale viendra nous présenter une discipline qui permet de décoder la gestuelle et de décrypter le fonctionnement de l’esprit humain à partir de son langage corporel\, afin d’offrir une communication adaptée. Cette discipline est appelée synergologie. \nLa synergologie utilise plusieurs techniques et méthodes révolutionnaires issues des plus récentes découvertes dans le domaine des sciences comportementales. \nLes activités WIA vous sont présentées avec la collaboration spéciale de : \n \n\nInvitée spéciale: \n\n\n \n\n\nChristine Gagnon\nSynergologue et experte en communication non-verbale.\nDirigeante d’entreprises\, Christine Gagnon cumule plus de 25 ans d’expérience en gestion et plus de 12 ans comme analyste et formatrice en synergologie. \nPrésidente du Cabinet-Conseil Christine Gagnon inc\, vice-présidente et associée à l’Institut Québécois de Synergologie(IQS) avec Philippe Turchet\, associée chez Les Éditions Propulsion\, elle occupe aussi le poste de vice‑présidente de l’Association québécoise de synergologie (AQS)\, association qui vise à protéger le public\, amener un code d’éthique aux synergologues en plus d’assurer des formations à jour et uniformes au niveau international. \nCoauteur du livre VOIR MENTIR qui donne des outils importants sur la détection du mensonge et auteure du rapport d’observation « La bouche dans tous ses états ». \nChristine Gagnon enseigne la synergologie à l’international dans le milieu professionnel et de la sécurité depuis maintenant 12 ans et est considérée comme une experte en communication non verbale. Sa réputation se fait sentir outre frontières notamment comme personne ressource ou conseillère au Canada\, aux États-Unis\, en France\, en Espagne\, en Angleterre\, en Hollande\, en Pologne\, au Japon et au Panama. \nMme Gagnon est accréditée par l’Institut of Analytic Interviewing de la Californie\, institut reconnu pour son expertise en interrogatoire pour les agences de sécurités et gouvernementales. Elle ajoute des cordes à son arc en offrant des formations en enquête comme entre autres\, l’interrogatoire cognitif. \n\n\n\n\nFormule interactive et conviviale ! \nCLIQUEZ ICI POUR VOUS INSCRIRE   \ndate limite : 21 novembre 2017 \n\n  \nINFORMATION GÉNÉRALE\nCLIENTÈLE VISÉE: ouvert à toutes les femmes de carrière peu importe votre profession. Invitez vos collègues\, clientes et amies! \nHORAIRE DÉTAILLÉ DE L’ÉVÈNEMENT \n\n8 h 15 à 8 h 30 – Accueil – Salle à manger #2 (rez-de-chaussée)  \n8 h 30 à 9 h 30 – Déjeuner et conférence\n9 h 30 à 10 h 30 – Réseautage\n\n  \nTARIFICATION (taxes en sus) \n\n\n\nMEMBRE \n\nMembre ASHRAE Montréal (chapitre) : 25 $\nMembre ÉTUDIANT ASHRAE* (temps plein) : 25 $\n\n\n\n\n\nNON-MEMBRE \n\nNon-membre : 30 $\n\nÉtudiant non-membre (temps plein) : 25 $\n\n\n\n\n* Lors de l’inscription\, choisir le billet « Membre ASHRAE Montréal » pour vous prévaloir de ce tarif. \n\n  \nLIEU : ÉCOLE DES MÉTIERS DE LA RESTAURATION ET DU TOURISME DE MONTRÉAL \n\n1822 boulevard de Maisonneuve Ouest\, Montréal (Québec) H3H 1J8 \nAttention : Veuillez nous aviser de toute allergie ou intolérance alimentaire lors de l’inscription. \n CLIQUEZ ICI POUR VOUS INSCRIRE \n\n  \n\n\nAvantages WIA \n\n\nÉvénements exclusifs WIA \n\n\n  \nLes déjeuners-causeries et les activités sont réservés uniquement aux femmes. Le comité WIA invite ses membres féminins et toutes les professionnelles de tous les milieux à y participer.
URL:https://ashraemontreal.org/evenements-en-details/dejeuner-causerie-wia_nov_2017/
LOCATION:École des métiers de la restauration et du tourisme de Montréal\, 1822 boulevard de Maisonneuve Ouest\, Montréal\, Québec\, H3H 1J8\, Canada
CATEGORIES:WIA
ATTACH;FMTTYPE=image/jpeg:https://ashraemontreal.org/wp-content/uploads/2024/04/evenements-wia.jpg
END:VEVENT
END:VCALENDAR