BEGIN:VCALENDAR
VERSION:2.0
PRODID:-//ASHRAE - ECPv6.15.17.1//NONSGML v1.0//EN
CALSCALE:GREGORIAN
METHOD:PUBLISH
X-WR-CALNAME:ASHRAE
X-ORIGINAL-URL:https://ashraemontreal.org
X-WR-CALDESC:Événements pour ASHRAE
REFRESH-INTERVAL;VALUE=DURATION:PT1H
X-Robots-Tag:noindex
X-PUBLISHED-TTL:PT1H
BEGIN:VTIMEZONE
TZID:America/Montreal
BEGIN:DAYLIGHT
TZOFFSETFROM:-0500
TZOFFSETTO:-0400
TZNAME:EDT
DTSTART:20170312T070000
END:DAYLIGHT
BEGIN:STANDARD
TZOFFSETFROM:-0400
TZOFFSETTO:-0500
TZNAME:EST
DTSTART:20171105T060000
END:STANDARD
BEGIN:DAYLIGHT
TZOFFSETFROM:-0500
TZOFFSETTO:-0400
TZNAME:EDT
DTSTART:20180311T070000
END:DAYLIGHT
BEGIN:STANDARD
TZOFFSETFROM:-0400
TZOFFSETTO:-0500
TZNAME:EST
DTSTART:20181104T060000
END:STANDARD
BEGIN:DAYLIGHT
TZOFFSETFROM:-0500
TZOFFSETTO:-0400
TZNAME:EDT
DTSTART:20190310T070000
END:DAYLIGHT
BEGIN:STANDARD
TZOFFSETFROM:-0400
TZOFFSETTO:-0500
TZNAME:EST
DTSTART:20191103T060000
END:STANDARD
END:VTIMEZONE
BEGIN:VEVENT
DTSTART;TZID=America/Montreal:20180212T171500
DTEND;TZID=America/Montreal:20180212T211500
DTSTAMP:20260424T220428
CREATED:20240922T173756Z
LAST-MODIFIED:20241001T003355Z
UID:15782-1518455700-1518470100@ashraemontreal.org
SUMMARY:Souper-conférence – Février 2018
DESCRIPTION:Soirée de recrutement des membres & YEA \nCONFÉRENCE TECHNIQUE (17H45)\nSUJET : INTRODUCTION À LA MÉTHODE IAQ DE LA NORME ASHRAE 62.1 \nLa présentation fera un survol de toutes les sections de la norme 62.1. Outre les méthodes de calculs de débits d’air neuf\, cette norme contient des informations essentielles à une conception où la qualité de l’air est adéquate.  Les méthodes « IAQ » et « ventilation rate procedure » seront expliquées.  On fera aussi un exemple détaillé de calcul. \n\n  \n\n\n \n\n\nJoël Primeau\, ing. HBDP PA LEED\nReprésentant Technique\, Est du Québec\nEnviroair Industries \nJoël Primeau est un représentant technique chez Enviroair pour la région de l’Est du Québec.  Depuis sa graduation au Royal Military College en génie mécanique\, il a accumulé plus de 28 ans d’expérience en mécanique du bâtiment : en conception\, en représentation technique et en exploitation/entretien.  Il est un des deux développeurs du très populaire cours HVAC Design Essentials I and II d’ASHRAE et il continue d’offrir ce cours partout dans le monde. \n\n\n\n  \nCONFÉRENCE PRINCIPALE (20 H 00)\nSUJET : Le chauffage par les diffuseurs de plafond et l’efficacité de la distribution d’air selon ASHRAE 129  \nLe confort des usagers d’un bâtiment et le cout énergétique d’un système sont les préoccupations majeures de tous les concepteurs d’équipements HVAC. Tout système HVAC doit entre autres assurer un confort optimal et une bonne qualité d’air intérieure à un cout le plus faible possible. \nDans un premier temps\, la conférence montre comment l’utilisation de diffuseurs haute induction ou haute efficacité permet de réaliser des économies tout en assurant un confort optimal. Elle présente les conditions à respecter pour chauffer par ces diffuseurs installés au plafond. Elle définit les gains qu’apporte ce choix de conception : économie des couts de construction\, économie d’énergie et économie d’opération. \nDans une seconde partie\, la conférence s’intéresse à l’air neuf. La norme ASHRAE 62.1-2016 « Ventilation for Acceptable Indoor Air Quality » définit réglementairement la quantité d’air neuf minimale à diffuser dans les locaux. Cette norme est présentée à travers le protocole de test ASHRAE 129 qui permet de quantifier l’efficacité réelle de la distribution d’air d’un diffuseur. Les résultats d’un test réel de diffuseurs effectué au CNRC (Centre National de Recherche du Canada) selon ce protocole sont analysés : ils montrent qu’un diffuseur haute efficacité ou haute induction permet d’économiser jusqu’à 27 % d’air neuf. \n\n  \n\n\n \n  \n\n\nDANIEL LAUZON\, PRÉSIDENT\, NAD KLIMA\nPrésident\nNad Klima \nDaniel Lauzon débute l’entreprenariat en fondant en 1988 une entreprise en équilibrage de système de ventilation. Il crée dans l’entreprise en 1990 un service d’assainissement de système de ventilation par une technique robotisée provenant de la Suède (Groupe Danco  inc.). Il totalise alors avec ces deux services plus de 15 000 projets réalisés aux Québec. \nDans les années 2000\, il crée l’entreprise NAD Klima pour l’importation de certains diffuseurs allemands. L’objectif était de résoudre plusieurs problèmes d’inconfort dans les bâtiments existants ainsi que de faciliter l’analyse de sélection de diffuseurs pour les firmes d’ingénieries pour de nouvelles réalisations. \nDans les années 2006 à 2010\, il développe avec les gens de l’industrie\, le comité sectoriel en environnement et avec les instances du gouvernement du Québec\, les normes de travail et les carnets d’apprentissage de deux métiers : \n\nTechnicien et technicienne en équilibrage de système de ventilation;\nTechnicien et technicienne en assainissement de système de ventilation.\n\nDurant l’année 2008\, il débute l’entreprise manufacturière de diffuseurs NAD klima. Principalement dédiée aux diffuseurs d’air à haute induction et de dé-stratification\, Il a développé son entreprise en ajoutant son expertise au savoir-faire européen et a permis de développer de nouveaux produits adaptés au marché nord-américain. A ce jour\, son entreprise a réalisé plus de 5000 projets\, implantant ainsi le savoir-faire de la diffusion à haute induction dans tout l’est du Canada. \n\n\n  \n\n  \nCLIQUEZ ICI POUR VOUS INSCRIRE \n\n  \nEXPOSANTS LORS DE LA SOIRÉE\n\n\n\nCOMPAGNIE\nENVIROAIR INDUSTRIES \n  \nPRODUIT(S)/SERVICES\nLes produits Trox \n\n\nCOMPAGNIE\nNAD KLIMA \n  \nPRODUIT(S)/SERVICES\nLes diffuseurs d’air à haute induction \n\n\n\n\nCOMPAGNIE\nTRANE \n  \nPRODUIT(S)/SERVICES\nLes filtres Dynamic\, les produits Trane\, et les produits en distribution (Multistack\, Evapco\, etc) \n\n\nCOMPAGNIE\nEVAP-TECH MTC INC \n  \nPRODUIT(S)/SERVICES\nStation de mesures de débit – Vortek – Accutrol \n\n\n\n\n\n\nVous voulez profiter de la visibilité qu’offrent ces soupers-conférences comme tremplin publicitaire pour votre entreprise\, ou encore pour développer un réseau de contact des plus intéressants? \nContactez le comité présentoirs. \n\n\nEn savoir + \n\n\n\n  \n\n  \nINFORMATION GÉNÉRALE\nPROGRAMME DE LA SOIRÉE \n\n17 h 15 à 19 h 00 – Accueil (rez-de-chaussée)\n17 h 30 à 19 h 00 – Cocktail et visite des exposants – Salon Midway (rez-de-chaussée)\n17 h 45 – Conférence technique – Salle St-Denis (2e étage)\n18 h 30 – Cocktail et visite des exposants – Salon Midway (rez-de-chaussée)\n19 h 00 – Souper Salle St-Denis (2e étage)\n20 h 00 – Conférence principale – Salle St-Denis (2e étage)\n\n  \n\nMENU-REPAS \n\n\n\nSoupe du moment\nDaube de bœuf AAA à la provençale\, mousseline de pomme de terre à  l’ancienne\, carottes Nantaise\nOpéra\nCafé ou thé\n\n\n\nATTENTION \nVeuillez nous aviser de toute allergie ou intolérance alimentaire lors de l’inscription. \n  \n\n\n\n  \n\n  \nLIEU : CLUB ST-JAMES DE MONTRÉAL \n\n1145\, Avenue Union\, Montréal (Québec)  H3B 3C2\n(coin boul. René-Lévesque Ouest)\nT : 514 866-7474 \nCode vestimentaire : Le Club St-James exige une tenue d’affaires décontractée (jeans ou tenue de sport ne sont pas acceptés)\, la majorité des participants se présentent avec une tenue de ville (habit et cravate). \nCertificat : Un certificat de participation attestant 1\,75 heures de formation continue sera envoyé par courriel sur place aux participants présents. Assurez-vous de l’avoir avant la sortie.
URL:https://ashraemontreal.org/evenements-en-details/souper-conference-fevrier-2018/
LOCATION:Château Saint-Ambroise\, Château Saint-Ambroise\, Montréal\, QC\, H4C 2C7\, Canada
CATEGORIES:Professionnels
ATTACH;FMTTYPE=image/jpeg:https://ashraemontreal.org/wp-content/uploads/2024/08/pour_montrealer.jpg
END:VEVENT
END:VCALENDAR