BEGIN:VCALENDAR
VERSION:2.0
PRODID:-//ASHRAE - ECPv6.15.17.1//NONSGML v1.0//EN
CALSCALE:GREGORIAN
METHOD:PUBLISH
X-ORIGINAL-URL:https://ashraemontreal.org
X-WR-CALDESC:Événements pour ASHRAE
REFRESH-INTERVAL;VALUE=DURATION:PT1H
X-Robots-Tag:noindex
X-PUBLISHED-TTL:PT1H
BEGIN:VTIMEZONE
TZID:America/Montreal
BEGIN:DAYLIGHT
TZOFFSETFROM:-0500
TZOFFSETTO:-0400
TZNAME:EDT
DTSTART:20160313T070000
END:DAYLIGHT
BEGIN:STANDARD
TZOFFSETFROM:-0400
TZOFFSETTO:-0500
TZNAME:EST
DTSTART:20161106T060000
END:STANDARD
BEGIN:DAYLIGHT
TZOFFSETFROM:-0500
TZOFFSETTO:-0400
TZNAME:EDT
DTSTART:20170312T070000
END:DAYLIGHT
BEGIN:STANDARD
TZOFFSETFROM:-0400
TZOFFSETTO:-0500
TZNAME:EST
DTSTART:20171105T060000
END:STANDARD
BEGIN:DAYLIGHT
TZOFFSETFROM:-0500
TZOFFSETTO:-0400
TZNAME:EDT
DTSTART:20180311T070000
END:DAYLIGHT
BEGIN:STANDARD
TZOFFSETFROM:-0400
TZOFFSETTO:-0500
TZNAME:EST
DTSTART:20181104T060000
END:STANDARD
END:VTIMEZONE
BEGIN:VEVENT
DTSTART;TZID=America/Montreal:20170825T000000
DTEND;TZID=America/Montreal:20170827T000000
DTSTAMP:20260425T063307
CREATED:20240922T173757Z
LAST-MODIFIED:20241002T003014Z
UID:15798-1503619200-1503792000@ashraemontreal.org
SUMMARY:CRC 2017
DESCRIPTION:La conférence régionale des chapitres (CRC) a lieu annuellement mais une seule fois par neuf ans à Montréal. 11 août 2017 est la date limite pour profiter de cet événement exceptionnel. Le CRC aura lieu du 25 au 27 août 2017. Il s’agit d’un regroupement de nombreux bénévoles provenant des 9 chapitres de la région qui se rencontrent afin de mettre à profit leur expérience pour vous concocter une prochaine saison à la hauteur de vos attentes. \nPour les membres du chapitre qui ne sont pas des bénévoles\, cela est une belle opportunité pour vous inscrire aux activités à la carte afin de parfaire vos connaissances ou de tisser des liens: \n3 activités s’offrent à vous  (offerts en anglais seulement en raison du caractère régional): \nVENDREDI 24 AOÛT 2017 (JOUR): DÉSOLÉ COMPLET! \n\nSession de formation  à prix d’aubaine ( cours CVCA  + lunch + visite technique) – En savoir +\nDétails sur la visite technique très intéressante de la Jetée Alexandria au vieux port de Montréal incluse dans la session de formation …- En savoir +\n\nSAMEDI 25 AOÛT 2017 (SOIR): \n\nEt /ou tisser des liens régionaux à notre activité sociale au Musée des Beaux-Arts de Montréal mettant en vedette la célèbre sommelìère Jessica Harnois dans un jeu de dégustation Vegas… apprenez à être apprenti sommelier le temps d’une soirée. Le tout combiné à un excellent souper parmi les cadres et autres oeuvres d’art. – En savoir +\n\nInscrivez-vous avant le 11 août 2017. Les places sont limitées! \n\n  \nINFORMATION \nHORAIRE DÉTAILLÉ DE L’ÉVÈNEMENT / FULL SCHEDULE \nVoir l’horaire complet de tout l’événement ou en cliquant sur les événements qui vous intéresesent. \nDATE LIMITE POUR INSCRIPTION HÂTIVE  / Early bird registration: 15 juin 2017  / June 15th\, 2017 \nDATE LIMITE D’INSCRIPTION / Deadline registration date : 11 août 2017 / August 11th\, 2017 \n\nLIEU / LOCATION : ALT HÔTEL  – 120 PEEL\, MONTRÉAL\, QC\, H3C 0L8 \nCLIQUEZ ICI POUR VOUS INSCRIRE
URL:https://ashraemontreal.org/evenements-en-details/crc-2017_62/
LOCATION:Hôtel ALT\, 120 Rue Peel\, Montréal\, Québec\, H3C 0L8\, Canada
CATEGORIES:Professionnels
ATTACH;FMTTYPE=image/jpeg:https://ashraemontreal.org/wp-content/uploads/2024/09/photo_bassinolympique.jpg
END:VEVENT
END:VCALENDAR