BEGIN:VCALENDAR
VERSION:2.0
PRODID:-//ASHRAE - ECPv6.15.17.1//NONSGML v1.0//EN
CALSCALE:GREGORIAN
METHOD:PUBLISH
X-ORIGINAL-URL:https://ashraemontreal.org
X-WR-CALDESC:Événements pour ASHRAE
REFRESH-INTERVAL;VALUE=DURATION:PT1H
X-Robots-Tag:noindex
X-PUBLISHED-TTL:PT1H
BEGIN:VTIMEZONE
TZID:America/Montreal
BEGIN:DAYLIGHT
TZOFFSETFROM:-0500
TZOFFSETTO:-0400
TZNAME:EDT
DTSTART:20160313T070000
END:DAYLIGHT
BEGIN:STANDARD
TZOFFSETFROM:-0400
TZOFFSETTO:-0500
TZNAME:EST
DTSTART:20161106T060000
END:STANDARD
BEGIN:DAYLIGHT
TZOFFSETFROM:-0500
TZOFFSETTO:-0400
TZNAME:EDT
DTSTART:20170312T070000
END:DAYLIGHT
BEGIN:STANDARD
TZOFFSETFROM:-0400
TZOFFSETTO:-0500
TZNAME:EST
DTSTART:20171105T060000
END:STANDARD
BEGIN:DAYLIGHT
TZOFFSETFROM:-0500
TZOFFSETTO:-0400
TZNAME:EDT
DTSTART:20180311T070000
END:DAYLIGHT
BEGIN:STANDARD
TZOFFSETFROM:-0400
TZOFFSETTO:-0500
TZNAME:EST
DTSTART:20181104T060000
END:STANDARD
END:VTIMEZONE
BEGIN:VEVENT
DTSTART;TZID=America/Montreal:20170518T161500
DTEND;TZID=America/Montreal:20170518T200000
DTSTAMP:20260425T113224
CREATED:20240922T173757Z
LAST-MODIFIED:20241002T003546Z
UID:15799-1495124100-1495137600@ashraemontreal.org
SUMMARY:Visite technique du soccerplexe et match amical YEA
DESCRIPTION:Le comité YEA invite tous les étudiants et les professionnels peu importe leur âge à participer à cette visite technique suivie d’un match amical! \nUN BÂTIMENT AVEC UNE STRUCTURE EN BOIS!\nIssu d’un concours d’architecture\, le Stade de soccer de la ville de Montréal est certifié LEED Or grâces aux différentes mesures d’économie d’énergie et de développement durable implantées. Le bâtiment se distingue par : \n\nUne structure en bois;\nUn grand pourcentage de fenestration performante;\n10 puits de géothermie couplés à une boucle de chauffage basse température et d’eau glacée;\nChauffage périmétrique d’une grande surface à l’air.\n\nUNE PARTIE DE SOCCER POUR CLORE CETTE VISITE\nConnaissant l’envie de jeu procuré par la beauté des terrains sur place\, les participants auront l’occasion de jouer à un match amical sur la belle pelouse du stade suite à la visite! 3 équipes de 7 s’affronteront à tour de rôle. Les équipes seront montées sur place. \n \n\n\n\nApportez alors vos vêtements de sports\, des vestiaires sont disponibles pour vous changer.\nIMPORTANT : SVP signer la décharge de responsabilité de l’ASHRAE afin de participer au match de soccer!\n\n\n\n \nTélécharger le PDF \n\n\n\nINFORMATION GÉNÉRALE\nCLIENTÈLE VISÉE : Activité réservée aux personnes âgées de 35 ans et moins. \nHORAIRE DÉTAILLÉ DE L’ÉVÈNEMENT \n\n16 h 15 à 16 h 30 – Accueil des participants et collation légère (rencontre à l’entrée principale)\n16 h 30 à 17 h 15 – Présentation technique de M. Daniel Marchand\, PA LEED\, chargé de projet\, Bouthillette Parizeau\n17 h 15 à 18 h 30 – Visite des installations\n18 h 30 à 19 h 00 – Changements aux vestiaires et signature de la décharge de responsabilité\n19 h 00 à 20 h 00 – Match de soccer\n\nTARIFICATION (taxes incluses) \n\n\n\nMEMBRE \n\nMembre ASHRAE Montréal (chapitre) : 20 $ \nMembre étudiant ASHRAE Montréal (chapitre) : 15 $\n\n\n\n\n\nNON-MEMBRE \n\nNon-membre : 30 $\nÉtudiant non-membre : 15 $\n\n\n\n\nDATE LIMITE D’INSCRIPTION : 16 mai 2017 \nNOMBRE DE LIMITE DE PARTICIPANTS : 21 places disponibles seulement\, inscrivez-vous rapidement! \nÉQUIPEMENT OBLIGATOIRE : Avoir des souliers multisports ou de soccer idéalement et vêtements de sport pour l’activité de soccer. \n  \n\nLIEU : Stade de soccer de Montréal\, 9235\, AVENUE PAPINEAU\, MONTRÉAL\, QUÉBEC\, H2M 2G5 \nSTATIONNEMENT : Quelques places de stationnement sont dispoinibles au stade ou sur la rue\, il est fortement suggéré de covoiturer. \n  \nCLIQUEZ ICI POUR VOUS INSCRIRE \n 
URL:https://ashraemontreal.org/evenements-en-details/visite-technique-du-soccerplexe-et-match-amical-yea/
LOCATION:Stade de soccer de Montréal\, 9235 Av Papineau\, Montréal\, Québec\, H2M 2G5\, Canada
CATEGORIES:YEA
ATTACH;FMTTYPE=image/jpeg:https://ashraemontreal.org/wp-content/uploads/2024/09/exterieur_nordic_stade_soccer_montreal_cesm_2.jpg
END:VEVENT
END:VCALENDAR