BEGIN:VCALENDAR
VERSION:2.0
PRODID:-//ASHRAE - ECPv6.15.17.1//NONSGML v1.0//EN
CALSCALE:GREGORIAN
METHOD:PUBLISH
X-WR-CALNAME:ASHRAE
X-ORIGINAL-URL:https://ashraemontreal.org
X-WR-CALDESC:Événements pour ASHRAE
REFRESH-INTERVAL;VALUE=DURATION:PT1H
X-Robots-Tag:noindex
X-PUBLISHED-TTL:PT1H
BEGIN:VTIMEZONE
TZID:America/Montreal
BEGIN:DAYLIGHT
TZOFFSETFROM:-0500
TZOFFSETTO:-0400
TZNAME:EDT
DTSTART:20160313T070000
END:DAYLIGHT
BEGIN:STANDARD
TZOFFSETFROM:-0400
TZOFFSETTO:-0500
TZNAME:EST
DTSTART:20161106T060000
END:STANDARD
BEGIN:DAYLIGHT
TZOFFSETFROM:-0500
TZOFFSETTO:-0400
TZNAME:EDT
DTSTART:20170312T070000
END:DAYLIGHT
BEGIN:STANDARD
TZOFFSETFROM:-0400
TZOFFSETTO:-0500
TZNAME:EST
DTSTART:20171105T060000
END:STANDARD
BEGIN:DAYLIGHT
TZOFFSETFROM:-0500
TZOFFSETTO:-0400
TZNAME:EDT
DTSTART:20180311T070000
END:DAYLIGHT
BEGIN:STANDARD
TZOFFSETFROM:-0400
TZOFFSETTO:-0500
TZNAME:EST
DTSTART:20181104T060000
END:STANDARD
END:VTIMEZONE
BEGIN:VEVENT
DTSTART;TZID=America/Montreal:20170420T123000
DTEND;TZID=America/Montreal:20170420T160000
DTSTAMP:20260425T125336
CREATED:20240922T173759Z
LAST-MODIFIED:20241003T113901Z
UID:15821-1492691400-1492704000@ashraemontreal.org
SUMMARY:Webémission ASHRAE
DESCRIPTION:  \nVous avez raté la webémission annuelle ASHRAE du 20 avril?\n\nVous avez jusqu’au 5 mai pour la visionner gratuitement et obtenir 3 heures de formation professionnelle. Découvrez comment! \n\n \nUne présentation de l’ASHRAE et du comité du transfert technologique du chapitre (CTTC). \nCette webémission de 3 heures sera présentée par des experts de l’industrie qui définiront l’importance et la raison pour laquelle nous devrions nous efforcer d’améliorer les opérations des bâtiments grâce à des contrôles et des analyses bonifiées. Nous décrirons les éléments fondamentaux des systèmes de contrôles et des analyses nécessaires pour le bon fonctionnement des bâtiments. De plus\, nous identifierons les étapes requises pour mettre à profit l’analyse dans l’exploitation des bâtiments et leur mise en service. Cette émission détaillera comment appliquer les meilleures pratiques liées aux contrôles et comment améliorer les performances des bâtiments. En conclusion\, on démontrera comment l’analyse des données peut réduire les coûts d’opération et améliorer les performances réelles des bâtiments. \nDownload the English version in PDF \n\nATTENTION – Toutes les conférences seront présentées en anglais seulement. \nDéroulement : 12h30 à 16h00 \n12h30-13h00 – Lunch et réseautage \n13h00 – Première partie \n\nAllocution d’ouverture par Timothy Wentz\, président de l’ASHRAE\, P.E.\, Fellow ASHRAE\, HBDP\nIntroduction par Jennifer Gladestone\, modératrice\nPrésentation de Srinivas Katipamula : “Using Analytics to Drive Building Performance: Overview”\nTable de discussion\nPrésentation de Jim Meacham : “ Driving Success in Analytics Starts with Controls”\nPériode de questions & réponses\n\n14h20 – Pause \n14h30 – Deuxième partie – Introduction – Jennifer Gladstone\, modératrice \n\nPrésentation de Mark Gallagher : “Analytics\, The Possible and The Pragmatic”\nTable de discussion\nÉtude de cas\nPériode de questions & réponses\nSommaire des présentations\n\n15h55 – Allocution de fermeture – Jennifer Gladstone\, modératrice \nOuvert à tous et gratuit!  Ne manquez pas cette chance! \n\n  \n\nINSCRIPTION GRATUITE MAIS OBLIGATOIRE \n\n Inscription au Collège Ahuntsic (incluant un lunch gratuit)\, Salle A-1360 (attention changement de salle) \n 9155\, St-Hubert\, Montréal  (maximum de 30 participants) \nINSCRIPTION AU COLLÈGE AHUNTSIC – Cliquez ici \nDate limite d’inscription : 20 avril 2017 \nCertificats : Ces conférences (3 heures) sont admissibles pour vos ordres professionnels dans la mesure où elles sont pertinentes à vos fonctions professionnelles. Le chapitre émettra les attestations de présence sur place seulement. \nPour ceux qui ne peuvent se déplacer : \nVous pourrez la visualiser à votre poste de travail sur votre ordinateur ou en petit groupe en vous inscrivant au  www.ashrae.org/membership–conferences/webcasts. \nInformation sur les conférences:    www.ashrae.org
URL:https://ashraemontreal.org/evenements-en-details/webemission-ashrae/
LOCATION:collège ahunstic ou votre PC\, 9155\, St-Hubert\, Montréal\, Québec\, Canada
CATEGORIES:Professionnels
END:VEVENT
END:VCALENDAR