BEGIN:VCALENDAR
VERSION:2.0
PRODID:-//ASHRAE - ECPv6.15.17.1//NONSGML v1.0//EN
CALSCALE:GREGORIAN
METHOD:PUBLISH
X-WR-CALNAME:ASHRAE
X-ORIGINAL-URL:https://ashraemontreal.org
X-WR-CALDESC:Événements pour ASHRAE
REFRESH-INTERVAL;VALUE=DURATION:PT1H
X-Robots-Tag:noindex
X-PUBLISHED-TTL:PT1H
BEGIN:VTIMEZONE
TZID:America/Montreal
BEGIN:DAYLIGHT
TZOFFSETFROM:-0500
TZOFFSETTO:-0400
TZNAME:EDT
DTSTART:20160313T070000
END:DAYLIGHT
BEGIN:STANDARD
TZOFFSETFROM:-0400
TZOFFSETTO:-0500
TZNAME:EST
DTSTART:20161106T060000
END:STANDARD
BEGIN:DAYLIGHT
TZOFFSETFROM:-0500
TZOFFSETTO:-0400
TZNAME:EDT
DTSTART:20170312T070000
END:DAYLIGHT
BEGIN:STANDARD
TZOFFSETFROM:-0400
TZOFFSETTO:-0500
TZNAME:EST
DTSTART:20171105T060000
END:STANDARD
BEGIN:DAYLIGHT
TZOFFSETFROM:-0500
TZOFFSETTO:-0400
TZNAME:EDT
DTSTART:20180311T070000
END:DAYLIGHT
BEGIN:STANDARD
TZOFFSETFROM:-0400
TZOFFSETTO:-0500
TZNAME:EST
DTSTART:20181104T060000
END:STANDARD
END:VTIMEZONE
BEGIN:VEVENT
DTSTART;TZID=America/Montreal:20170328T150000
DTEND;TZID=America/Montreal:20170328T170000
DTSTAMP:20260425T125455
CREATED:20240922T173758Z
LAST-MODIFIED:20241002T004634Z
UID:15801-1490713200-1490720400@ashraemontreal.org
SUMMARY:Visite technique pour étudiants - 900 Maisonneuve
DESCRIPTION:Le comité des activités étudiantes invite les étudiants à participer à une visite des installations mécaniques du bâtiment 900 Maisonneuve (Maison Manuvie)\, présentement en construction. \nBâtiment à la fine pointe de la technologie\, environnement intérieur de qualité supérieure et vues entièrement dégagées sur la ville. \nVenez découvrir les systèmes mécaniques d’un bâtiment de 486 000 pi.ca\, 27 étages\, qui vise la certification LEED Or. \n\n\nACTIVITÉ GRATUITE \n\n\nCLIQUEZ ICI POUR VOUS INSCRIRE  \nPOUR ÉTUDIANTS SEULEMENT – PRIORITÉ AUX ÉTUDIANTS MEMBRES ASHRAE AVANT LE 20 MARS.  \n\nINFORMATION GÉNÉRALE\nCLIENTÈLE VISÉE: Activité réservée aux étudiants \nHORAIRE DÉTAILLÉ DE L’ÉVÈNEMENT \n\n15 h 00 à 15 h 30 – Présentation technique \n15 h 30 à 17 h 00 – Visite guidée du bâtiment et installations mécaniques\n\nINSCRIPTION OBLIGATOIRE (20 places disponibles seulement\, inscrivez-vous rapidement!) \nDATE LIMITE D’INSCRIPTION : 24 mars 2017 \nÉQUIPEMENT OBLIGATOIRE :Souliers de sécurité (à bout dur) et casque de sécurité obligatoires! Un certain nombre de casques pourront être prêtés\, mais pas de souliers! \n  \n\nLIEU : 900 MAISONNEUVE O.\, MONTRÉAL (STATION MÉTRO PEEL) \n900\, Maisonneuve ouest\, Montréal\, Québec H3A 0A5 \nCLIQUEZ ICI POUR VOUS INSCRIRE
URL:https://ashraemontreal.org/evenements-en-details/visite-technique-pour-etudiants-900-maisonneuve_58/
LOCATION:Maison Manuvie\, 900\, Maisonneuve ouest\, Montréal\, Québec\, H3A 0A5\, Canada
CATEGORIES:Étudiants
ATTACH;FMTTYPE=image/jpeg:https://ashraemontreal.org/wp-content/uploads/2024/09/image_visite_technique900maisonneuve.jpg
END:VEVENT
END:VCALENDAR