BEGIN:VCALENDAR
VERSION:2.0
PRODID:-//ASHRAE - ECPv6.15.17.1//NONSGML v1.0//EN
CALSCALE:GREGORIAN
METHOD:PUBLISH
X-ORIGINAL-URL:https://ashraemontreal.org
X-WR-CALDESC:Événements pour ASHRAE
REFRESH-INTERVAL;VALUE=DURATION:PT1H
X-Robots-Tag:noindex
X-PUBLISHED-TTL:PT1H
BEGIN:VTIMEZONE
TZID:America/Montreal
BEGIN:DAYLIGHT
TZOFFSETFROM:-0500
TZOFFSETTO:-0400
TZNAME:EDT
DTSTART:20160313T070000
END:DAYLIGHT
BEGIN:STANDARD
TZOFFSETFROM:-0400
TZOFFSETTO:-0500
TZNAME:EST
DTSTART:20161106T060000
END:STANDARD
BEGIN:DAYLIGHT
TZOFFSETFROM:-0500
TZOFFSETTO:-0400
TZNAME:EDT
DTSTART:20170312T070000
END:DAYLIGHT
BEGIN:STANDARD
TZOFFSETFROM:-0400
TZOFFSETTO:-0500
TZNAME:EST
DTSTART:20171105T060000
END:STANDARD
BEGIN:DAYLIGHT
TZOFFSETFROM:-0500
TZOFFSETTO:-0400
TZNAME:EDT
DTSTART:20180311T070000
END:DAYLIGHT
BEGIN:STANDARD
TZOFFSETFROM:-0400
TZOFFSETTO:-0500
TZNAME:EST
DTSTART:20181104T060000
END:STANDARD
END:VTIMEZONE
BEGIN:VEVENT
DTSTART;TZID=America/Montreal:20170228T173000
DTEND;TZID=America/Montreal:20170228T210000
DTSTAMP:20260425T142633
CREATED:20241003T005047Z
LAST-MODIFIED:20241003T005047Z
UID:16453-1488303000-1488315600@ashraemontreal.org
SUMMARY:Tournoi de Curling ASHRAE - YEA
DESCRIPTION:Suite au succès de l’évènement de la saison passée\, le comité YEA (jeunes membres ASHRAE de 35 ans et moins) invite les membres et non-membres à participer à son deuxième tournoi de curling YEA du chapitre de Montréal. \nPriorité aux membres YEA\, ASHRAE Chapitre de Montréal\, jusqu’au 31 janvier 2017! \nSeulement 8 équipes de 4 disponibles (ou 32 places)\, inscrivez-vous rapidement !\n \n\n  \n\n\n \n\n\nà propos du club de curling de ville mont-royal  \nLe club de curling Ville de Mont-Royal (CCVMR) a été fondé en 1952. Leurs installations comprennent six glaces de qualité et permettent aux personnes de tous âges de pratiquer des activités sportives et sociales tout en s’amusant. Nous avons parmi nos membres plusieurs curleurs de niveau de compétition et sommes régulièrement les hôtes d’évènements importants. Le club de curling VMR fut nommé Centre de Curling de l’année 2014-15 par Curling Québec. \n\n\n\n  \nVous êtes un néophyte ? pas de problème !\n \nLe Club de curling sera heureux de vous faire partager leur passion du curling. Un conseiller nous présentera les bases du sport\, ses stratégies\, son étiquette et les habiletés que vous souhaiteriez développer. Les principes du curling s’acquierent aussi facilement et simplement que la pratique du vélo. Le curling peut se pratiquer dès l’enfance et pour les joueurs ayant besoin d’une assistance\, une tige de lancement offre une alternative à la position classique accroupie lors du lancer de la pierre. \n\nFormez des équipes de 4 et joignez-vous à notre tournoi de curling YEA du chapitre de Montréal! \nCLIQUEZ ICI POUR VOUS INSCRIRE \n ATTENTION – Priorité aux membres YEA ASHRAE chapitre de Montréal jusqu’au 31 janvier. Il sera offert à tous les autres membres et non-membres par la suite. Membres étudiants veuillez attendre après cette date pour vous inscrire. \n(Seulement 32 places disponibles\, inscrivez-vous rapidement!) \n\n  \nINFORMATION GÉNÉRALE\n  \nTARIFICATION (taxes incluses) \n\n\n\nMEMBRE \n\n135$ – équipe de 4 personnes\n35$ – individuel – membre YEA\n\n\n\n\n\nNON-MEMBRE \n\n180$ – équipe de 4 personnes\n\n45$ – individuel \n\n\n\n\nLe tarif inclut la partie de curling\, les conseils du pro\, l’équipement\, repas léger\, service\, pourboire et les taxes. \nÉQUIPEMENTS OBLIGATOIRES : Espadrilles n’ayant jamais été portés à l’extérieur et vêtements confortables. \nDATE et heure : Mardi 28 février 2017 de 17h30 à 22h \nDATE LIMITE D’INSCRIPTION :  Vendredi 24 février 2017  \nPROGRAMME DE LA SOIRÉE \n\n17 h 30  – Accueil au bar\n18 h 00 à 20 h 00 – Curling\n20 h 00 à 22 h 00 – Cocktail à vos frais mais repas léger inclus.\n\n\n  \n\n\nLieu\n\n\nClub de curling Ville Mont-Royal \n5e avenue Montgomery\, Ville Mont-Royal\, QC H3R 2B2 \n\n\n  \nSTATIONNEMENT : Gratuit \n\n  \nSouvenirs 2016 \n \n\n  \n\n\nAvantages YEA \n\n\nÉvénements exclusifs YEA \n\n\n 
URL:https://ashraemontreal.org/evenements-en-details/tournoi-de-curling-ashrae-yea/
LOCATION:Club de curling de ville Mont Royal\, 5 Avenue Montgomery\, Mont-Royal\, Québec\, H3R 2B2\, Canada
CATEGORIES:YEA
ATTACH;FMTTYPE=image/jpeg:https://ashraemontreal.org/wp-content/uploads/2024/08/evenements-curling.jpg
END:VEVENT
END:VCALENDAR